BEGIN:VCALENDAR
VERSION:2.0
PRODID:-//Philly Drag Mafia - ECPv6.15.20//NONSGML v1.0//EN
CALSCALE:GREGORIAN
METHOD:PUBLISH
X-WR-CALNAME:Philly Drag Mafia
X-ORIGINAL-URL:https://phillydragmafia.com
X-WR-CALDESC:Events for Philly Drag Mafia
REFRESH-INTERVAL;VALUE=DURATION:PT1H
X-Robots-Tag:noindex
X-PUBLISHED-TTL:PT1H
BEGIN:VTIMEZONE
TZID:America/New_York
BEGIN:DAYLIGHT
TZOFFSETFROM:-0500
TZOFFSETTO:-0400
TZNAME:EDT
DTSTART:20240310T070000
END:DAYLIGHT
BEGIN:STANDARD
TZOFFSETFROM:-0400
TZOFFSETTO:-0500
TZNAME:EST
DTSTART:20241103T060000
END:STANDARD
BEGIN:DAYLIGHT
TZOFFSETFROM:-0500
TZOFFSETTO:-0400
TZNAME:EDT
DTSTART:20250309T070000
END:DAYLIGHT
BEGIN:STANDARD
TZOFFSETFROM:-0400
TZOFFSETTO:-0500
TZNAME:EST
DTSTART:20251102T060000
END:STANDARD
BEGIN:DAYLIGHT
TZOFFSETFROM:-0500
TZOFFSETTO:-0400
TZNAME:EDT
DTSTART:20260308T070000
END:DAYLIGHT
BEGIN:STANDARD
TZOFFSETFROM:-0400
TZOFFSETTO:-0500
TZNAME:EST
DTSTART:20261101T060000
END:STANDARD
END:VTIMEZONE
BEGIN:VEVENT
DTSTART;TZID=America/New_York:20251203T180000
DTEND;TZID=America/New_York:20251203T220000
DTSTAMP:20260421T183745
CREATED:20251113T142832Z
LAST-MODIFIED:20251113T143323Z
UID:10001115-1764784800-1764799200@phillydragmafia.com
SUMMARY:Toy 2025 for the DVLF
DESCRIPTION:DVLF TOY 2025 ; Philly’s premier annual LGBTQ+ holiday party and fundraising\nWEDNESDAY DEC. 3rd | 6pm \nGet ready for an elevated holiday nightlife experience! ​ \nTOY 2025 will be serving up festive vibes\, tasty appetizers\, and a few holiday surprises\, maybe even a special drop-in from Santa. \nTickets are $50 including 2 cocktails. More details on the fun to come\, but trust us\, this is one celebration you won’t want to miss. \nThis year\, TOY will be teaming up with Our Night Out giving you a total nightlife experience at Ladder 15\, 1528 Sansom St\, Philadelphia\, PA 19102\nDon’t forget to bring a new\, unwrapped toy benefiting Action Wellness!
URL:https://phillydragmafia.com/event/toy-2025-for-the-dvlf/
LOCATION:Ladder 15\, 1528 Sansom St.\, Phila.\, PA\, 19102\, United States
CATEGORIES:Community Event,Dance Party
ATTACH;FMTTYPE=image/jpeg:https://phillydragmafia.com/wp-content/uploads/2025/11/unnamed.jpg
END:VEVENT
END:VCALENDAR