BEGIN:VCALENDAR
VERSION:2.0
PRODID:-//Philly Drag Mafia - ECPv6.15.20//NONSGML v1.0//EN
CALSCALE:GREGORIAN
METHOD:PUBLISH
X-WR-CALNAME:Philly Drag Mafia
X-ORIGINAL-URL:https://phillydragmafia.com
X-WR-CALDESC:Events for Philly Drag Mafia
REFRESH-INTERVAL;VALUE=DURATION:PT1H
X-Robots-Tag:noindex
X-PUBLISHED-TTL:PT1H
BEGIN:VTIMEZONE
TZID:America/New_York
BEGIN:DAYLIGHT
TZOFFSETFROM:-0500
TZOFFSETTO:-0400
TZNAME:EDT
DTSTART:20250309T070000
END:DAYLIGHT
BEGIN:STANDARD
TZOFFSETFROM:-0400
TZOFFSETTO:-0500
TZNAME:EST
DTSTART:20251102T060000
END:STANDARD
BEGIN:DAYLIGHT
TZOFFSETFROM:-0500
TZOFFSETTO:-0400
TZNAME:EDT
DTSTART:20260308T070000
END:DAYLIGHT
BEGIN:STANDARD
TZOFFSETFROM:-0400
TZOFFSETTO:-0500
TZNAME:EST
DTSTART:20261101T060000
END:STANDARD
BEGIN:DAYLIGHT
TZOFFSETFROM:-0500
TZOFFSETTO:-0400
TZNAME:EDT
DTSTART:20270314T070000
END:DAYLIGHT
BEGIN:STANDARD
TZOFFSETFROM:-0400
TZOFFSETTO:-0500
TZNAME:EST
DTSTART:20271107T060000
END:STANDARD
END:VTIMEZONE
BEGIN:VEVENT
DTSTART;TZID=America/New_York:20260210T190000
DTEND;TZID=America/New_York:20260210T210000
DTSTAMP:20260421T110525
CREATED:20260120T160325Z
LAST-MODIFIED:20260120T160325Z
UID:10001127-1770750000-1770757200@phillydragmafia.com
SUMMARY:Spotlight at Bar X
DESCRIPTION:Brittany Lynn and Lisa Lisa (of Bob & Barbara’s fame) host a new show at Bar X that spotlights up and coming talents! Doors open 6pm\, show starts at 7pm. FREE EVENT!
URL:https://phillydragmafia.com/event/spotlight-at-bar-x/
LOCATION:Bar X\, 255 S. Camac St\, Phila\, PA\, 19107\, United States
CATEGORIES:Community Event,Drag Shows
ATTACH;FMTTYPE=application/pdf:https://phillydragmafia.com/wp-content/uploads/2026/01/spotlight.pdf
END:VEVENT
END:VCALENDAR