BEGIN:VCALENDAR
VERSION:2.0
PRODID:-//Philly Drag Mafia - ECPv6.15.20//NONSGML v1.0//EN
CALSCALE:GREGORIAN
METHOD:PUBLISH
X-WR-CALNAME:Philly Drag Mafia
X-ORIGINAL-URL:https://phillydragmafia.com
X-WR-CALDESC:Events for Philly Drag Mafia
REFRESH-INTERVAL;VALUE=DURATION:PT1H
X-Robots-Tag:noindex
X-PUBLISHED-TTL:PT1H
BEGIN:VTIMEZONE
TZID:America/New_York
BEGIN:DAYLIGHT
TZOFFSETFROM:-0500
TZOFFSETTO:-0400
TZNAME:EDT
DTSTART:20250309T070000
END:DAYLIGHT
BEGIN:STANDARD
TZOFFSETFROM:-0400
TZOFFSETTO:-0500
TZNAME:EST
DTSTART:20251102T060000
END:STANDARD
BEGIN:DAYLIGHT
TZOFFSETFROM:-0500
TZOFFSETTO:-0400
TZNAME:EDT
DTSTART:20260308T070000
END:DAYLIGHT
BEGIN:STANDARD
TZOFFSETFROM:-0400
TZOFFSETTO:-0500
TZNAME:EST
DTSTART:20261101T060000
END:STANDARD
BEGIN:DAYLIGHT
TZOFFSETFROM:-0500
TZOFFSETTO:-0400
TZNAME:EDT
DTSTART:20270314T070000
END:DAYLIGHT
BEGIN:STANDARD
TZOFFSETFROM:-0400
TZOFFSETTO:-0500
TZNAME:EST
DTSTART:20271107T060000
END:STANDARD
END:VTIMEZONE
BEGIN:VEVENT
DTSTART;TZID=America/New_York:20260301T140000
DTEND;TZID=America/New_York:20260301T170000
DTSTAMP:20260421T092216
CREATED:20260204T172332Z
LAST-MODIFIED:20260204T172332Z
UID:10001130-1772373600-1772384400@phillydragmafia.com
SUMMARY:APERITIVO at Rhythm & Spirits
DESCRIPTION:Ready for a Different Kind of Sunday? Sundays are for slowing down\, showing up hungry\, and sharing a table with people you love.\n🍊 Aperitivo Sunday at Rhythm & Spirits: March 1 (2–5PM)\nReady for a Different Kind of Sunday?\nSundays are for slowing down\, showing up hungry\, and sharing a table with people you love. 🍝 \nOn March 1st from 2–5PM\, join us at Rhythm & Spirits for a one-of-a-kind afternoon inspired by the best parts of Italy: Aperitivo hour meets classic Sunday Gravy\, served family-style\, paired with flowing drinks\, and topped off with unforgettable live entertainment from Philly’s finest. \nWhether you’re coming with your besties\, your date\, or your whole crew—this is your new favorite Sunday tradition. \n🍽️ What’s Included: A Family-Style Feast\nCome hungry—we’re serving up a full shared meal\, Italian-style: \nFirst Course\n🥖 Family Style Antipasto \nSecond Course\n🥗 Family Style Salad\n🍝 Family Style Rigatoni Sunday Gravy\n🍖 Family Style Meatball & Sausage \n🎤 Live Entertainment You’ll Be Talking About All Week\nAnd just when you think it can’t get better… \nYour afternoon will be brought to life by dazzling live sets from your “hostess with the mostess\,” Philly’s Queen Brittany Lynn\, featuring vocalist Billy Cavallo and the stunning opera of drag artist Belena Canto. 💃🎶✨ \nExpect big talent\, big energy\, and the perfect soundtrack for sipping spritzes and living your best Sunday life. \n🎟️ Ticket Options\nClassic Ticket — $50 per person\nIncludes: \nFull family-style meal\nHalf-carafe of spritz or sangria \n“Tutto Incluso” Ticket — $85 per person\nIncludes: \nFull family-style meal\nTwo hours of beer\, wine\, sangria\, and spritzes \n🍷 Reserve Your Spot for Aperitivo Sunday!\nSeats are limited and this one’s going to fill up fast—grab your tickets now and make your Sunday plans officially iconic.
URL:https://phillydragmafia.com/event/aperitivo-at-rhythm-spirits/
LOCATION:Rhythm & Spirits\, 1617 John F Kennedy Blvd\, Phila\, PA\, 19103\, United States
CATEGORIES:Community Event,Drag Brunch,Drag Shows
ATTACH;FMTTYPE=image/jpeg:https://phillydragmafia.com/wp-content/uploads/2026/02/APERTIVO-1.jpeg
END:VEVENT
END:VCALENDAR