BEGIN:VCALENDAR
VERSION:2.0
PRODID:-//Philly Drag Mafia - ECPv6.15.20//NONSGML v1.0//EN
CALSCALE:GREGORIAN
METHOD:PUBLISH
X-WR-CALNAME:Philly Drag Mafia
X-ORIGINAL-URL:https://phillydragmafia.com
X-WR-CALDESC:Events for Philly Drag Mafia
REFRESH-INTERVAL;VALUE=DURATION:PT1H
X-Robots-Tag:noindex
X-PUBLISHED-TTL:PT1H
BEGIN:VTIMEZONE
TZID:America/New_York
BEGIN:DAYLIGHT
TZOFFSETFROM:-0500
TZOFFSETTO:-0400
TZNAME:EDT
DTSTART:20250309T070000
END:DAYLIGHT
BEGIN:STANDARD
TZOFFSETFROM:-0400
TZOFFSETTO:-0500
TZNAME:EST
DTSTART:20251102T060000
END:STANDARD
BEGIN:DAYLIGHT
TZOFFSETFROM:-0500
TZOFFSETTO:-0400
TZNAME:EDT
DTSTART:20260308T070000
END:DAYLIGHT
BEGIN:STANDARD
TZOFFSETFROM:-0400
TZOFFSETTO:-0500
TZNAME:EST
DTSTART:20261101T060000
END:STANDARD
BEGIN:DAYLIGHT
TZOFFSETFROM:-0500
TZOFFSETTO:-0400
TZNAME:EDT
DTSTART:20270314T070000
END:DAYLIGHT
BEGIN:STANDARD
TZOFFSETFROM:-0400
TZOFFSETTO:-0500
TZNAME:EST
DTSTART:20271107T060000
END:STANDARD
END:VTIMEZONE
BEGIN:VEVENT
DTSTART;TZID=America/New_York:20260328T220000
DTEND;TZID=America/New_York:20260328T233000
DTSTAMP:20260421T094235
CREATED:20260213T141842Z
LAST-MODIFIED:20260312T131020Z
UID:10001133-1774735200-1774740600@phillydragmafia.com
SUMMARY:Brittany Lynn's Sweet 16 Bday Bash at 254
DESCRIPTION:Brittany Lynn hosts a night full of live-singing queens for her big birthday – only at 254! Free event! Doors at 10pm – show at 11pm! Screeing of Behind the Wig at 10:30pm! \nBehind the Wig domuments why\, when\, and how the Philly Drag Mafia began-filmed at the LEGENDARY Shampoo Nightclub in the ealy 2000’s. Watch amazing interviews and performance clips of Philly’s top drag artists that are still headling stages all over the tri-state area twenty years later. Brittany is celebrating her 30th Drag Anniversary this year-so let’s revisit fabulous moments that brought her fame\, headlines\, and friendships that have lasted decades.\nDoors open 10pm\, screening starts at 10:30pm\, followed by Brittany’s Birthday and Anniversary show at 11pm. – starring Brittany\, Billy Cavallo\, Lisa Lisa\, Gay Sinatra\, Morgan Wells\, and special guests with Dj Da Boo Boo. See you there hun! FREE EVENT!!!
URL:https://phillydragmafia.com/event/brittany-lynns-sweet-16-bday-bash-at-254/
LOCATION:254\, 254 S. 12th St.\, Phila\, PA\, 19107\, United States
CATEGORIES:Community Event,Dance Party,Drag Shows
ATTACH;FMTTYPE=image/jpeg:https://phillydragmafia.com/wp-content/uploads/2026/02/Brittany-Sweet-16-1-scaled.jpg
END:VEVENT
END:VCALENDAR