BEGIN:VCALENDAR
VERSION:2.0
PRODID:-//Philly Drag Mafia - ECPv6.15.20//NONSGML v1.0//EN
CALSCALE:GREGORIAN
METHOD:PUBLISH
X-WR-CALNAME:Philly Drag Mafia
X-ORIGINAL-URL:https://phillydragmafia.com
X-WR-CALDESC:Events for Philly Drag Mafia
REFRESH-INTERVAL;VALUE=DURATION:PT1H
X-Robots-Tag:noindex
X-PUBLISHED-TTL:PT1H
BEGIN:VTIMEZONE
TZID:America/New_York
BEGIN:DAYLIGHT
TZOFFSETFROM:-0500
TZOFFSETTO:-0400
TZNAME:EDT
DTSTART:20250309T070000
END:DAYLIGHT
BEGIN:STANDARD
TZOFFSETFROM:-0400
TZOFFSETTO:-0500
TZNAME:EST
DTSTART:20251102T060000
END:STANDARD
BEGIN:DAYLIGHT
TZOFFSETFROM:-0500
TZOFFSETTO:-0400
TZNAME:EDT
DTSTART:20260308T070000
END:DAYLIGHT
BEGIN:STANDARD
TZOFFSETFROM:-0400
TZOFFSETTO:-0500
TZNAME:EST
DTSTART:20261101T060000
END:STANDARD
BEGIN:DAYLIGHT
TZOFFSETFROM:-0500
TZOFFSETTO:-0400
TZNAME:EDT
DTSTART:20270314T070000
END:DAYLIGHT
BEGIN:STANDARD
TZOFFSETFROM:-0400
TZOFFSETTO:-0500
TZNAME:EST
DTSTART:20271107T060000
END:STANDARD
END:VTIMEZONE
BEGIN:VEVENT
DTSTART;TZID=America/New_York:20260404T110000
DTEND;TZID=America/New_York:20260404T140000
DTSTAMP:20260421T081026
CREATED:20260220T123025Z
LAST-MODIFIED:20260220T123025Z
UID:10001135-1775300400-1775311200@phillydragmafia.com
SUMMARY:Drag Brunch at Chick's
DESCRIPTION:Get ready for a fabulous SATURDAY FUNDAY filled with delicious food\, cocktails\, and jaw-dropping performances by Philly’s most talented queens! Drag brunch is the perfect way to finish your weekend! Drag\, live singing\, comedy-it’s gonna be everything!!! \nHosted by Brittany Lynn\, with performances by her Philly Drag Mafia – Winner Philadelphia Magazine’s Best of Philly 2022 AND 2023 – for BEST DRAG SHOWS AND DRAG BRUNCHES! \nWe have bar seats (singles)\, tables for two\, and tables for four. Our tables can be moved to accomodate larger groups of six\, eight\, and ten. If you purchase more than one ticket to seat a group\, just let us know and we will make sure to seat your entire party together. \n*Ticket purchase includes your seat and two fabulous shows. Food and drinks are additional purchases the day of the event. \nBrittany and her Drag Mafia have been performing for over two decades — with shows at casinos\, restaurants\, and concert venues all over the tri-state area! \nDrag Mafia is the most award winning drag troupe around-not only for their shows\, but for their work with multiple charities on various platforms. Don’t miss out on this one hun-we are sure to please even the fussiest Queen in your crew!
URL:https://phillydragmafia.com/event/drag-brunch-at-chicks/
LOCATION:Chicks\, 1807 Washington Ave.\, Philadelphia\, PA\, 19146\, United States
CATEGORIES:Community Event,Drag Brunch,Drag Shows
ATTACH;FMTTYPE=image/png:https://phillydragmafia.com/wp-content/uploads/2026/02/Drag-brunch-Instagram-Post-45.png
END:VEVENT
END:VCALENDAR