BEGIN:VCALENDAR
VERSION:2.0
PRODID:-//Philly Drag Mafia - ECPv6.15.20//NONSGML v1.0//EN
CALSCALE:GREGORIAN
METHOD:PUBLISH
X-ORIGINAL-URL:https://phillydragmafia.com
X-WR-CALDESC:Events for Philly Drag Mafia
REFRESH-INTERVAL;VALUE=DURATION:PT1H
X-Robots-Tag:noindex
X-PUBLISHED-TTL:PT1H
BEGIN:VTIMEZONE
TZID:America/New_York
BEGIN:DAYLIGHT
TZOFFSETFROM:-0500
TZOFFSETTO:-0400
TZNAME:EDT
DTSTART:20270314T070000
END:DAYLIGHT
BEGIN:STANDARD
TZOFFSETFROM:-0400
TZOFFSETTO:-0500
TZNAME:EST
DTSTART:20271107T060000
END:STANDARD
BEGIN:DAYLIGHT
TZOFFSETFROM:-0500
TZOFFSETTO:-0400
TZNAME:EDT
DTSTART:20280312T070000
END:DAYLIGHT
BEGIN:STANDARD
TZOFFSETFROM:-0400
TZOFFSETTO:-0500
TZNAME:EST
DTSTART:20281105T060000
END:STANDARD
BEGIN:DAYLIGHT
TZOFFSETFROM:-0500
TZOFFSETTO:-0400
TZNAME:EDT
DTSTART:20290311T070000
END:DAYLIGHT
BEGIN:STANDARD
TZOFFSETFROM:-0400
TZOFFSETTO:-0500
TZNAME:EST
DTSTART:20291104T060000
END:STANDARD
END:VTIMEZONE
BEGIN:VEVENT
DTSTART;TZID=America/New_York:20280413T210000
DTEND;TZID=America/New_York:20280413T230000
DTSTAMP:20260420T031006
CREATED:20260312T172611Z
LAST-MODIFIED:20260407T215852Z
UID:10001508-1839272400-1839279600@phillydragmafia.com
SUMMARY:Big\, Gay Trivia at Woody's
DESCRIPTION:A really BIG\, GAY Trivia comes to the infamous Woody’s on 13th Street! Play six rounds of trivia with Brittany Lynn and win some BIG prizes including a “Weekend Warrior Package” that includes Woody’s and Voyeur passes and drink tickets-and more! Weekly starting at 8pm-10pm.
URL:https://phillydragmafia.com/event/big-gay-trivia-at-woodys/2028-04-13/
LOCATION:Woody’s\, 212 S. 13th St\, Phila\, PA\, 19107\, United States
CATEGORIES:Community Event,Drag Shows,Trivia Night
ATTACH;FMTTYPE=image/jpeg:https://phillydragmafia.com/wp-content/uploads/2026/03/unnamed.jpg
END:VEVENT
BEGIN:VEVENT
DTSTART;TZID=America/New_York:20280420T210000
DTEND;TZID=America/New_York:20280420T230000
DTSTAMP:20260420T031006
CREATED:20260312T172611Z
LAST-MODIFIED:20260407T215852Z
UID:10001509-1839877200-1839884400@phillydragmafia.com
SUMMARY:Big\, Gay Trivia at Woody's
DESCRIPTION:A really BIG\, GAY Trivia comes to the infamous Woody’s on 13th Street! Play six rounds of trivia with Brittany Lynn and win some BIG prizes including a “Weekend Warrior Package” that includes Woody’s and Voyeur passes and drink tickets-and more! Weekly starting at 8pm-10pm.
URL:https://phillydragmafia.com/event/big-gay-trivia-at-woodys/2028-04-20/
LOCATION:Woody’s\, 212 S. 13th St\, Phila\, PA\, 19107\, United States
CATEGORIES:Community Event,Drag Shows,Trivia Night
ATTACH;FMTTYPE=image/jpeg:https://phillydragmafia.com/wp-content/uploads/2026/03/unnamed.jpg
END:VEVENT
BEGIN:VEVENT
DTSTART;TZID=America/New_York:20280427T210000
DTEND;TZID=America/New_York:20280427T230000
DTSTAMP:20260420T031006
CREATED:20260312T172611Z
LAST-MODIFIED:20260407T215852Z
UID:10001510-1840482000-1840489200@phillydragmafia.com
SUMMARY:Big\, Gay Trivia at Woody's
DESCRIPTION:A really BIG\, GAY Trivia comes to the infamous Woody’s on 13th Street! Play six rounds of trivia with Brittany Lynn and win some BIG prizes including a “Weekend Warrior Package” that includes Woody’s and Voyeur passes and drink tickets-and more! Weekly starting at 8pm-10pm.
URL:https://phillydragmafia.com/event/big-gay-trivia-at-woodys/2028-04-27/
LOCATION:Woody’s\, 212 S. 13th St\, Phila\, PA\, 19107\, United States
CATEGORIES:Community Event,Drag Shows,Trivia Night
ATTACH;FMTTYPE=image/jpeg:https://phillydragmafia.com/wp-content/uploads/2026/03/unnamed.jpg
END:VEVENT
BEGIN:VEVENT
DTSTART;TZID=America/New_York:20280504T210000
DTEND;TZID=America/New_York:20280504T230000
DTSTAMP:20260420T031006
CREATED:20260312T172611Z
LAST-MODIFIED:20260407T215852Z
UID:10001511-1841086800-1841094000@phillydragmafia.com
SUMMARY:Big\, Gay Trivia at Woody's
DESCRIPTION:A really BIG\, GAY Trivia comes to the infamous Woody’s on 13th Street! Play six rounds of trivia with Brittany Lynn and win some BIG prizes including a “Weekend Warrior Package” that includes Woody’s and Voyeur passes and drink tickets-and more! Weekly starting at 8pm-10pm.
URL:https://phillydragmafia.com/event/big-gay-trivia-at-woodys/2028-05-04/
LOCATION:Woody’s\, 212 S. 13th St\, Phila\, PA\, 19107\, United States
CATEGORIES:Community Event,Drag Shows,Trivia Night
ATTACH;FMTTYPE=image/jpeg:https://phillydragmafia.com/wp-content/uploads/2026/03/unnamed.jpg
END:VEVENT
BEGIN:VEVENT
DTSTART;TZID=America/New_York:20280511T210000
DTEND;TZID=America/New_York:20280511T230000
DTSTAMP:20260420T031006
CREATED:20260312T172611Z
LAST-MODIFIED:20260407T215852Z
UID:10001512-1841691600-1841698800@phillydragmafia.com
SUMMARY:Big\, Gay Trivia at Woody's
DESCRIPTION:A really BIG\, GAY Trivia comes to the infamous Woody’s on 13th Street! Play six rounds of trivia with Brittany Lynn and win some BIG prizes including a “Weekend Warrior Package” that includes Woody’s and Voyeur passes and drink tickets-and more! Weekly starting at 8pm-10pm.
URL:https://phillydragmafia.com/event/big-gay-trivia-at-woodys/2028-05-11/
LOCATION:Woody’s\, 212 S. 13th St\, Phila\, PA\, 19107\, United States
CATEGORIES:Community Event,Drag Shows,Trivia Night
ATTACH;FMTTYPE=image/jpeg:https://phillydragmafia.com/wp-content/uploads/2026/03/unnamed.jpg
END:VEVENT
BEGIN:VEVENT
DTSTART;TZID=America/New_York:20280518T210000
DTEND;TZID=America/New_York:20280518T230000
DTSTAMP:20260420T031006
CREATED:20260312T172611Z
LAST-MODIFIED:20260407T215852Z
UID:10001513-1842296400-1842303600@phillydragmafia.com
SUMMARY:Big\, Gay Trivia at Woody's
DESCRIPTION:A really BIG\, GAY Trivia comes to the infamous Woody’s on 13th Street! Play six rounds of trivia with Brittany Lynn and win some BIG prizes including a “Weekend Warrior Package” that includes Woody’s and Voyeur passes and drink tickets-and more! Weekly starting at 8pm-10pm.
URL:https://phillydragmafia.com/event/big-gay-trivia-at-woodys/2028-05-18/
LOCATION:Woody’s\, 212 S. 13th St\, Phila\, PA\, 19107\, United States
CATEGORIES:Community Event,Drag Shows,Trivia Night
ATTACH;FMTTYPE=image/jpeg:https://phillydragmafia.com/wp-content/uploads/2026/03/unnamed.jpg
END:VEVENT
BEGIN:VEVENT
DTSTART;TZID=America/New_York:20280525T210000
DTEND;TZID=America/New_York:20280525T230000
DTSTAMP:20260420T031006
CREATED:20260312T172611Z
LAST-MODIFIED:20260407T215852Z
UID:10001514-1842901200-1842908400@phillydragmafia.com
SUMMARY:Big\, Gay Trivia at Woody's
DESCRIPTION:A really BIG\, GAY Trivia comes to the infamous Woody’s on 13th Street! Play six rounds of trivia with Brittany Lynn and win some BIG prizes including a “Weekend Warrior Package” that includes Woody’s and Voyeur passes and drink tickets-and more! Weekly starting at 8pm-10pm.
URL:https://phillydragmafia.com/event/big-gay-trivia-at-woodys/2028-05-25/
LOCATION:Woody’s\, 212 S. 13th St\, Phila\, PA\, 19107\, United States
CATEGORIES:Community Event,Drag Shows,Trivia Night
ATTACH;FMTTYPE=image/jpeg:https://phillydragmafia.com/wp-content/uploads/2026/03/unnamed.jpg
END:VEVENT
BEGIN:VEVENT
DTSTART;TZID=America/New_York:20280601T210000
DTEND;TZID=America/New_York:20280601T230000
DTSTAMP:20260420T031006
CREATED:20260312T172611Z
LAST-MODIFIED:20260407T215852Z
UID:10001515-1843506000-1843513200@phillydragmafia.com
SUMMARY:Big\, Gay Trivia at Woody's
DESCRIPTION:A really BIG\, GAY Trivia comes to the infamous Woody’s on 13th Street! Play six rounds of trivia with Brittany Lynn and win some BIG prizes including a “Weekend Warrior Package” that includes Woody’s and Voyeur passes and drink tickets-and more! Weekly starting at 8pm-10pm.
URL:https://phillydragmafia.com/event/big-gay-trivia-at-woodys/2028-06-01/
LOCATION:Woody’s\, 212 S. 13th St\, Phila\, PA\, 19107\, United States
CATEGORIES:Community Event,Drag Shows,Trivia Night
ATTACH;FMTTYPE=image/jpeg:https://phillydragmafia.com/wp-content/uploads/2026/03/unnamed.jpg
END:VEVENT
BEGIN:VEVENT
DTSTART;TZID=America/New_York:20280608T210000
DTEND;TZID=America/New_York:20280608T230000
DTSTAMP:20260420T031006
CREATED:20260312T172611Z
LAST-MODIFIED:20260407T215852Z
UID:10001516-1844110800-1844118000@phillydragmafia.com
SUMMARY:Big\, Gay Trivia at Woody's
DESCRIPTION:A really BIG\, GAY Trivia comes to the infamous Woody’s on 13th Street! Play six rounds of trivia with Brittany Lynn and win some BIG prizes including a “Weekend Warrior Package” that includes Woody’s and Voyeur passes and drink tickets-and more! Weekly starting at 8pm-10pm.
URL:https://phillydragmafia.com/event/big-gay-trivia-at-woodys/2028-06-08/
LOCATION:Woody’s\, 212 S. 13th St\, Phila\, PA\, 19107\, United States
CATEGORIES:Community Event,Drag Shows,Trivia Night
ATTACH;FMTTYPE=image/jpeg:https://phillydragmafia.com/wp-content/uploads/2026/03/unnamed.jpg
END:VEVENT
BEGIN:VEVENT
DTSTART;TZID=America/New_York:20280615T210000
DTEND;TZID=America/New_York:20280615T230000
DTSTAMP:20260420T031007
CREATED:20260312T172611Z
LAST-MODIFIED:20260407T215852Z
UID:10001517-1844715600-1844722800@phillydragmafia.com
SUMMARY:Big\, Gay Trivia at Woody's
DESCRIPTION:A really BIG\, GAY Trivia comes to the infamous Woody’s on 13th Street! Play six rounds of trivia with Brittany Lynn and win some BIG prizes including a “Weekend Warrior Package” that includes Woody’s and Voyeur passes and drink tickets-and more! Weekly starting at 8pm-10pm.
URL:https://phillydragmafia.com/event/big-gay-trivia-at-woodys/2028-06-15/
LOCATION:Woody’s\, 212 S. 13th St\, Phila\, PA\, 19107\, United States
CATEGORIES:Community Event,Drag Shows,Trivia Night
ATTACH;FMTTYPE=image/jpeg:https://phillydragmafia.com/wp-content/uploads/2026/03/unnamed.jpg
END:VEVENT
BEGIN:VEVENT
DTSTART;TZID=America/New_York:20280622T210000
DTEND;TZID=America/New_York:20280622T230000
DTSTAMP:20260420T031007
CREATED:20260312T172611Z
LAST-MODIFIED:20260407T215852Z
UID:10001518-1845320400-1845327600@phillydragmafia.com
SUMMARY:Big\, Gay Trivia at Woody's
DESCRIPTION:A really BIG\, GAY Trivia comes to the infamous Woody’s on 13th Street! Play six rounds of trivia with Brittany Lynn and win some BIG prizes including a “Weekend Warrior Package” that includes Woody’s and Voyeur passes and drink tickets-and more! Weekly starting at 8pm-10pm.
URL:https://phillydragmafia.com/event/big-gay-trivia-at-woodys/2028-06-22/
LOCATION:Woody’s\, 212 S. 13th St\, Phila\, PA\, 19107\, United States
CATEGORIES:Community Event,Drag Shows,Trivia Night
ATTACH;FMTTYPE=image/jpeg:https://phillydragmafia.com/wp-content/uploads/2026/03/unnamed.jpg
END:VEVENT
BEGIN:VEVENT
DTSTART;TZID=America/New_York:20280629T210000
DTEND;TZID=America/New_York:20280629T230000
DTSTAMP:20260420T031007
CREATED:20260312T172611Z
LAST-MODIFIED:20260407T215852Z
UID:10001519-1845925200-1845932400@phillydragmafia.com
SUMMARY:Big\, Gay Trivia at Woody's
DESCRIPTION:A really BIG\, GAY Trivia comes to the infamous Woody’s on 13th Street! Play six rounds of trivia with Brittany Lynn and win some BIG prizes including a “Weekend Warrior Package” that includes Woody’s and Voyeur passes and drink tickets-and more! Weekly starting at 8pm-10pm.
URL:https://phillydragmafia.com/event/big-gay-trivia-at-woodys/2028-06-29/
LOCATION:Woody’s\, 212 S. 13th St\, Phila\, PA\, 19107\, United States
CATEGORIES:Community Event,Drag Shows,Trivia Night
ATTACH;FMTTYPE=image/jpeg:https://phillydragmafia.com/wp-content/uploads/2026/03/unnamed.jpg
END:VEVENT
BEGIN:VEVENT
DTSTART;TZID=America/New_York:20280706T210000
DTEND;TZID=America/New_York:20280706T230000
DTSTAMP:20260420T031007
CREATED:20260312T172611Z
LAST-MODIFIED:20260407T215852Z
UID:10001520-1846530000-1846537200@phillydragmafia.com
SUMMARY:Big\, Gay Trivia at Woody's
DESCRIPTION:A really BIG\, GAY Trivia comes to the infamous Woody’s on 13th Street! Play six rounds of trivia with Brittany Lynn and win some BIG prizes including a “Weekend Warrior Package” that includes Woody’s and Voyeur passes and drink tickets-and more! Weekly starting at 8pm-10pm.
URL:https://phillydragmafia.com/event/big-gay-trivia-at-woodys/2028-07-06/
LOCATION:Woody’s\, 212 S. 13th St\, Phila\, PA\, 19107\, United States
CATEGORIES:Community Event,Drag Shows,Trivia Night
ATTACH;FMTTYPE=image/jpeg:https://phillydragmafia.com/wp-content/uploads/2026/03/unnamed.jpg
END:VEVENT
BEGIN:VEVENT
DTSTART;TZID=America/New_York:20280713T210000
DTEND;TZID=America/New_York:20280713T230000
DTSTAMP:20260420T031007
CREATED:20260312T172611Z
LAST-MODIFIED:20260407T215852Z
UID:10001521-1847134800-1847142000@phillydragmafia.com
SUMMARY:Big\, Gay Trivia at Woody's
DESCRIPTION:A really BIG\, GAY Trivia comes to the infamous Woody’s on 13th Street! Play six rounds of trivia with Brittany Lynn and win some BIG prizes including a “Weekend Warrior Package” that includes Woody’s and Voyeur passes and drink tickets-and more! Weekly starting at 8pm-10pm.
URL:https://phillydragmafia.com/event/big-gay-trivia-at-woodys/2028-07-13/
LOCATION:Woody’s\, 212 S. 13th St\, Phila\, PA\, 19107\, United States
CATEGORIES:Community Event,Drag Shows,Trivia Night
ATTACH;FMTTYPE=image/jpeg:https://phillydragmafia.com/wp-content/uploads/2026/03/unnamed.jpg
END:VEVENT
BEGIN:VEVENT
DTSTART;TZID=America/New_York:20280720T210000
DTEND;TZID=America/New_York:20280720T230000
DTSTAMP:20260420T031007
CREATED:20260312T172611Z
LAST-MODIFIED:20260407T215852Z
UID:10001522-1847739600-1847746800@phillydragmafia.com
SUMMARY:Big\, Gay Trivia at Woody's
DESCRIPTION:A really BIG\, GAY Trivia comes to the infamous Woody’s on 13th Street! Play six rounds of trivia with Brittany Lynn and win some BIG prizes including a “Weekend Warrior Package” that includes Woody’s and Voyeur passes and drink tickets-and more! Weekly starting at 8pm-10pm.
URL:https://phillydragmafia.com/event/big-gay-trivia-at-woodys/2028-07-20/
LOCATION:Woody’s\, 212 S. 13th St\, Phila\, PA\, 19107\, United States
CATEGORIES:Community Event,Drag Shows,Trivia Night
ATTACH;FMTTYPE=image/jpeg:https://phillydragmafia.com/wp-content/uploads/2026/03/unnamed.jpg
END:VEVENT
BEGIN:VEVENT
DTSTART;TZID=America/New_York:20280727T210000
DTEND;TZID=America/New_York:20280727T230000
DTSTAMP:20260420T031007
CREATED:20260312T172611Z
LAST-MODIFIED:20260407T215852Z
UID:10001523-1848344400-1848351600@phillydragmafia.com
SUMMARY:Big\, Gay Trivia at Woody's
DESCRIPTION:A really BIG\, GAY Trivia comes to the infamous Woody’s on 13th Street! Play six rounds of trivia with Brittany Lynn and win some BIG prizes including a “Weekend Warrior Package” that includes Woody’s and Voyeur passes and drink tickets-and more! Weekly starting at 8pm-10pm.
URL:https://phillydragmafia.com/event/big-gay-trivia-at-woodys/2028-07-27/
LOCATION:Woody’s\, 212 S. 13th St\, Phila\, PA\, 19107\, United States
CATEGORIES:Community Event,Drag Shows,Trivia Night
ATTACH;FMTTYPE=image/jpeg:https://phillydragmafia.com/wp-content/uploads/2026/03/unnamed.jpg
END:VEVENT
BEGIN:VEVENT
DTSTART;TZID=America/New_York:20280803T210000
DTEND;TZID=America/New_York:20280803T230000
DTSTAMP:20260420T031007
CREATED:20260312T172611Z
LAST-MODIFIED:20260407T215852Z
UID:10001524-1848949200-1848956400@phillydragmafia.com
SUMMARY:Big\, Gay Trivia at Woody's
DESCRIPTION:A really BIG\, GAY Trivia comes to the infamous Woody’s on 13th Street! Play six rounds of trivia with Brittany Lynn and win some BIG prizes including a “Weekend Warrior Package” that includes Woody’s and Voyeur passes and drink tickets-and more! Weekly starting at 8pm-10pm.
URL:https://phillydragmafia.com/event/big-gay-trivia-at-woodys/2028-08-03/
LOCATION:Woody’s\, 212 S. 13th St\, Phila\, PA\, 19107\, United States
CATEGORIES:Community Event,Drag Shows,Trivia Night
ATTACH;FMTTYPE=image/jpeg:https://phillydragmafia.com/wp-content/uploads/2026/03/unnamed.jpg
END:VEVENT
BEGIN:VEVENT
DTSTART;TZID=America/New_York:20280810T210000
DTEND;TZID=America/New_York:20280810T230000
DTSTAMP:20260420T031007
CREATED:20260312T172611Z
LAST-MODIFIED:20260407T215852Z
UID:10001525-1849554000-1849561200@phillydragmafia.com
SUMMARY:Big\, Gay Trivia at Woody's
DESCRIPTION:A really BIG\, GAY Trivia comes to the infamous Woody’s on 13th Street! Play six rounds of trivia with Brittany Lynn and win some BIG prizes including a “Weekend Warrior Package” that includes Woody’s and Voyeur passes and drink tickets-and more! Weekly starting at 8pm-10pm.
URL:https://phillydragmafia.com/event/big-gay-trivia-at-woodys/2028-08-10/
LOCATION:Woody’s\, 212 S. 13th St\, Phila\, PA\, 19107\, United States
CATEGORIES:Community Event,Drag Shows,Trivia Night
ATTACH;FMTTYPE=image/jpeg:https://phillydragmafia.com/wp-content/uploads/2026/03/unnamed.jpg
END:VEVENT
BEGIN:VEVENT
DTSTART;TZID=America/New_York:20280817T210000
DTEND;TZID=America/New_York:20280817T230000
DTSTAMP:20260420T031007
CREATED:20260312T172611Z
LAST-MODIFIED:20260407T215852Z
UID:10001526-1850158800-1850166000@phillydragmafia.com
SUMMARY:Big\, Gay Trivia at Woody's
DESCRIPTION:A really BIG\, GAY Trivia comes to the infamous Woody’s on 13th Street! Play six rounds of trivia with Brittany Lynn and win some BIG prizes including a “Weekend Warrior Package” that includes Woody’s and Voyeur passes and drink tickets-and more! Weekly starting at 8pm-10pm.
URL:https://phillydragmafia.com/event/big-gay-trivia-at-woodys/2028-08-17/
LOCATION:Woody’s\, 212 S. 13th St\, Phila\, PA\, 19107\, United States
CATEGORIES:Community Event,Drag Shows,Trivia Night
ATTACH;FMTTYPE=image/jpeg:https://phillydragmafia.com/wp-content/uploads/2026/03/unnamed.jpg
END:VEVENT
BEGIN:VEVENT
DTSTART;TZID=America/New_York:20280824T210000
DTEND;TZID=America/New_York:20280824T230000
DTSTAMP:20260420T031007
CREATED:20260312T172611Z
LAST-MODIFIED:20260407T215852Z
UID:10001527-1850763600-1850770800@phillydragmafia.com
SUMMARY:Big\, Gay Trivia at Woody's
DESCRIPTION:A really BIG\, GAY Trivia comes to the infamous Woody’s on 13th Street! Play six rounds of trivia with Brittany Lynn and win some BIG prizes including a “Weekend Warrior Package” that includes Woody’s and Voyeur passes and drink tickets-and more! Weekly starting at 8pm-10pm.
URL:https://phillydragmafia.com/event/big-gay-trivia-at-woodys/2028-08-24/
LOCATION:Woody’s\, 212 S. 13th St\, Phila\, PA\, 19107\, United States
CATEGORIES:Community Event,Drag Shows,Trivia Night
ATTACH;FMTTYPE=image/jpeg:https://phillydragmafia.com/wp-content/uploads/2026/03/unnamed.jpg
END:VEVENT
BEGIN:VEVENT
DTSTART;TZID=America/New_York:20280831T210000
DTEND;TZID=America/New_York:20280831T230000
DTSTAMP:20260420T031007
CREATED:20260312T172611Z
LAST-MODIFIED:20260407T215852Z
UID:10001528-1851368400-1851375600@phillydragmafia.com
SUMMARY:Big\, Gay Trivia at Woody's
DESCRIPTION:A really BIG\, GAY Trivia comes to the infamous Woody’s on 13th Street! Play six rounds of trivia with Brittany Lynn and win some BIG prizes including a “Weekend Warrior Package” that includes Woody’s and Voyeur passes and drink tickets-and more! Weekly starting at 8pm-10pm.
URL:https://phillydragmafia.com/event/big-gay-trivia-at-woodys/2028-08-31/
LOCATION:Woody’s\, 212 S. 13th St\, Phila\, PA\, 19107\, United States
CATEGORIES:Community Event,Drag Shows,Trivia Night
ATTACH;FMTTYPE=image/jpeg:https://phillydragmafia.com/wp-content/uploads/2026/03/unnamed.jpg
END:VEVENT
BEGIN:VEVENT
DTSTART;TZID=America/New_York:20280907T210000
DTEND;TZID=America/New_York:20280907T230000
DTSTAMP:20260420T031007
CREATED:20260312T172611Z
LAST-MODIFIED:20260407T215852Z
UID:10001529-1851973200-1851980400@phillydragmafia.com
SUMMARY:Big\, Gay Trivia at Woody's
DESCRIPTION:A really BIG\, GAY Trivia comes to the infamous Woody’s on 13th Street! Play six rounds of trivia with Brittany Lynn and win some BIG prizes including a “Weekend Warrior Package” that includes Woody’s and Voyeur passes and drink tickets-and more! Weekly starting at 8pm-10pm.
URL:https://phillydragmafia.com/event/big-gay-trivia-at-woodys/2028-09-07/
LOCATION:Woody’s\, 212 S. 13th St\, Phila\, PA\, 19107\, United States
CATEGORIES:Community Event,Drag Shows,Trivia Night
ATTACH;FMTTYPE=image/jpeg:https://phillydragmafia.com/wp-content/uploads/2026/03/unnamed.jpg
END:VEVENT
BEGIN:VEVENT
DTSTART;TZID=America/New_York:20280914T210000
DTEND;TZID=America/New_York:20280914T230000
DTSTAMP:20260420T031007
CREATED:20260312T172611Z
LAST-MODIFIED:20260407T215852Z
UID:10001530-1852578000-1852585200@phillydragmafia.com
SUMMARY:Big\, Gay Trivia at Woody's
DESCRIPTION:A really BIG\, GAY Trivia comes to the infamous Woody’s on 13th Street! Play six rounds of trivia with Brittany Lynn and win some BIG prizes including a “Weekend Warrior Package” that includes Woody’s and Voyeur passes and drink tickets-and more! Weekly starting at 8pm-10pm.
URL:https://phillydragmafia.com/event/big-gay-trivia-at-woodys/2028-09-14/
LOCATION:Woody’s\, 212 S. 13th St\, Phila\, PA\, 19107\, United States
CATEGORIES:Community Event,Drag Shows,Trivia Night
ATTACH;FMTTYPE=image/jpeg:https://phillydragmafia.com/wp-content/uploads/2026/03/unnamed.jpg
END:VEVENT
BEGIN:VEVENT
DTSTART;TZID=America/New_York:20280921T210000
DTEND;TZID=America/New_York:20280921T230000
DTSTAMP:20260420T031007
CREATED:20260312T172611Z
LAST-MODIFIED:20260407T215852Z
UID:10001531-1853182800-1853190000@phillydragmafia.com
SUMMARY:Big\, Gay Trivia at Woody's
DESCRIPTION:A really BIG\, GAY Trivia comes to the infamous Woody’s on 13th Street! Play six rounds of trivia with Brittany Lynn and win some BIG prizes including a “Weekend Warrior Package” that includes Woody’s and Voyeur passes and drink tickets-and more! Weekly starting at 8pm-10pm.
URL:https://phillydragmafia.com/event/big-gay-trivia-at-woodys/2028-09-21/
LOCATION:Woody’s\, 212 S. 13th St\, Phila\, PA\, 19107\, United States
CATEGORIES:Community Event,Drag Shows,Trivia Night
ATTACH;FMTTYPE=image/jpeg:https://phillydragmafia.com/wp-content/uploads/2026/03/unnamed.jpg
END:VEVENT
BEGIN:VEVENT
DTSTART;TZID=America/New_York:20280928T210000
DTEND;TZID=America/New_York:20280928T230000
DTSTAMP:20260420T031007
CREATED:20260312T172611Z
LAST-MODIFIED:20260407T215852Z
UID:10001532-1853787600-1853794800@phillydragmafia.com
SUMMARY:Big\, Gay Trivia at Woody's
DESCRIPTION:A really BIG\, GAY Trivia comes to the infamous Woody’s on 13th Street! Play six rounds of trivia with Brittany Lynn and win some BIG prizes including a “Weekend Warrior Package” that includes Woody’s and Voyeur passes and drink tickets-and more! Weekly starting at 8pm-10pm.
URL:https://phillydragmafia.com/event/big-gay-trivia-at-woodys/2028-09-28/
LOCATION:Woody’s\, 212 S. 13th St\, Phila\, PA\, 19107\, United States
CATEGORIES:Community Event,Drag Shows,Trivia Night
ATTACH;FMTTYPE=image/jpeg:https://phillydragmafia.com/wp-content/uploads/2026/03/unnamed.jpg
END:VEVENT
BEGIN:VEVENT
DTSTART;TZID=America/New_York:20281005T210000
DTEND;TZID=America/New_York:20281005T230000
DTSTAMP:20260420T031007
CREATED:20260312T172611Z
LAST-MODIFIED:20260407T215852Z
UID:10001533-1854392400-1854399600@phillydragmafia.com
SUMMARY:Big\, Gay Trivia at Woody's
DESCRIPTION:A really BIG\, GAY Trivia comes to the infamous Woody’s on 13th Street! Play six rounds of trivia with Brittany Lynn and win some BIG prizes including a “Weekend Warrior Package” that includes Woody’s and Voyeur passes and drink tickets-and more! Weekly starting at 8pm-10pm.
URL:https://phillydragmafia.com/event/big-gay-trivia-at-woodys/2028-10-05/
LOCATION:Woody’s\, 212 S. 13th St\, Phila\, PA\, 19107\, United States
CATEGORIES:Community Event,Drag Shows,Trivia Night
ATTACH;FMTTYPE=image/jpeg:https://phillydragmafia.com/wp-content/uploads/2026/03/unnamed.jpg
END:VEVENT
BEGIN:VEVENT
DTSTART;TZID=America/New_York:20281012T210000
DTEND;TZID=America/New_York:20281012T230000
DTSTAMP:20260420T031007
CREATED:20260312T172611Z
LAST-MODIFIED:20260407T215852Z
UID:10001534-1854997200-1855004400@phillydragmafia.com
SUMMARY:Big\, Gay Trivia at Woody's
DESCRIPTION:A really BIG\, GAY Trivia comes to the infamous Woody’s on 13th Street! Play six rounds of trivia with Brittany Lynn and win some BIG prizes including a “Weekend Warrior Package” that includes Woody’s and Voyeur passes and drink tickets-and more! Weekly starting at 8pm-10pm.
URL:https://phillydragmafia.com/event/big-gay-trivia-at-woodys/2028-10-12/
LOCATION:Woody’s\, 212 S. 13th St\, Phila\, PA\, 19107\, United States
CATEGORIES:Community Event,Drag Shows,Trivia Night
ATTACH;FMTTYPE=image/jpeg:https://phillydragmafia.com/wp-content/uploads/2026/03/unnamed.jpg
END:VEVENT
BEGIN:VEVENT
DTSTART;TZID=America/New_York:20281019T210000
DTEND;TZID=America/New_York:20281019T230000
DTSTAMP:20260420T031007
CREATED:20260312T172611Z
LAST-MODIFIED:20260407T215852Z
UID:10001535-1855602000-1855609200@phillydragmafia.com
SUMMARY:Big\, Gay Trivia at Woody's
DESCRIPTION:A really BIG\, GAY Trivia comes to the infamous Woody’s on 13th Street! Play six rounds of trivia with Brittany Lynn and win some BIG prizes including a “Weekend Warrior Package” that includes Woody’s and Voyeur passes and drink tickets-and more! Weekly starting at 8pm-10pm.
URL:https://phillydragmafia.com/event/big-gay-trivia-at-woodys/2028-10-19/
LOCATION:Woody’s\, 212 S. 13th St\, Phila\, PA\, 19107\, United States
CATEGORIES:Community Event,Drag Shows,Trivia Night
ATTACH;FMTTYPE=image/jpeg:https://phillydragmafia.com/wp-content/uploads/2026/03/unnamed.jpg
END:VEVENT
BEGIN:VEVENT
DTSTART;TZID=America/New_York:20281026T210000
DTEND;TZID=America/New_York:20281026T230000
DTSTAMP:20260420T031007
CREATED:20260312T172611Z
LAST-MODIFIED:20260407T215852Z
UID:10001536-1856206800-1856214000@phillydragmafia.com
SUMMARY:Big\, Gay Trivia at Woody's
DESCRIPTION:A really BIG\, GAY Trivia comes to the infamous Woody’s on 13th Street! Play six rounds of trivia with Brittany Lynn and win some BIG prizes including a “Weekend Warrior Package” that includes Woody’s and Voyeur passes and drink tickets-and more! Weekly starting at 8pm-10pm.
URL:https://phillydragmafia.com/event/big-gay-trivia-at-woodys/2028-10-26/
LOCATION:Woody’s\, 212 S. 13th St\, Phila\, PA\, 19107\, United States
CATEGORIES:Community Event,Drag Shows,Trivia Night
ATTACH;FMTTYPE=image/jpeg:https://phillydragmafia.com/wp-content/uploads/2026/03/unnamed.jpg
END:VEVENT
BEGIN:VEVENT
DTSTART;TZID=America/New_York:20281102T210000
DTEND;TZID=America/New_York:20281102T230000
DTSTAMP:20260420T031007
CREATED:20260312T172611Z
LAST-MODIFIED:20260407T215852Z
UID:10001537-1856811600-1856818800@phillydragmafia.com
SUMMARY:Big\, Gay Trivia at Woody's
DESCRIPTION:A really BIG\, GAY Trivia comes to the infamous Woody’s on 13th Street! Play six rounds of trivia with Brittany Lynn and win some BIG prizes including a “Weekend Warrior Package” that includes Woody’s and Voyeur passes and drink tickets-and more! Weekly starting at 8pm-10pm.
URL:https://phillydragmafia.com/event/big-gay-trivia-at-woodys/2028-11-02/
LOCATION:Woody’s\, 212 S. 13th St\, Phila\, PA\, 19107\, United States
CATEGORIES:Community Event,Drag Shows,Trivia Night
ATTACH;FMTTYPE=image/jpeg:https://phillydragmafia.com/wp-content/uploads/2026/03/unnamed.jpg
END:VEVENT
END:VCALENDAR