BEGIN:VCALENDAR
VERSION:2.0
PRODID:-//Philly Drag Mafia - ECPv6.15.20//NONSGML v1.0//EN
CALSCALE:GREGORIAN
METHOD:PUBLISH
X-WR-CALNAME:Philly Drag Mafia
X-ORIGINAL-URL:https://phillydragmafia.com
X-WR-CALDESC:Events for Philly Drag Mafia
REFRESH-INTERVAL;VALUE=DURATION:PT1H
X-Robots-Tag:noindex
X-PUBLISHED-TTL:PT1H
BEGIN:VTIMEZONE
TZID:America/New_York
BEGIN:DAYLIGHT
TZOFFSETFROM:-0500
TZOFFSETTO:-0400
TZNAME:EDT
DTSTART:20270314T070000
END:DAYLIGHT
BEGIN:STANDARD
TZOFFSETFROM:-0400
TZOFFSETTO:-0500
TZNAME:EST
DTSTART:20271107T060000
END:STANDARD
BEGIN:DAYLIGHT
TZOFFSETFROM:-0500
TZOFFSETTO:-0400
TZNAME:EDT
DTSTART:20280312T070000
END:DAYLIGHT
BEGIN:STANDARD
TZOFFSETFROM:-0400
TZOFFSETTO:-0500
TZNAME:EST
DTSTART:20281105T060000
END:STANDARD
BEGIN:DAYLIGHT
TZOFFSETFROM:-0500
TZOFFSETTO:-0400
TZNAME:EDT
DTSTART:20290311T070000
END:DAYLIGHT
BEGIN:STANDARD
TZOFFSETFROM:-0400
TZOFFSETTO:-0500
TZNAME:EST
DTSTART:20291104T060000
END:STANDARD
BEGIN:DAYLIGHT
TZOFFSETFROM:-0500
TZOFFSETTO:-0400
TZNAME:EDT
DTSTART:20300310T070000
END:DAYLIGHT
BEGIN:STANDARD
TZOFFSETFROM:-0400
TZOFFSETTO:-0500
TZNAME:EST
DTSTART:20301103T060000
END:STANDARD
END:VTIMEZONE
BEGIN:VEVENT
DTSTART;TZID=America/New_York:20281109T210000
DTEND;TZID=America/New_York:20281109T230000
DTSTAMP:20260420T080549
CREATED:20260312T172611Z
LAST-MODIFIED:20260407T215852Z
UID:10001538-1857416400-1857423600@phillydragmafia.com
SUMMARY:Big\, Gay Trivia at Woody's
DESCRIPTION:A really BIG\, GAY Trivia comes to the infamous Woody’s on 13th Street! Play six rounds of trivia with Brittany Lynn and win some BIG prizes including a “Weekend Warrior Package” that includes Woody’s and Voyeur passes and drink tickets-and more! Weekly starting at 8pm-10pm.
URL:https://phillydragmafia.com/event/big-gay-trivia-at-woodys/2028-11-09/
LOCATION:Woody’s\, 212 S. 13th St\, Phila\, PA\, 19107\, United States
CATEGORIES:Community Event,Drag Shows,Trivia Night
ATTACH;FMTTYPE=image/jpeg:https://phillydragmafia.com/wp-content/uploads/2026/03/unnamed.jpg
END:VEVENT
BEGIN:VEVENT
DTSTART;TZID=America/New_York:20281116T210000
DTEND;TZID=America/New_York:20281116T230000
DTSTAMP:20260420T080549
CREATED:20260312T172611Z
LAST-MODIFIED:20260407T215852Z
UID:10001539-1858021200-1858028400@phillydragmafia.com
SUMMARY:Big\, Gay Trivia at Woody's
DESCRIPTION:A really BIG\, GAY Trivia comes to the infamous Woody’s on 13th Street! Play six rounds of trivia with Brittany Lynn and win some BIG prizes including a “Weekend Warrior Package” that includes Woody’s and Voyeur passes and drink tickets-and more! Weekly starting at 8pm-10pm.
URL:https://phillydragmafia.com/event/big-gay-trivia-at-woodys/2028-11-16/
LOCATION:Woody’s\, 212 S. 13th St\, Phila\, PA\, 19107\, United States
CATEGORIES:Community Event,Drag Shows,Trivia Night
ATTACH;FMTTYPE=image/jpeg:https://phillydragmafia.com/wp-content/uploads/2026/03/unnamed.jpg
END:VEVENT
BEGIN:VEVENT
DTSTART;TZID=America/New_York:20281123T210000
DTEND;TZID=America/New_York:20281123T230000
DTSTAMP:20260420T080549
CREATED:20260312T172611Z
LAST-MODIFIED:20260407T215852Z
UID:10001540-1858626000-1858633200@phillydragmafia.com
SUMMARY:Big\, Gay Trivia at Woody's
DESCRIPTION:A really BIG\, GAY Trivia comes to the infamous Woody’s on 13th Street! Play six rounds of trivia with Brittany Lynn and win some BIG prizes including a “Weekend Warrior Package” that includes Woody’s and Voyeur passes and drink tickets-and more! Weekly starting at 8pm-10pm.
URL:https://phillydragmafia.com/event/big-gay-trivia-at-woodys/2028-11-23/
LOCATION:Woody’s\, 212 S. 13th St\, Phila\, PA\, 19107\, United States
CATEGORIES:Community Event,Drag Shows,Trivia Night
ATTACH;FMTTYPE=image/jpeg:https://phillydragmafia.com/wp-content/uploads/2026/03/unnamed.jpg
END:VEVENT
BEGIN:VEVENT
DTSTART;TZID=America/New_York:20281130T210000
DTEND;TZID=America/New_York:20281130T230000
DTSTAMP:20260420T080549
CREATED:20260312T172611Z
LAST-MODIFIED:20260407T215852Z
UID:10001541-1859230800-1859238000@phillydragmafia.com
SUMMARY:Big\, Gay Trivia at Woody's
DESCRIPTION:A really BIG\, GAY Trivia comes to the infamous Woody’s on 13th Street! Play six rounds of trivia with Brittany Lynn and win some BIG prizes including a “Weekend Warrior Package” that includes Woody’s and Voyeur passes and drink tickets-and more! Weekly starting at 8pm-10pm.
URL:https://phillydragmafia.com/event/big-gay-trivia-at-woodys/2028-11-30/
LOCATION:Woody’s\, 212 S. 13th St\, Phila\, PA\, 19107\, United States
CATEGORIES:Community Event,Drag Shows,Trivia Night
ATTACH;FMTTYPE=image/jpeg:https://phillydragmafia.com/wp-content/uploads/2026/03/unnamed.jpg
END:VEVENT
BEGIN:VEVENT
DTSTART;TZID=America/New_York:20281207T210000
DTEND;TZID=America/New_York:20281207T230000
DTSTAMP:20260420T080549
CREATED:20260312T172611Z
LAST-MODIFIED:20260407T215852Z
UID:10001542-1859835600-1859842800@phillydragmafia.com
SUMMARY:Big\, Gay Trivia at Woody's
DESCRIPTION:A really BIG\, GAY Trivia comes to the infamous Woody’s on 13th Street! Play six rounds of trivia with Brittany Lynn and win some BIG prizes including a “Weekend Warrior Package” that includes Woody’s and Voyeur passes and drink tickets-and more! Weekly starting at 8pm-10pm.
URL:https://phillydragmafia.com/event/big-gay-trivia-at-woodys/2028-12-07/
LOCATION:Woody’s\, 212 S. 13th St\, Phila\, PA\, 19107\, United States
CATEGORIES:Community Event,Drag Shows,Trivia Night
ATTACH;FMTTYPE=image/jpeg:https://phillydragmafia.com/wp-content/uploads/2026/03/unnamed.jpg
END:VEVENT
BEGIN:VEVENT
DTSTART;TZID=America/New_York:20281214T210000
DTEND;TZID=America/New_York:20281214T230000
DTSTAMP:20260420T080549
CREATED:20260312T172611Z
LAST-MODIFIED:20260407T215852Z
UID:10001543-1860440400-1860447600@phillydragmafia.com
SUMMARY:Big\, Gay Trivia at Woody's
DESCRIPTION:A really BIG\, GAY Trivia comes to the infamous Woody’s on 13th Street! Play six rounds of trivia with Brittany Lynn and win some BIG prizes including a “Weekend Warrior Package” that includes Woody’s and Voyeur passes and drink tickets-and more! Weekly starting at 8pm-10pm.
URL:https://phillydragmafia.com/event/big-gay-trivia-at-woodys/2028-12-14/
LOCATION:Woody’s\, 212 S. 13th St\, Phila\, PA\, 19107\, United States
CATEGORIES:Community Event,Drag Shows,Trivia Night
ATTACH;FMTTYPE=image/jpeg:https://phillydragmafia.com/wp-content/uploads/2026/03/unnamed.jpg
END:VEVENT
BEGIN:VEVENT
DTSTART;TZID=America/New_York:20281221T210000
DTEND;TZID=America/New_York:20281221T230000
DTSTAMP:20260420T080549
CREATED:20260312T172611Z
LAST-MODIFIED:20260407T215852Z
UID:10001544-1861045200-1861052400@phillydragmafia.com
SUMMARY:Big\, Gay Trivia at Woody's
DESCRIPTION:A really BIG\, GAY Trivia comes to the infamous Woody’s on 13th Street! Play six rounds of trivia with Brittany Lynn and win some BIG prizes including a “Weekend Warrior Package” that includes Woody’s and Voyeur passes and drink tickets-and more! Weekly starting at 8pm-10pm.
URL:https://phillydragmafia.com/event/big-gay-trivia-at-woodys/2028-12-21/
LOCATION:Woody’s\, 212 S. 13th St\, Phila\, PA\, 19107\, United States
CATEGORIES:Community Event,Drag Shows,Trivia Night
ATTACH;FMTTYPE=image/jpeg:https://phillydragmafia.com/wp-content/uploads/2026/03/unnamed.jpg
END:VEVENT
BEGIN:VEVENT
DTSTART;TZID=America/New_York:20281228T210000
DTEND;TZID=America/New_York:20281228T230000
DTSTAMP:20260420T080549
CREATED:20260312T172611Z
LAST-MODIFIED:20260407T215852Z
UID:10001545-1861650000-1861657200@phillydragmafia.com
SUMMARY:Big\, Gay Trivia at Woody's
DESCRIPTION:A really BIG\, GAY Trivia comes to the infamous Woody’s on 13th Street! Play six rounds of trivia with Brittany Lynn and win some BIG prizes including a “Weekend Warrior Package” that includes Woody’s and Voyeur passes and drink tickets-and more! Weekly starting at 8pm-10pm.
URL:https://phillydragmafia.com/event/big-gay-trivia-at-woodys/2028-12-28/
LOCATION:Woody’s\, 212 S. 13th St\, Phila\, PA\, 19107\, United States
CATEGORIES:Community Event,Drag Shows,Trivia Night
ATTACH;FMTTYPE=image/jpeg:https://phillydragmafia.com/wp-content/uploads/2026/03/unnamed.jpg
END:VEVENT
BEGIN:VEVENT
DTSTART;TZID=America/New_York:20290104T210000
DTEND;TZID=America/New_York:20290104T230000
DTSTAMP:20260420T080549
CREATED:20260312T172611Z
LAST-MODIFIED:20260407T215852Z
UID:10001546-1862254800-1862262000@phillydragmafia.com
SUMMARY:Big\, Gay Trivia at Woody's
DESCRIPTION:A really BIG\, GAY Trivia comes to the infamous Woody’s on 13th Street! Play six rounds of trivia with Brittany Lynn and win some BIG prizes including a “Weekend Warrior Package” that includes Woody’s and Voyeur passes and drink tickets-and more! Weekly starting at 8pm-10pm.
URL:https://phillydragmafia.com/event/big-gay-trivia-at-woodys/2029-01-04/
LOCATION:Woody’s\, 212 S. 13th St\, Phila\, PA\, 19107\, United States
CATEGORIES:Community Event,Drag Shows,Trivia Night
ATTACH;FMTTYPE=image/jpeg:https://phillydragmafia.com/wp-content/uploads/2026/03/unnamed.jpg
END:VEVENT
BEGIN:VEVENT
DTSTART;TZID=America/New_York:20290111T210000
DTEND;TZID=America/New_York:20290111T230000
DTSTAMP:20260420T080549
CREATED:20260312T172611Z
LAST-MODIFIED:20260407T215852Z
UID:10001547-1862859600-1862866800@phillydragmafia.com
SUMMARY:Big\, Gay Trivia at Woody's
DESCRIPTION:A really BIG\, GAY Trivia comes to the infamous Woody’s on 13th Street! Play six rounds of trivia with Brittany Lynn and win some BIG prizes including a “Weekend Warrior Package” that includes Woody’s and Voyeur passes and drink tickets-and more! Weekly starting at 8pm-10pm.
URL:https://phillydragmafia.com/event/big-gay-trivia-at-woodys/2029-01-11/
LOCATION:Woody’s\, 212 S. 13th St\, Phila\, PA\, 19107\, United States
CATEGORIES:Community Event,Drag Shows,Trivia Night
ATTACH;FMTTYPE=image/jpeg:https://phillydragmafia.com/wp-content/uploads/2026/03/unnamed.jpg
END:VEVENT
BEGIN:VEVENT
DTSTART;TZID=America/New_York:20290118T210000
DTEND;TZID=America/New_York:20290118T230000
DTSTAMP:20260420T080549
CREATED:20260312T172611Z
LAST-MODIFIED:20260407T215852Z
UID:10001548-1863464400-1863471600@phillydragmafia.com
SUMMARY:Big\, Gay Trivia at Woody's
DESCRIPTION:A really BIG\, GAY Trivia comes to the infamous Woody’s on 13th Street! Play six rounds of trivia with Brittany Lynn and win some BIG prizes including a “Weekend Warrior Package” that includes Woody’s and Voyeur passes and drink tickets-and more! Weekly starting at 8pm-10pm.
URL:https://phillydragmafia.com/event/big-gay-trivia-at-woodys/2029-01-18/
LOCATION:Woody’s\, 212 S. 13th St\, Phila\, PA\, 19107\, United States
CATEGORIES:Community Event,Drag Shows,Trivia Night
ATTACH;FMTTYPE=image/jpeg:https://phillydragmafia.com/wp-content/uploads/2026/03/unnamed.jpg
END:VEVENT
BEGIN:VEVENT
DTSTART;TZID=America/New_York:20290125T210000
DTEND;TZID=America/New_York:20290125T230000
DTSTAMP:20260420T080549
CREATED:20260312T172611Z
LAST-MODIFIED:20260407T215852Z
UID:10001549-1864069200-1864076400@phillydragmafia.com
SUMMARY:Big\, Gay Trivia at Woody's
DESCRIPTION:A really BIG\, GAY Trivia comes to the infamous Woody’s on 13th Street! Play six rounds of trivia with Brittany Lynn and win some BIG prizes including a “Weekend Warrior Package” that includes Woody’s and Voyeur passes and drink tickets-and more! Weekly starting at 8pm-10pm.
URL:https://phillydragmafia.com/event/big-gay-trivia-at-woodys/2029-01-25/
LOCATION:Woody’s\, 212 S. 13th St\, Phila\, PA\, 19107\, United States
CATEGORIES:Community Event,Drag Shows,Trivia Night
ATTACH;FMTTYPE=image/jpeg:https://phillydragmafia.com/wp-content/uploads/2026/03/unnamed.jpg
END:VEVENT
BEGIN:VEVENT
DTSTART;TZID=America/New_York:20290201T210000
DTEND;TZID=America/New_York:20290201T230000
DTSTAMP:20260420T080549
CREATED:20260312T172611Z
LAST-MODIFIED:20260407T215852Z
UID:10001550-1864674000-1864681200@phillydragmafia.com
SUMMARY:Big\, Gay Trivia at Woody's
DESCRIPTION:A really BIG\, GAY Trivia comes to the infamous Woody’s on 13th Street! Play six rounds of trivia with Brittany Lynn and win some BIG prizes including a “Weekend Warrior Package” that includes Woody’s and Voyeur passes and drink tickets-and more! Weekly starting at 8pm-10pm.
URL:https://phillydragmafia.com/event/big-gay-trivia-at-woodys/2029-02-01/
LOCATION:Woody’s\, 212 S. 13th St\, Phila\, PA\, 19107\, United States
CATEGORIES:Community Event,Drag Shows,Trivia Night
ATTACH;FMTTYPE=image/jpeg:https://phillydragmafia.com/wp-content/uploads/2026/03/unnamed.jpg
END:VEVENT
BEGIN:VEVENT
DTSTART;TZID=America/New_York:20290208T210000
DTEND;TZID=America/New_York:20290208T230000
DTSTAMP:20260420T080549
CREATED:20260312T172611Z
LAST-MODIFIED:20260407T215852Z
UID:10001551-1865278800-1865286000@phillydragmafia.com
SUMMARY:Big\, Gay Trivia at Woody's
DESCRIPTION:A really BIG\, GAY Trivia comes to the infamous Woody’s on 13th Street! Play six rounds of trivia with Brittany Lynn and win some BIG prizes including a “Weekend Warrior Package” that includes Woody’s and Voyeur passes and drink tickets-and more! Weekly starting at 8pm-10pm.
URL:https://phillydragmafia.com/event/big-gay-trivia-at-woodys/2029-02-08/
LOCATION:Woody’s\, 212 S. 13th St\, Phila\, PA\, 19107\, United States
CATEGORIES:Community Event,Drag Shows,Trivia Night
ATTACH;FMTTYPE=image/jpeg:https://phillydragmafia.com/wp-content/uploads/2026/03/unnamed.jpg
END:VEVENT
BEGIN:VEVENT
DTSTART;TZID=America/New_York:20290215T210000
DTEND;TZID=America/New_York:20290215T230000
DTSTAMP:20260420T080549
CREATED:20260312T172611Z
LAST-MODIFIED:20260407T215852Z
UID:10001552-1865883600-1865890800@phillydragmafia.com
SUMMARY:Big\, Gay Trivia at Woody's
DESCRIPTION:A really BIG\, GAY Trivia comes to the infamous Woody’s on 13th Street! Play six rounds of trivia with Brittany Lynn and win some BIG prizes including a “Weekend Warrior Package” that includes Woody’s and Voyeur passes and drink tickets-and more! Weekly starting at 8pm-10pm.
URL:https://phillydragmafia.com/event/big-gay-trivia-at-woodys/2029-02-15/
LOCATION:Woody’s\, 212 S. 13th St\, Phila\, PA\, 19107\, United States
CATEGORIES:Community Event,Drag Shows,Trivia Night
ATTACH;FMTTYPE=image/jpeg:https://phillydragmafia.com/wp-content/uploads/2026/03/unnamed.jpg
END:VEVENT
BEGIN:VEVENT
DTSTART;TZID=America/New_York:20290222T210000
DTEND;TZID=America/New_York:20290222T230000
DTSTAMP:20260420T080549
CREATED:20260312T172611Z
LAST-MODIFIED:20260407T215852Z
UID:10001553-1866488400-1866495600@phillydragmafia.com
SUMMARY:Big\, Gay Trivia at Woody's
DESCRIPTION:A really BIG\, GAY Trivia comes to the infamous Woody’s on 13th Street! Play six rounds of trivia with Brittany Lynn and win some BIG prizes including a “Weekend Warrior Package” that includes Woody’s and Voyeur passes and drink tickets-and more! Weekly starting at 8pm-10pm.
URL:https://phillydragmafia.com/event/big-gay-trivia-at-woodys/2029-02-22/
LOCATION:Woody’s\, 212 S. 13th St\, Phila\, PA\, 19107\, United States
CATEGORIES:Community Event,Drag Shows,Trivia Night
ATTACH;FMTTYPE=image/jpeg:https://phillydragmafia.com/wp-content/uploads/2026/03/unnamed.jpg
END:VEVENT
BEGIN:VEVENT
DTSTART;TZID=America/New_York:20290301T210000
DTEND;TZID=America/New_York:20290301T230000
DTSTAMP:20260420T080549
CREATED:20260312T172611Z
LAST-MODIFIED:20260407T215852Z
UID:10001554-1867093200-1867100400@phillydragmafia.com
SUMMARY:Big\, Gay Trivia at Woody's
DESCRIPTION:A really BIG\, GAY Trivia comes to the infamous Woody’s on 13th Street! Play six rounds of trivia with Brittany Lynn and win some BIG prizes including a “Weekend Warrior Package” that includes Woody’s and Voyeur passes and drink tickets-and more! Weekly starting at 8pm-10pm.
URL:https://phillydragmafia.com/event/big-gay-trivia-at-woodys/2029-03-01/
LOCATION:Woody’s\, 212 S. 13th St\, Phila\, PA\, 19107\, United States
CATEGORIES:Community Event,Drag Shows,Trivia Night
ATTACH;FMTTYPE=image/jpeg:https://phillydragmafia.com/wp-content/uploads/2026/03/unnamed.jpg
END:VEVENT
BEGIN:VEVENT
DTSTART;TZID=America/New_York:20290308T210000
DTEND;TZID=America/New_York:20290308T230000
DTSTAMP:20260420T080549
CREATED:20260312T172611Z
LAST-MODIFIED:20260407T215852Z
UID:10001555-1867698000-1867705200@phillydragmafia.com
SUMMARY:Big\, Gay Trivia at Woody's
DESCRIPTION:A really BIG\, GAY Trivia comes to the infamous Woody’s on 13th Street! Play six rounds of trivia with Brittany Lynn and win some BIG prizes including a “Weekend Warrior Package” that includes Woody’s and Voyeur passes and drink tickets-and more! Weekly starting at 8pm-10pm.
URL:https://phillydragmafia.com/event/big-gay-trivia-at-woodys/2029-03-08/
LOCATION:Woody’s\, 212 S. 13th St\, Phila\, PA\, 19107\, United States
CATEGORIES:Community Event,Drag Shows,Trivia Night
ATTACH;FMTTYPE=image/jpeg:https://phillydragmafia.com/wp-content/uploads/2026/03/unnamed.jpg
END:VEVENT
BEGIN:VEVENT
DTSTART;TZID=America/New_York:20290315T210000
DTEND;TZID=America/New_York:20290315T230000
DTSTAMP:20260420T080549
CREATED:20260312T172611Z
LAST-MODIFIED:20260407T215852Z
UID:10001556-1868302800-1868310000@phillydragmafia.com
SUMMARY:Big\, Gay Trivia at Woody's
DESCRIPTION:A really BIG\, GAY Trivia comes to the infamous Woody’s on 13th Street! Play six rounds of trivia with Brittany Lynn and win some BIG prizes including a “Weekend Warrior Package” that includes Woody’s and Voyeur passes and drink tickets-and more! Weekly starting at 8pm-10pm.
URL:https://phillydragmafia.com/event/big-gay-trivia-at-woodys/2029-03-15/
LOCATION:Woody’s\, 212 S. 13th St\, Phila\, PA\, 19107\, United States
CATEGORIES:Community Event,Drag Shows,Trivia Night
ATTACH;FMTTYPE=image/jpeg:https://phillydragmafia.com/wp-content/uploads/2026/03/unnamed.jpg
END:VEVENT
BEGIN:VEVENT
DTSTART;TZID=America/New_York:20290322T210000
DTEND;TZID=America/New_York:20290322T230000
DTSTAMP:20260420T080549
CREATED:20260312T172611Z
LAST-MODIFIED:20260407T215852Z
UID:10001557-1868907600-1868914800@phillydragmafia.com
SUMMARY:Big\, Gay Trivia at Woody's
DESCRIPTION:A really BIG\, GAY Trivia comes to the infamous Woody’s on 13th Street! Play six rounds of trivia with Brittany Lynn and win some BIG prizes including a “Weekend Warrior Package” that includes Woody’s and Voyeur passes and drink tickets-and more! Weekly starting at 8pm-10pm.
URL:https://phillydragmafia.com/event/big-gay-trivia-at-woodys/2029-03-22/
LOCATION:Woody’s\, 212 S. 13th St\, Phila\, PA\, 19107\, United States
CATEGORIES:Community Event,Drag Shows,Trivia Night
ATTACH;FMTTYPE=image/jpeg:https://phillydragmafia.com/wp-content/uploads/2026/03/unnamed.jpg
END:VEVENT
BEGIN:VEVENT
DTSTART;TZID=America/New_York:20290329T210000
DTEND;TZID=America/New_York:20290329T230000
DTSTAMP:20260420T080549
CREATED:20260312T172611Z
LAST-MODIFIED:20260407T215852Z
UID:10001558-1869512400-1869519600@phillydragmafia.com
SUMMARY:Big\, Gay Trivia at Woody's
DESCRIPTION:A really BIG\, GAY Trivia comes to the infamous Woody’s on 13th Street! Play six rounds of trivia with Brittany Lynn and win some BIG prizes including a “Weekend Warrior Package” that includes Woody’s and Voyeur passes and drink tickets-and more! Weekly starting at 8pm-10pm.
URL:https://phillydragmafia.com/event/big-gay-trivia-at-woodys/2029-03-29/
LOCATION:Woody’s\, 212 S. 13th St\, Phila\, PA\, 19107\, United States
CATEGORIES:Community Event,Drag Shows,Trivia Night
ATTACH;FMTTYPE=image/jpeg:https://phillydragmafia.com/wp-content/uploads/2026/03/unnamed.jpg
END:VEVENT
BEGIN:VEVENT
DTSTART;TZID=America/New_York:20290405T210000
DTEND;TZID=America/New_York:20290405T230000
DTSTAMP:20260420T080549
CREATED:20260312T172611Z
LAST-MODIFIED:20260407T215852Z
UID:10001559-1870117200-1870124400@phillydragmafia.com
SUMMARY:Big\, Gay Trivia at Woody's
DESCRIPTION:A really BIG\, GAY Trivia comes to the infamous Woody’s on 13th Street! Play six rounds of trivia with Brittany Lynn and win some BIG prizes including a “Weekend Warrior Package” that includes Woody’s and Voyeur passes and drink tickets-and more! Weekly starting at 8pm-10pm.
URL:https://phillydragmafia.com/event/big-gay-trivia-at-woodys/2029-04-05/
LOCATION:Woody’s\, 212 S. 13th St\, Phila\, PA\, 19107\, United States
CATEGORIES:Community Event,Drag Shows,Trivia Night
ATTACH;FMTTYPE=image/jpeg:https://phillydragmafia.com/wp-content/uploads/2026/03/unnamed.jpg
END:VEVENT
BEGIN:VEVENT
DTSTART;TZID=America/New_York:20290412T210000
DTEND;TZID=America/New_York:20290412T230000
DTSTAMP:20260420T080549
CREATED:20260312T172611Z
LAST-MODIFIED:20260407T215852Z
UID:10001560-1870722000-1870729200@phillydragmafia.com
SUMMARY:Big\, Gay Trivia at Woody's
DESCRIPTION:A really BIG\, GAY Trivia comes to the infamous Woody’s on 13th Street! Play six rounds of trivia with Brittany Lynn and win some BIG prizes including a “Weekend Warrior Package” that includes Woody’s and Voyeur passes and drink tickets-and more! Weekly starting at 8pm-10pm.
URL:https://phillydragmafia.com/event/big-gay-trivia-at-woodys/2029-04-12/
LOCATION:Woody’s\, 212 S. 13th St\, Phila\, PA\, 19107\, United States
CATEGORIES:Community Event,Drag Shows,Trivia Night
ATTACH;FMTTYPE=image/jpeg:https://phillydragmafia.com/wp-content/uploads/2026/03/unnamed.jpg
END:VEVENT
BEGIN:VEVENT
DTSTART;TZID=America/New_York:20290419T210000
DTEND;TZID=America/New_York:20290419T230000
DTSTAMP:20260420T080549
CREATED:20260312T172611Z
LAST-MODIFIED:20260407T215852Z
UID:10001561-1871326800-1871334000@phillydragmafia.com
SUMMARY:Big\, Gay Trivia at Woody's
DESCRIPTION:A really BIG\, GAY Trivia comes to the infamous Woody’s on 13th Street! Play six rounds of trivia with Brittany Lynn and win some BIG prizes including a “Weekend Warrior Package” that includes Woody’s and Voyeur passes and drink tickets-and more! Weekly starting at 8pm-10pm.
URL:https://phillydragmafia.com/event/big-gay-trivia-at-woodys/2029-04-19/
LOCATION:Woody’s\, 212 S. 13th St\, Phila\, PA\, 19107\, United States
CATEGORIES:Community Event,Drag Shows,Trivia Night
ATTACH;FMTTYPE=image/jpeg:https://phillydragmafia.com/wp-content/uploads/2026/03/unnamed.jpg
END:VEVENT
BEGIN:VEVENT
DTSTART;TZID=America/New_York:20290426T210000
DTEND;TZID=America/New_York:20290426T230000
DTSTAMP:20260420T080549
CREATED:20260312T172611Z
LAST-MODIFIED:20260407T215852Z
UID:10001562-1871931600-1871938800@phillydragmafia.com
SUMMARY:Big\, Gay Trivia at Woody's
DESCRIPTION:A really BIG\, GAY Trivia comes to the infamous Woody’s on 13th Street! Play six rounds of trivia with Brittany Lynn and win some BIG prizes including a “Weekend Warrior Package” that includes Woody’s and Voyeur passes and drink tickets-and more! Weekly starting at 8pm-10pm.
URL:https://phillydragmafia.com/event/big-gay-trivia-at-woodys/2029-04-26/
LOCATION:Woody’s\, 212 S. 13th St\, Phila\, PA\, 19107\, United States
CATEGORIES:Community Event,Drag Shows,Trivia Night
ATTACH;FMTTYPE=image/jpeg:https://phillydragmafia.com/wp-content/uploads/2026/03/unnamed.jpg
END:VEVENT
BEGIN:VEVENT
DTSTART;TZID=America/New_York:20290503T210000
DTEND;TZID=America/New_York:20290503T230000
DTSTAMP:20260420T080549
CREATED:20260312T172611Z
LAST-MODIFIED:20260407T215852Z
UID:10001563-1872536400-1872543600@phillydragmafia.com
SUMMARY:Big\, Gay Trivia at Woody's
DESCRIPTION:A really BIG\, GAY Trivia comes to the infamous Woody’s on 13th Street! Play six rounds of trivia with Brittany Lynn and win some BIG prizes including a “Weekend Warrior Package” that includes Woody’s and Voyeur passes and drink tickets-and more! Weekly starting at 8pm-10pm.
URL:https://phillydragmafia.com/event/big-gay-trivia-at-woodys/2029-05-03/
LOCATION:Woody’s\, 212 S. 13th St\, Phila\, PA\, 19107\, United States
CATEGORIES:Community Event,Drag Shows,Trivia Night
ATTACH;FMTTYPE=image/jpeg:https://phillydragmafia.com/wp-content/uploads/2026/03/unnamed.jpg
END:VEVENT
BEGIN:VEVENT
DTSTART;TZID=America/New_York:20290510T210000
DTEND;TZID=America/New_York:20290510T230000
DTSTAMP:20260420T080549
CREATED:20260312T172611Z
LAST-MODIFIED:20260407T215852Z
UID:10001564-1873141200-1873148400@phillydragmafia.com
SUMMARY:Big\, Gay Trivia at Woody's
DESCRIPTION:A really BIG\, GAY Trivia comes to the infamous Woody’s on 13th Street! Play six rounds of trivia with Brittany Lynn and win some BIG prizes including a “Weekend Warrior Package” that includes Woody’s and Voyeur passes and drink tickets-and more! Weekly starting at 8pm-10pm.
URL:https://phillydragmafia.com/event/big-gay-trivia-at-woodys/2029-05-10/
LOCATION:Woody’s\, 212 S. 13th St\, Phila\, PA\, 19107\, United States
CATEGORIES:Community Event,Drag Shows,Trivia Night
ATTACH;FMTTYPE=image/jpeg:https://phillydragmafia.com/wp-content/uploads/2026/03/unnamed.jpg
END:VEVENT
BEGIN:VEVENT
DTSTART;TZID=America/New_York:20290517T210000
DTEND;TZID=America/New_York:20290517T230000
DTSTAMP:20260420T080549
CREATED:20260312T172611Z
LAST-MODIFIED:20260407T215852Z
UID:10001565-1873746000-1873753200@phillydragmafia.com
SUMMARY:Big\, Gay Trivia at Woody's
DESCRIPTION:A really BIG\, GAY Trivia comes to the infamous Woody’s on 13th Street! Play six rounds of trivia with Brittany Lynn and win some BIG prizes including a “Weekend Warrior Package” that includes Woody’s and Voyeur passes and drink tickets-and more! Weekly starting at 8pm-10pm.
URL:https://phillydragmafia.com/event/big-gay-trivia-at-woodys/2029-05-17/
LOCATION:Woody’s\, 212 S. 13th St\, Phila\, PA\, 19107\, United States
CATEGORIES:Community Event,Drag Shows,Trivia Night
ATTACH;FMTTYPE=image/jpeg:https://phillydragmafia.com/wp-content/uploads/2026/03/unnamed.jpg
END:VEVENT
BEGIN:VEVENT
DTSTART;TZID=America/New_York:20290524T210000
DTEND;TZID=America/New_York:20290524T230000
DTSTAMP:20260420T080549
CREATED:20260312T172611Z
LAST-MODIFIED:20260407T215852Z
UID:10001566-1874350800-1874358000@phillydragmafia.com
SUMMARY:Big\, Gay Trivia at Woody's
DESCRIPTION:A really BIG\, GAY Trivia comes to the infamous Woody’s on 13th Street! Play six rounds of trivia with Brittany Lynn and win some BIG prizes including a “Weekend Warrior Package” that includes Woody’s and Voyeur passes and drink tickets-and more! Weekly starting at 8pm-10pm.
URL:https://phillydragmafia.com/event/big-gay-trivia-at-woodys/2029-05-24/
LOCATION:Woody’s\, 212 S. 13th St\, Phila\, PA\, 19107\, United States
CATEGORIES:Community Event,Drag Shows,Trivia Night
ATTACH;FMTTYPE=image/jpeg:https://phillydragmafia.com/wp-content/uploads/2026/03/unnamed.jpg
END:VEVENT
BEGIN:VEVENT
DTSTART;TZID=America/New_York:20290531T210000
DTEND;TZID=America/New_York:20290531T230000
DTSTAMP:20260420T080549
CREATED:20260312T172611Z
LAST-MODIFIED:20260407T215852Z
UID:10001567-1874955600-1874962800@phillydragmafia.com
SUMMARY:Big\, Gay Trivia at Woody's
DESCRIPTION:A really BIG\, GAY Trivia comes to the infamous Woody’s on 13th Street! Play six rounds of trivia with Brittany Lynn and win some BIG prizes including a “Weekend Warrior Package” that includes Woody’s and Voyeur passes and drink tickets-and more! Weekly starting at 8pm-10pm.
URL:https://phillydragmafia.com/event/big-gay-trivia-at-woodys/2029-05-31/
LOCATION:Woody’s\, 212 S. 13th St\, Phila\, PA\, 19107\, United States
CATEGORIES:Community Event,Drag Shows,Trivia Night
ATTACH;FMTTYPE=image/jpeg:https://phillydragmafia.com/wp-content/uploads/2026/03/unnamed.jpg
END:VEVENT
END:VCALENDAR