BEGIN:VCALENDAR
VERSION:2.0
PRODID:-//Philly Drag Mafia - ECPv6.15.20//NONSGML v1.0//EN
CALSCALE:GREGORIAN
METHOD:PUBLISH
X-WR-CALNAME:Philly Drag Mafia
X-ORIGINAL-URL:https://phillydragmafia.com
X-WR-CALDESC:Events for Philly Drag Mafia
REFRESH-INTERVAL;VALUE=DURATION:PT1H
X-Robots-Tag:noindex
X-PUBLISHED-TTL:PT1H
BEGIN:VTIMEZONE
TZID:America/New_York
BEGIN:DAYLIGHT
TZOFFSETFROM:-0500
TZOFFSETTO:-0400
TZNAME:EDT
DTSTART:20250309T070000
END:DAYLIGHT
BEGIN:STANDARD
TZOFFSETFROM:-0400
TZOFFSETTO:-0500
TZNAME:EST
DTSTART:20251102T060000
END:STANDARD
BEGIN:DAYLIGHT
TZOFFSETFROM:-0500
TZOFFSETTO:-0400
TZNAME:EDT
DTSTART:20260308T070000
END:DAYLIGHT
BEGIN:STANDARD
TZOFFSETFROM:-0400
TZOFFSETTO:-0500
TZNAME:EST
DTSTART:20261101T060000
END:STANDARD
BEGIN:DAYLIGHT
TZOFFSETFROM:-0500
TZOFFSETTO:-0400
TZNAME:EDT
DTSTART:20270314T070000
END:DAYLIGHT
BEGIN:STANDARD
TZOFFSETFROM:-0400
TZOFFSETTO:-0500
TZNAME:EST
DTSTART:20271107T060000
END:STANDARD
END:VTIMEZONE
BEGIN:VEVENT
DTSTART;TZID=America/New_York:20260528T210000
DTEND;TZID=America/New_York:20260528T230000
DTSTAMP:20260419T095910
CREATED:20260312T172611Z
LAST-MODIFIED:20260407T215852Z
UID:10001410-1780002000-1780009200@phillydragmafia.com
SUMMARY:Big\, Gay Trivia at Woody's
DESCRIPTION:A really BIG\, GAY Trivia comes to the infamous Woody’s on 13th Street! Play six rounds of trivia with Brittany Lynn and win some BIG prizes including a “Weekend Warrior Package” that includes Woody’s and Voyeur passes and drink tickets-and more! Weekly starting at 8pm-10pm.
URL:https://phillydragmafia.com/event/big-gay-trivia-at-woodys/2026-05-28/
LOCATION:Woody’s\, 212 S. 13th St\, Phila\, PA\, 19107\, United States
CATEGORIES:Community Event,Drag Shows,Trivia Night
ATTACH;FMTTYPE=image/jpeg:https://phillydragmafia.com/wp-content/uploads/2026/03/unnamed.jpg
END:VEVENT
BEGIN:VEVENT
DTSTART;TZID=America/New_York:20260604T210000
DTEND;TZID=America/New_York:20260604T230000
DTSTAMP:20260419T095910
CREATED:20260312T172611Z
LAST-MODIFIED:20260407T215852Z
UID:10001411-1780606800-1780614000@phillydragmafia.com
SUMMARY:Big\, Gay Trivia at Woody's
DESCRIPTION:A really BIG\, GAY Trivia comes to the infamous Woody’s on 13th Street! Play six rounds of trivia with Brittany Lynn and win some BIG prizes including a “Weekend Warrior Package” that includes Woody’s and Voyeur passes and drink tickets-and more! Weekly starting at 8pm-10pm.
URL:https://phillydragmafia.com/event/big-gay-trivia-at-woodys/2026-06-04/
LOCATION:Woody’s\, 212 S. 13th St\, Phila\, PA\, 19107\, United States
CATEGORIES:Community Event,Drag Shows,Trivia Night
ATTACH;FMTTYPE=image/jpeg:https://phillydragmafia.com/wp-content/uploads/2026/03/unnamed.jpg
END:VEVENT
BEGIN:VEVENT
DTSTART;TZID=America/New_York:20260606T100000
DTEND;TZID=America/New_York:20260606T140000
DTSTAMP:20260419T095910
CREATED:20260416T173858Z
LAST-MODIFIED:20260416T173858Z
UID:10001666-1780740000-1780754400@phillydragmafia.com
SUMMARY:Love Through Strength at the Canopy with Barry's!
DESCRIPTION:Pride = community & STRENGTH Barry’s x Canopy Philly: 50-min workout + after-party\, drag show\, drinks & more. Grab your pass! \nThis Pride\, we celebrate community & love through STRENGTH Join Barry’s x Canopy Philly Red Room Rush at Canopy by Hilton Philadelphia Center City for a 50-min outdoor Barry’s workout at Jefferson Plaza (12th & Chestnut)\, followed by an after-party with The Wayward & Mi Vida: Restore therapies\, drag show with Philly Drag Mafia\, food & drink specials\, and more! Limited spots — grab your passes today.
URL:https://phillydragmafia.com/event/love-through-strength-at-the-canopy-with-barrys/
LOCATION:Canopy\, 1180 Ludlow St.\, Phila\, PA\, 19107\, United States
CATEGORIES:Community Event,Drag Shows
ATTACH;FMTTYPE=image/jpeg:https://phillydragmafia.com/wp-content/uploads/2026/04/IMG_3287.jpg
END:VEVENT
BEGIN:VEVENT
DTSTART;TZID=America/New_York:20260611T210000
DTEND;TZID=America/New_York:20260611T230000
DTSTAMP:20260419T095910
CREATED:20260312T172611Z
LAST-MODIFIED:20260407T215852Z
UID:10001412-1781211600-1781218800@phillydragmafia.com
SUMMARY:Big\, Gay Trivia at Woody's
DESCRIPTION:A really BIG\, GAY Trivia comes to the infamous Woody’s on 13th Street! Play six rounds of trivia with Brittany Lynn and win some BIG prizes including a “Weekend Warrior Package” that includes Woody’s and Voyeur passes and drink tickets-and more! Weekly starting at 8pm-10pm.
URL:https://phillydragmafia.com/event/big-gay-trivia-at-woodys/2026-06-11/
LOCATION:Woody’s\, 212 S. 13th St\, Phila\, PA\, 19107\, United States
CATEGORIES:Community Event,Drag Shows,Trivia Night
ATTACH;FMTTYPE=image/jpeg:https://phillydragmafia.com/wp-content/uploads/2026/03/unnamed.jpg
END:VEVENT
BEGIN:VEVENT
DTSTART;TZID=America/New_York:20260618T210000
DTEND;TZID=America/New_York:20260618T230000
DTSTAMP:20260419T095910
CREATED:20260312T172611Z
LAST-MODIFIED:20260407T215852Z
UID:10001413-1781816400-1781823600@phillydragmafia.com
SUMMARY:Big\, Gay Trivia at Woody's
DESCRIPTION:A really BIG\, GAY Trivia comes to the infamous Woody’s on 13th Street! Play six rounds of trivia with Brittany Lynn and win some BIG prizes including a “Weekend Warrior Package” that includes Woody’s and Voyeur passes and drink tickets-and more! Weekly starting at 8pm-10pm.
URL:https://phillydragmafia.com/event/big-gay-trivia-at-woodys/2026-06-18/
LOCATION:Woody’s\, 212 S. 13th St\, Phila\, PA\, 19107\, United States
CATEGORIES:Community Event,Drag Shows,Trivia Night
ATTACH;FMTTYPE=image/jpeg:https://phillydragmafia.com/wp-content/uploads/2026/03/unnamed.jpg
END:VEVENT
BEGIN:VEVENT
DTSTART;TZID=America/New_York:20260625T210000
DTEND;TZID=America/New_York:20260625T230000
DTSTAMP:20260419T095910
CREATED:20260312T172611Z
LAST-MODIFIED:20260407T215852Z
UID:10001414-1782421200-1782428400@phillydragmafia.com
SUMMARY:Big\, Gay Trivia at Woody's
DESCRIPTION:A really BIG\, GAY Trivia comes to the infamous Woody’s on 13th Street! Play six rounds of trivia with Brittany Lynn and win some BIG prizes including a “Weekend Warrior Package” that includes Woody’s and Voyeur passes and drink tickets-and more! Weekly starting at 8pm-10pm.
URL:https://phillydragmafia.com/event/big-gay-trivia-at-woodys/2026-06-25/
LOCATION:Woody’s\, 212 S. 13th St\, Phila\, PA\, 19107\, United States
CATEGORIES:Community Event,Drag Shows,Trivia Night
ATTACH;FMTTYPE=image/jpeg:https://phillydragmafia.com/wp-content/uploads/2026/03/unnamed.jpg
END:VEVENT
BEGIN:VEVENT
DTSTART;TZID=America/New_York:20260626T190000
DTEND;TZID=America/New_York:20260626T210000
DTSTAMP:20260419T095910
CREATED:20260412T150446Z
LAST-MODIFIED:20260412T150446Z
UID:10001665-1782500400-1782507600@phillydragmafia.com
SUMMARY:Sunset Drag Show at Bok Bar - PRIDE EDITION
DESCRIPTION:Join Philly’s Brittany Lynn and her Drag Mafia for a MONTHLY show at Bok Bar! Brittany and her drag troupe have been performing in Philadelphia for over twenty years — with shows at casinos\, restaurants\, and concert venues all over the tri-state area! Serving you the best in celebrity impersonation\, this is the closest thing to real celebrities you’ll get to see in South Philly! \nBrittany Lynn is not only the “Don” of the Philly Drag Mafia\, but she also created the Miss Fancy Brigade (the only all LGBTQIA Mummers Brigade that proudly marches every New Year’s Day in the parade)\, and she created the Drag Queen Story Time program for the Philadelphia Library system\, museums\, and Philadelphia Parks and Rec. \nDrag Mafia is the most award-winning drag troupe around — not only for their shows\, but for their work with multiple charities on various platforms. So come on OUT and play with us! \nDoors will open promptly at 5pm for normal service\, with the show running from 7-9 pm. Guests will be seated in order of arrival time. We cannot wait to see you up on the roof!
URL:https://phillydragmafia.com/event/sunset-drag-show-at-bok-bar-pride-edition/
LOCATION:Bok Bar\, 800 Mifflin St\, Phila\, PA\, 19148\, United States
CATEGORIES:Community Event,Dance Party,Drag Shows
ATTACH;FMTTYPE=image/jpeg:https://phillydragmafia.com/wp-content/uploads/2026/04/unnamed-1.jpg
END:VEVENT
BEGIN:VEVENT
DTSTART;TZID=America/New_York:20260702T210000
DTEND;TZID=America/New_York:20260702T230000
DTSTAMP:20260419T095910
CREATED:20260312T172611Z
LAST-MODIFIED:20260407T215852Z
UID:10001415-1783026000-1783033200@phillydragmafia.com
SUMMARY:Big\, Gay Trivia at Woody's
DESCRIPTION:A really BIG\, GAY Trivia comes to the infamous Woody’s on 13th Street! Play six rounds of trivia with Brittany Lynn and win some BIG prizes including a “Weekend Warrior Package” that includes Woody’s and Voyeur passes and drink tickets-and more! Weekly starting at 8pm-10pm.
URL:https://phillydragmafia.com/event/big-gay-trivia-at-woodys/2026-07-02/
LOCATION:Woody’s\, 212 S. 13th St\, Phila\, PA\, 19107\, United States
CATEGORIES:Community Event,Drag Shows,Trivia Night
ATTACH;FMTTYPE=image/jpeg:https://phillydragmafia.com/wp-content/uploads/2026/03/unnamed.jpg
END:VEVENT
BEGIN:VEVENT
DTSTART;TZID=America/New_York:20260709T210000
DTEND;TZID=America/New_York:20260709T230000
DTSTAMP:20260419T095910
CREATED:20260312T172611Z
LAST-MODIFIED:20260407T215852Z
UID:10001416-1783630800-1783638000@phillydragmafia.com
SUMMARY:Big\, Gay Trivia at Woody's
DESCRIPTION:A really BIG\, GAY Trivia comes to the infamous Woody’s on 13th Street! Play six rounds of trivia with Brittany Lynn and win some BIG prizes including a “Weekend Warrior Package” that includes Woody’s and Voyeur passes and drink tickets-and more! Weekly starting at 8pm-10pm.
URL:https://phillydragmafia.com/event/big-gay-trivia-at-woodys/2026-07-09/
LOCATION:Woody’s\, 212 S. 13th St\, Phila\, PA\, 19107\, United States
CATEGORIES:Community Event,Drag Shows,Trivia Night
ATTACH;FMTTYPE=image/jpeg:https://phillydragmafia.com/wp-content/uploads/2026/03/unnamed.jpg
END:VEVENT
BEGIN:VEVENT
DTSTART;TZID=America/New_York:20260716T210000
DTEND;TZID=America/New_York:20260716T230000
DTSTAMP:20260419T095910
CREATED:20260312T172611Z
LAST-MODIFIED:20260407T215852Z
UID:10001417-1784235600-1784242800@phillydragmafia.com
SUMMARY:Big\, Gay Trivia at Woody's
DESCRIPTION:A really BIG\, GAY Trivia comes to the infamous Woody’s on 13th Street! Play six rounds of trivia with Brittany Lynn and win some BIG prizes including a “Weekend Warrior Package” that includes Woody’s and Voyeur passes and drink tickets-and more! Weekly starting at 8pm-10pm.
URL:https://phillydragmafia.com/event/big-gay-trivia-at-woodys/2026-07-16/
LOCATION:Woody’s\, 212 S. 13th St\, Phila\, PA\, 19107\, United States
CATEGORIES:Community Event,Drag Shows,Trivia Night
ATTACH;FMTTYPE=image/jpeg:https://phillydragmafia.com/wp-content/uploads/2026/03/unnamed.jpg
END:VEVENT
BEGIN:VEVENT
DTSTART;TZID=America/New_York:20260723T210000
DTEND;TZID=America/New_York:20260723T230000
DTSTAMP:20260419T095910
CREATED:20260312T172611Z
LAST-MODIFIED:20260407T215852Z
UID:10001418-1784840400-1784847600@phillydragmafia.com
SUMMARY:Big\, Gay Trivia at Woody's
DESCRIPTION:A really BIG\, GAY Trivia comes to the infamous Woody’s on 13th Street! Play six rounds of trivia with Brittany Lynn and win some BIG prizes including a “Weekend Warrior Package” that includes Woody’s and Voyeur passes and drink tickets-and more! Weekly starting at 8pm-10pm.
URL:https://phillydragmafia.com/event/big-gay-trivia-at-woodys/2026-07-23/
LOCATION:Woody’s\, 212 S. 13th St\, Phila\, PA\, 19107\, United States
CATEGORIES:Community Event,Drag Shows,Trivia Night
ATTACH;FMTTYPE=image/jpeg:https://phillydragmafia.com/wp-content/uploads/2026/03/unnamed.jpg
END:VEVENT
BEGIN:VEVENT
DTSTART;TZID=America/New_York:20260730T210000
DTEND;TZID=America/New_York:20260730T230000
DTSTAMP:20260419T095910
CREATED:20260312T172611Z
LAST-MODIFIED:20260407T215852Z
UID:10001419-1785445200-1785452400@phillydragmafia.com
SUMMARY:Big\, Gay Trivia at Woody's
DESCRIPTION:A really BIG\, GAY Trivia comes to the infamous Woody’s on 13th Street! Play six rounds of trivia with Brittany Lynn and win some BIG prizes including a “Weekend Warrior Package” that includes Woody’s and Voyeur passes and drink tickets-and more! Weekly starting at 8pm-10pm.
URL:https://phillydragmafia.com/event/big-gay-trivia-at-woodys/2026-07-30/
LOCATION:Woody’s\, 212 S. 13th St\, Phila\, PA\, 19107\, United States
CATEGORIES:Community Event,Drag Shows,Trivia Night
ATTACH;FMTTYPE=image/jpeg:https://phillydragmafia.com/wp-content/uploads/2026/03/unnamed.jpg
END:VEVENT
BEGIN:VEVENT
DTSTART;TZID=America/New_York:20260806T210000
DTEND;TZID=America/New_York:20260806T230000
DTSTAMP:20260419T095910
CREATED:20260312T172611Z
LAST-MODIFIED:20260407T215852Z
UID:10001420-1786050000-1786057200@phillydragmafia.com
SUMMARY:Big\, Gay Trivia at Woody's
DESCRIPTION:A really BIG\, GAY Trivia comes to the infamous Woody’s on 13th Street! Play six rounds of trivia with Brittany Lynn and win some BIG prizes including a “Weekend Warrior Package” that includes Woody’s and Voyeur passes and drink tickets-and more! Weekly starting at 8pm-10pm.
URL:https://phillydragmafia.com/event/big-gay-trivia-at-woodys/2026-08-06/
LOCATION:Woody’s\, 212 S. 13th St\, Phila\, PA\, 19107\, United States
CATEGORIES:Community Event,Drag Shows,Trivia Night
ATTACH;FMTTYPE=image/jpeg:https://phillydragmafia.com/wp-content/uploads/2026/03/unnamed.jpg
END:VEVENT
BEGIN:VEVENT
DTSTART;TZID=America/New_York:20260813T210000
DTEND;TZID=America/New_York:20260813T230000
DTSTAMP:20260419T095910
CREATED:20260312T172611Z
LAST-MODIFIED:20260407T215852Z
UID:10001421-1786654800-1786662000@phillydragmafia.com
SUMMARY:Big\, Gay Trivia at Woody's
DESCRIPTION:A really BIG\, GAY Trivia comes to the infamous Woody’s on 13th Street! Play six rounds of trivia with Brittany Lynn and win some BIG prizes including a “Weekend Warrior Package” that includes Woody’s and Voyeur passes and drink tickets-and more! Weekly starting at 8pm-10pm.
URL:https://phillydragmafia.com/event/big-gay-trivia-at-woodys/2026-08-13/
LOCATION:Woody’s\, 212 S. 13th St\, Phila\, PA\, 19107\, United States
CATEGORIES:Community Event,Drag Shows,Trivia Night
ATTACH;FMTTYPE=image/jpeg:https://phillydragmafia.com/wp-content/uploads/2026/03/unnamed.jpg
END:VEVENT
BEGIN:VEVENT
DTSTART;TZID=America/New_York:20260820T210000
DTEND;TZID=America/New_York:20260820T230000
DTSTAMP:20260419T095910
CREATED:20260312T172611Z
LAST-MODIFIED:20260407T215852Z
UID:10001422-1787259600-1787266800@phillydragmafia.com
SUMMARY:Big\, Gay Trivia at Woody's
DESCRIPTION:A really BIG\, GAY Trivia comes to the infamous Woody’s on 13th Street! Play six rounds of trivia with Brittany Lynn and win some BIG prizes including a “Weekend Warrior Package” that includes Woody’s and Voyeur passes and drink tickets-and more! Weekly starting at 8pm-10pm.
URL:https://phillydragmafia.com/event/big-gay-trivia-at-woodys/2026-08-20/
LOCATION:Woody’s\, 212 S. 13th St\, Phila\, PA\, 19107\, United States
CATEGORIES:Community Event,Drag Shows,Trivia Night
ATTACH;FMTTYPE=image/jpeg:https://phillydragmafia.com/wp-content/uploads/2026/03/unnamed.jpg
END:VEVENT
BEGIN:VEVENT
DTSTART;TZID=America/New_York:20260827T210000
DTEND;TZID=America/New_York:20260827T230000
DTSTAMP:20260419T095910
CREATED:20260312T172611Z
LAST-MODIFIED:20260407T215852Z
UID:10001423-1787864400-1787871600@phillydragmafia.com
SUMMARY:Big\, Gay Trivia at Woody's
DESCRIPTION:A really BIG\, GAY Trivia comes to the infamous Woody’s on 13th Street! Play six rounds of trivia with Brittany Lynn and win some BIG prizes including a “Weekend Warrior Package” that includes Woody’s and Voyeur passes and drink tickets-and more! Weekly starting at 8pm-10pm.
URL:https://phillydragmafia.com/event/big-gay-trivia-at-woodys/2026-08-27/
LOCATION:Woody’s\, 212 S. 13th St\, Phila\, PA\, 19107\, United States
CATEGORIES:Community Event,Drag Shows,Trivia Night
ATTACH;FMTTYPE=image/jpeg:https://phillydragmafia.com/wp-content/uploads/2026/03/unnamed.jpg
END:VEVENT
BEGIN:VEVENT
DTSTART;TZID=America/New_York:20260903T210000
DTEND;TZID=America/New_York:20260903T230000
DTSTAMP:20260419T095910
CREATED:20260312T172611Z
LAST-MODIFIED:20260407T215852Z
UID:10001424-1788469200-1788476400@phillydragmafia.com
SUMMARY:Big\, Gay Trivia at Woody's
DESCRIPTION:A really BIG\, GAY Trivia comes to the infamous Woody’s on 13th Street! Play six rounds of trivia with Brittany Lynn and win some BIG prizes including a “Weekend Warrior Package” that includes Woody’s and Voyeur passes and drink tickets-and more! Weekly starting at 8pm-10pm.
URL:https://phillydragmafia.com/event/big-gay-trivia-at-woodys/2026-09-03/
LOCATION:Woody’s\, 212 S. 13th St\, Phila\, PA\, 19107\, United States
CATEGORIES:Community Event,Drag Shows,Trivia Night
ATTACH;FMTTYPE=image/jpeg:https://phillydragmafia.com/wp-content/uploads/2026/03/unnamed.jpg
END:VEVENT
BEGIN:VEVENT
DTSTART;TZID=America/New_York:20260910T210000
DTEND;TZID=America/New_York:20260910T230000
DTSTAMP:20260419T095910
CREATED:20260312T172611Z
LAST-MODIFIED:20260407T215852Z
UID:10001425-1789074000-1789081200@phillydragmafia.com
SUMMARY:Big\, Gay Trivia at Woody's
DESCRIPTION:A really BIG\, GAY Trivia comes to the infamous Woody’s on 13th Street! Play six rounds of trivia with Brittany Lynn and win some BIG prizes including a “Weekend Warrior Package” that includes Woody’s and Voyeur passes and drink tickets-and more! Weekly starting at 8pm-10pm.
URL:https://phillydragmafia.com/event/big-gay-trivia-at-woodys/2026-09-10/
LOCATION:Woody’s\, 212 S. 13th St\, Phila\, PA\, 19107\, United States
CATEGORIES:Community Event,Drag Shows,Trivia Night
ATTACH;FMTTYPE=image/jpeg:https://phillydragmafia.com/wp-content/uploads/2026/03/unnamed.jpg
END:VEVENT
BEGIN:VEVENT
DTSTART;TZID=America/New_York:20260917T210000
DTEND;TZID=America/New_York:20260917T230000
DTSTAMP:20260419T095910
CREATED:20260312T172611Z
LAST-MODIFIED:20260407T215852Z
UID:10001426-1789678800-1789686000@phillydragmafia.com
SUMMARY:Big\, Gay Trivia at Woody's
DESCRIPTION:A really BIG\, GAY Trivia comes to the infamous Woody’s on 13th Street! Play six rounds of trivia with Brittany Lynn and win some BIG prizes including a “Weekend Warrior Package” that includes Woody’s and Voyeur passes and drink tickets-and more! Weekly starting at 8pm-10pm.
URL:https://phillydragmafia.com/event/big-gay-trivia-at-woodys/2026-09-17/
LOCATION:Woody’s\, 212 S. 13th St\, Phila\, PA\, 19107\, United States
CATEGORIES:Community Event,Drag Shows,Trivia Night
ATTACH;FMTTYPE=image/jpeg:https://phillydragmafia.com/wp-content/uploads/2026/03/unnamed.jpg
END:VEVENT
BEGIN:VEVENT
DTSTART;TZID=America/New_York:20260924T210000
DTEND;TZID=America/New_York:20260924T230000
DTSTAMP:20260419T095910
CREATED:20260312T172611Z
LAST-MODIFIED:20260407T215852Z
UID:10001427-1790283600-1790290800@phillydragmafia.com
SUMMARY:Big\, Gay Trivia at Woody's
DESCRIPTION:A really BIG\, GAY Trivia comes to the infamous Woody’s on 13th Street! Play six rounds of trivia with Brittany Lynn and win some BIG prizes including a “Weekend Warrior Package” that includes Woody’s and Voyeur passes and drink tickets-and more! Weekly starting at 8pm-10pm.
URL:https://phillydragmafia.com/event/big-gay-trivia-at-woodys/2026-09-24/
LOCATION:Woody’s\, 212 S. 13th St\, Phila\, PA\, 19107\, United States
CATEGORIES:Community Event,Drag Shows,Trivia Night
ATTACH;FMTTYPE=image/jpeg:https://phillydragmafia.com/wp-content/uploads/2026/03/unnamed.jpg
END:VEVENT
BEGIN:VEVENT
DTSTART;TZID=America/New_York:20261001T210000
DTEND;TZID=America/New_York:20261001T230000
DTSTAMP:20260419T095910
CREATED:20260312T172611Z
LAST-MODIFIED:20260407T215852Z
UID:10001428-1790888400-1790895600@phillydragmafia.com
SUMMARY:Big\, Gay Trivia at Woody's
DESCRIPTION:A really BIG\, GAY Trivia comes to the infamous Woody’s on 13th Street! Play six rounds of trivia with Brittany Lynn and win some BIG prizes including a “Weekend Warrior Package” that includes Woody’s and Voyeur passes and drink tickets-and more! Weekly starting at 8pm-10pm.
URL:https://phillydragmafia.com/event/big-gay-trivia-at-woodys/2026-10-01/
LOCATION:Woody’s\, 212 S. 13th St\, Phila\, PA\, 19107\, United States
CATEGORIES:Community Event,Drag Shows,Trivia Night
ATTACH;FMTTYPE=image/jpeg:https://phillydragmafia.com/wp-content/uploads/2026/03/unnamed.jpg
END:VEVENT
BEGIN:VEVENT
DTSTART;TZID=America/New_York:20261008T210000
DTEND;TZID=America/New_York:20261008T230000
DTSTAMP:20260419T095910
CREATED:20260312T172611Z
LAST-MODIFIED:20260407T215852Z
UID:10001429-1791493200-1791500400@phillydragmafia.com
SUMMARY:Big\, Gay Trivia at Woody's
DESCRIPTION:A really BIG\, GAY Trivia comes to the infamous Woody’s on 13th Street! Play six rounds of trivia with Brittany Lynn and win some BIG prizes including a “Weekend Warrior Package” that includes Woody’s and Voyeur passes and drink tickets-and more! Weekly starting at 8pm-10pm.
URL:https://phillydragmafia.com/event/big-gay-trivia-at-woodys/2026-10-08/
LOCATION:Woody’s\, 212 S. 13th St\, Phila\, PA\, 19107\, United States
CATEGORIES:Community Event,Drag Shows,Trivia Night
ATTACH;FMTTYPE=image/jpeg:https://phillydragmafia.com/wp-content/uploads/2026/03/unnamed.jpg
END:VEVENT
BEGIN:VEVENT
DTSTART;TZID=America/New_York:20261015T210000
DTEND;TZID=America/New_York:20261015T230000
DTSTAMP:20260419T095910
CREATED:20260312T172611Z
LAST-MODIFIED:20260407T215852Z
UID:10001430-1792098000-1792105200@phillydragmafia.com
SUMMARY:Big\, Gay Trivia at Woody's
DESCRIPTION:A really BIG\, GAY Trivia comes to the infamous Woody’s on 13th Street! Play six rounds of trivia with Brittany Lynn and win some BIG prizes including a “Weekend Warrior Package” that includes Woody’s and Voyeur passes and drink tickets-and more! Weekly starting at 8pm-10pm.
URL:https://phillydragmafia.com/event/big-gay-trivia-at-woodys/2026-10-15/
LOCATION:Woody’s\, 212 S. 13th St\, Phila\, PA\, 19107\, United States
CATEGORIES:Community Event,Drag Shows,Trivia Night
ATTACH;FMTTYPE=image/jpeg:https://phillydragmafia.com/wp-content/uploads/2026/03/unnamed.jpg
END:VEVENT
BEGIN:VEVENT
DTSTART;TZID=America/New_York:20261022T210000
DTEND;TZID=America/New_York:20261022T230000
DTSTAMP:20260419T095910
CREATED:20260312T172611Z
LAST-MODIFIED:20260407T215852Z
UID:10001431-1792702800-1792710000@phillydragmafia.com
SUMMARY:Big\, Gay Trivia at Woody's
DESCRIPTION:A really BIG\, GAY Trivia comes to the infamous Woody’s on 13th Street! Play six rounds of trivia with Brittany Lynn and win some BIG prizes including a “Weekend Warrior Package” that includes Woody’s and Voyeur passes and drink tickets-and more! Weekly starting at 8pm-10pm.
URL:https://phillydragmafia.com/event/big-gay-trivia-at-woodys/2026-10-22/
LOCATION:Woody’s\, 212 S. 13th St\, Phila\, PA\, 19107\, United States
CATEGORIES:Community Event,Drag Shows,Trivia Night
ATTACH;FMTTYPE=image/jpeg:https://phillydragmafia.com/wp-content/uploads/2026/03/unnamed.jpg
END:VEVENT
BEGIN:VEVENT
DTSTART;TZID=America/New_York:20261029T210000
DTEND;TZID=America/New_York:20261029T230000
DTSTAMP:20260419T095910
CREATED:20260312T172611Z
LAST-MODIFIED:20260407T215852Z
UID:10001432-1793307600-1793314800@phillydragmafia.com
SUMMARY:Big\, Gay Trivia at Woody's
DESCRIPTION:A really BIG\, GAY Trivia comes to the infamous Woody’s on 13th Street! Play six rounds of trivia with Brittany Lynn and win some BIG prizes including a “Weekend Warrior Package” that includes Woody’s and Voyeur passes and drink tickets-and more! Weekly starting at 8pm-10pm.
URL:https://phillydragmafia.com/event/big-gay-trivia-at-woodys/2026-10-29/
LOCATION:Woody’s\, 212 S. 13th St\, Phila\, PA\, 19107\, United States
CATEGORIES:Community Event,Drag Shows,Trivia Night
ATTACH;FMTTYPE=image/jpeg:https://phillydragmafia.com/wp-content/uploads/2026/03/unnamed.jpg
END:VEVENT
BEGIN:VEVENT
DTSTART;TZID=America/New_York:20261105T210000
DTEND;TZID=America/New_York:20261105T230000
DTSTAMP:20260419T095910
CREATED:20260312T172611Z
LAST-MODIFIED:20260407T215852Z
UID:10001433-1793912400-1793919600@phillydragmafia.com
SUMMARY:Big\, Gay Trivia at Woody's
DESCRIPTION:A really BIG\, GAY Trivia comes to the infamous Woody’s on 13th Street! Play six rounds of trivia with Brittany Lynn and win some BIG prizes including a “Weekend Warrior Package” that includes Woody’s and Voyeur passes and drink tickets-and more! Weekly starting at 8pm-10pm.
URL:https://phillydragmafia.com/event/big-gay-trivia-at-woodys/2026-11-05/
LOCATION:Woody’s\, 212 S. 13th St\, Phila\, PA\, 19107\, United States
CATEGORIES:Community Event,Drag Shows,Trivia Night
ATTACH;FMTTYPE=image/jpeg:https://phillydragmafia.com/wp-content/uploads/2026/03/unnamed.jpg
END:VEVENT
BEGIN:VEVENT
DTSTART;TZID=America/New_York:20261112T210000
DTEND;TZID=America/New_York:20261112T230000
DTSTAMP:20260419T095910
CREATED:20260312T172611Z
LAST-MODIFIED:20260407T215852Z
UID:10001434-1794517200-1794524400@phillydragmafia.com
SUMMARY:Big\, Gay Trivia at Woody's
DESCRIPTION:A really BIG\, GAY Trivia comes to the infamous Woody’s on 13th Street! Play six rounds of trivia with Brittany Lynn and win some BIG prizes including a “Weekend Warrior Package” that includes Woody’s and Voyeur passes and drink tickets-and more! Weekly starting at 8pm-10pm.
URL:https://phillydragmafia.com/event/big-gay-trivia-at-woodys/2026-11-12/
LOCATION:Woody’s\, 212 S. 13th St\, Phila\, PA\, 19107\, United States
CATEGORIES:Community Event,Drag Shows,Trivia Night
ATTACH;FMTTYPE=image/jpeg:https://phillydragmafia.com/wp-content/uploads/2026/03/unnamed.jpg
END:VEVENT
BEGIN:VEVENT
DTSTART;TZID=America/New_York:20261119T210000
DTEND;TZID=America/New_York:20261119T230000
DTSTAMP:20260419T095910
CREATED:20260312T172611Z
LAST-MODIFIED:20260407T215852Z
UID:10001435-1795122000-1795129200@phillydragmafia.com
SUMMARY:Big\, Gay Trivia at Woody's
DESCRIPTION:A really BIG\, GAY Trivia comes to the infamous Woody’s on 13th Street! Play six rounds of trivia with Brittany Lynn and win some BIG prizes including a “Weekend Warrior Package” that includes Woody’s and Voyeur passes and drink tickets-and more! Weekly starting at 8pm-10pm.
URL:https://phillydragmafia.com/event/big-gay-trivia-at-woodys/2026-11-19/
LOCATION:Woody’s\, 212 S. 13th St\, Phila\, PA\, 19107\, United States
CATEGORIES:Community Event,Drag Shows,Trivia Night
ATTACH;FMTTYPE=image/jpeg:https://phillydragmafia.com/wp-content/uploads/2026/03/unnamed.jpg
END:VEVENT
BEGIN:VEVENT
DTSTART;TZID=America/New_York:20261126T210000
DTEND;TZID=America/New_York:20261126T230000
DTSTAMP:20260419T095910
CREATED:20260312T172611Z
LAST-MODIFIED:20260407T215852Z
UID:10001436-1795726800-1795734000@phillydragmafia.com
SUMMARY:Big\, Gay Trivia at Woody's
DESCRIPTION:A really BIG\, GAY Trivia comes to the infamous Woody’s on 13th Street! Play six rounds of trivia with Brittany Lynn and win some BIG prizes including a “Weekend Warrior Package” that includes Woody’s and Voyeur passes and drink tickets-and more! Weekly starting at 8pm-10pm.
URL:https://phillydragmafia.com/event/big-gay-trivia-at-woodys/2026-11-26/
LOCATION:Woody’s\, 212 S. 13th St\, Phila\, PA\, 19107\, United States
CATEGORIES:Community Event,Drag Shows,Trivia Night
ATTACH;FMTTYPE=image/jpeg:https://phillydragmafia.com/wp-content/uploads/2026/03/unnamed.jpg
END:VEVENT
BEGIN:VEVENT
DTSTART;TZID=America/New_York:20261203T210000
DTEND;TZID=America/New_York:20261203T230000
DTSTAMP:20260419T095910
CREATED:20260312T172611Z
LAST-MODIFIED:20260407T215852Z
UID:10001437-1796331600-1796338800@phillydragmafia.com
SUMMARY:Big\, Gay Trivia at Woody's
DESCRIPTION:A really BIG\, GAY Trivia comes to the infamous Woody’s on 13th Street! Play six rounds of trivia with Brittany Lynn and win some BIG prizes including a “Weekend Warrior Package” that includes Woody’s and Voyeur passes and drink tickets-and more! Weekly starting at 8pm-10pm.
URL:https://phillydragmafia.com/event/big-gay-trivia-at-woodys/2026-12-03/
LOCATION:Woody’s\, 212 S. 13th St\, Phila\, PA\, 19107\, United States
CATEGORIES:Community Event,Drag Shows,Trivia Night
ATTACH;FMTTYPE=image/jpeg:https://phillydragmafia.com/wp-content/uploads/2026/03/unnamed.jpg
END:VEVENT
END:VCALENDAR