BEGIN:VCALENDAR
VERSION:2.0
PRODID:-//Philly Drag Mafia - ECPv6.15.20//NONSGML v1.0//EN
CALSCALE:GREGORIAN
METHOD:PUBLISH
X-WR-CALNAME:Philly Drag Mafia
X-ORIGINAL-URL:https://phillydragmafia.com
X-WR-CALDESC:Events for Philly Drag Mafia
REFRESH-INTERVAL;VALUE=DURATION:PT1H
X-Robots-Tag:noindex
X-PUBLISHED-TTL:PT1H
BEGIN:VTIMEZONE
TZID:America/New_York
BEGIN:DAYLIGHT
TZOFFSETFROM:-0500
TZOFFSETTO:-0400
TZNAME:EDT
DTSTART:20230312T070000
END:DAYLIGHT
BEGIN:STANDARD
TZOFFSETFROM:-0400
TZOFFSETTO:-0500
TZNAME:EST
DTSTART:20231105T060000
END:STANDARD
BEGIN:DAYLIGHT
TZOFFSETFROM:-0500
TZOFFSETTO:-0400
TZNAME:EDT
DTSTART:20240310T070000
END:DAYLIGHT
BEGIN:STANDARD
TZOFFSETFROM:-0400
TZOFFSETTO:-0500
TZNAME:EST
DTSTART:20241103T060000
END:STANDARD
BEGIN:DAYLIGHT
TZOFFSETFROM:-0500
TZOFFSETTO:-0400
TZNAME:EDT
DTSTART:20250309T070000
END:DAYLIGHT
BEGIN:STANDARD
TZOFFSETFROM:-0400
TZOFFSETTO:-0500
TZNAME:EST
DTSTART:20251102T060000
END:STANDARD
END:VTIMEZONE
BEGIN:VEVENT
DTSTART;TZID=America/New_York:20240903T180000
DTEND;TZID=America/New_York:20240903T210000
DTSTAMP:20260421T074644
CREATED:20240814T134916Z
LAST-MODIFIED:20240814T134916Z
UID:10000746-1725386400-1725397200@phillydragmafia.com
SUMMARY:Drag Bingo at Resorts Casino
DESCRIPTION:Get ready for an unforgettable bingo night at the Glitter Bar! This won’t be your average bingo event – expect loads of laughter\, live music\, and an all-around amazing time. Join us on the first floor for a chance to win fantastic prizes and a $100 Coverall jackpot! Hosted by the fabulous Brittany Lynn with a live DJ set by Da BooBoo. See you there!\nFREE EVENT-get there early for your table!
URL:https://phillydragmafia.com/event/drag-bingo-at-resorts-casino-2/
LOCATION:Resorts Casino\, 1133 Boardwalk\, Atlantic City\, NJ\, 08401\, United States
CATEGORIES:Community Event,Drag Bingo,Drag Shows
ATTACH;FMTTYPE=image/png:https://phillydragmafia.com/wp-content/uploads/2024/08/Join-us-for-a-night-of-fun-and-games-ON-THE-FIRST-FLOOR-GLITTER-BAR.png
END:VEVENT
BEGIN:VEVENT
DTSTART;TZID=America/New_York:20240905T180000
DTEND;TZID=America/New_York:20240905T200000
DTSTAMP:20260421T074644
CREATED:20240901T140044Z
LAST-MODIFIED:20240901T140044Z
UID:10000752-1725559200-1725566400@phillydragmafia.com
SUMMARY:OUT for HARRIS-WALZ Social
DESCRIPTION:On Thursday\, September 5\, 2024\, from 6pm to 8pm\, the Harris-Walz Campaign will mobilize around the country\, specifically around communities that this election will directly affect. This event will be a social at @Ubar Philadelphia in the 1218 Room to celebrate the LGBTQ+ community. \nHere’s a direct link to buy tickets:\nhttps://www.mobilize.us/2024pavictory/event/674324/
URL:https://phillydragmafia.com/event/out-for-harris-walz-social/
LOCATION:Ubar\, 1220 Locust\, Phila\, PA\, 19107\, United States
CATEGORIES:Community Event
ATTACH;FMTTYPE=image/png:https://phillydragmafia.com/wp-content/uploads/2024/09/09.05.24-Out-for-Harris-Walz-Social-Flyer.png
END:VEVENT
BEGIN:VEVENT
DTSTART;TZID=America/New_York:20240908T110000
DTEND;TZID=America/New_York:20240908T140000
DTSTAMP:20260421T074644
CREATED:20240812T190453Z
LAST-MODIFIED:20240901T135154Z
UID:10000745-1725793200-1725804000@phillydragmafia.com
SUMMARY:END OF SUMMER DRAG BRUNCH AT CAULDRON PHILLY
DESCRIPTION:Join us for a fabulous Drag Brunch filled with glitter\, glamour\, and lip-syncing extravaganza at The Cauldron\, on 1305 Locust Street\, Philadelphia\, PA 19107. Hosted by Brittany Lynn (Winner Best of Philly 2022 and 2023- Best Drag Shows)\, this brunch is sure to dazzle the fussiest fairy in your crew! Shows and Stunts by the Philly Drag Mafia! Our Drag Brunch is the perfect way to start your day with laughter and entertainment. \nBe prepared to witness jaw-dropping performances by the most talented drag queens in town. Indulge in a delectable array of mouth-watering dishes while sipping on refreshing cocktails. \nWhether you’re a seasoned drag enthusiast or new to the scene\, our Drag Brunch guarantees a memorable experience for everyone. Get ready to dance\, sing along\, and immerse yourself in the vibrant atmosphere. \nMark your calendars for Sunday\, September 8th at 11:00 AM and secure your spot at this unforgettable event. \nGrab your friends\, bring your positive vibes\, and let’s make this Drag Brunch a day to remember! \nGeneral tickets include one welcome cocktail per guest. A mimosa welcome! \n*FOOD AND ADDITIONAL DRINK IS NOT INCLUDED IN TICKET PRICE UNLESS PAYING FOR A PACKAGE* \nDoors open at 11am\, show starts promptly at 12pm.
URL:https://phillydragmafia.com/event/end-of-summer-drag-brunch-at-cauldron-philly/
LOCATION:Cauldron Philly\, 1305 Locust St.\, Phila\, PA\, 19107\, United States
CATEGORIES:Drag Brunch,Drag Shows
ATTACH;FMTTYPE=image/jpeg:https://phillydragmafia.com/wp-content/uploads/2024/08/https___cdn.evbuc_.com_images_823326209_235383791913_1_original.jpg
END:VEVENT
BEGIN:VEVENT
DTSTART;TZID=America/New_York:20240919T180000
DTEND;TZID=America/New_York:20240919T210000
DTSTAMP:20260421T074644
CREATED:20240816T191552Z
LAST-MODIFIED:20240816T191552Z
UID:10000748-1726768800-1726779600@phillydragmafia.com
SUMMARY:QUEEN CABARET FUNDRAISER AT NOLA'S INSIDE OCEAN CASINO
DESCRIPTION:We’re thrilled to announce that a brand-new fundraiser\, “Queen Cabaret”\, benefiting Cancer Support Community New Jersey (CSCNJ) will take place on Thursday\, September 19th\, 2024\, from 6:00PM – 9:00PM at Nola’s inside of Ocean Casino Resort in Atlantic City. The cost is $75 for a general admission ticket or $100 for a VIP seating ticket. This price includes a gourmet buffet and an open bar of beer\, wine\, and fine crafted Tito’s cocktails. There will be a raffle with some exciting\, donated items along with a 50/50 raffle. The Drag Show will be performed by Brittany Lynn and the Philly Drag Mafia. This is an event that you don’t want to miss!    \nAll proceeds go directly to the free support programs at Cancer Support Community NJ for men\, women\, teens\, and children impacted by all forms of cancer\, at any stage of their cancer journey.
URL:https://phillydragmafia.com/event/queen-cabaret-fundraiser-at-nolas-inside-ocean-casino/
LOCATION:Ocean Casino\, 500 Boardwalk Ave.\, Atlantic City\, NJ\, 08401\, United States
CATEGORIES:Community Event,Drag Shows
ATTACH;FMTTYPE=image/png:https://phillydragmafia.com/wp-content/uploads/2024/08/drag-graphic-1.png
END:VEVENT
BEGIN:VEVENT
DTSTART;TZID=America/New_York:20240920T200000
DTEND;TZID=America/New_York:20240920T220000
DTSTAMP:20260421T074644
CREATED:20240814T142901Z
LAST-MODIFIED:20240814T142901Z
UID:10000747-1726862400-1726869600@phillydragmafia.com
SUMMARY:The Big\, Gay Variety Show at Manayunk Pop Up Gardens
DESCRIPTION:Head over to the fabulous Manayunk Pop Up Gardens for some live singing\, comedy\, and more-hosted by Brittany Lynn and featuring her best of the Philly Drag Mafia!\nShow starts promply at 8pm-FREE EVENT!\nMusic by Dj Da Boo Boo!
URL:https://phillydragmafia.com/event/the-big-gay-variety-show-at-manayunk-pop-up-gardens/
LOCATION:Manayunk Pop Up Garden\, 106 Jamestown Ave\, Phila\, PA\, 19107\, United States
CATEGORIES:Community Event,Drag Shows
ATTACH;FMTTYPE=image/png:https://phillydragmafia.com/wp-content/uploads/2024/08/BIG-GAY-VARIETY-SHOW.png
END:VEVENT
BEGIN:VEVENT
DTSTART;TZID=America/New_York:20240921T110000
DTEND;TZID=America/New_York:20240921T140000
DTSTAMP:20260421T074644
CREATED:20240731T135908Z
LAST-MODIFIED:20240731T140307Z
UID:10000739-1726916400-1726927200@phillydragmafia.com
SUMMARY:Drag Brunch at Brass Collar Brewing
DESCRIPTION:Drag brunch comes to Brass Collar Brewing in Souderton\, PA.! Featuring Philly’s top drag superstars! And EVERYONE is welcome to come OUT and play with us! \nWinner Philadelphia Magazine’s Best of Philly 2022 & 2023 for Best Drag Shows and Drag Brunches! \nFabulous food from Menagerie Foods and cocktails from Brass Collar Brewing! \nHosted by the Queen\, Brittany Lynn – and featuring the dolls of the Philly Drag Mafia\, vocalists\, and more! \nMusic and dancing with Dj Da Boo Boo! \n(*Food\, drinks\, and grat not included in this ticket purchase.)
URL:https://phillydragmafia.com/event/drag-brunch-at-brass-collar-brewing/
LOCATION:Brass Collar Brewing\, 100 South Front Street\, Souderton\, 18964\, United States
CATEGORIES:Drag Brunch,Drag Shows
ATTACH;FMTTYPE=image/png:https://phillydragmafia.com/wp-content/uploads/2024/07/DRAG.png
END:VEVENT
BEGIN:VEVENT
DTSTART;TZID=America/New_York:20240922T180000
DTEND;TZID=America/New_York:20240922T210000
DTSTAMP:20260421T074644
CREATED:20240918T151440Z
LAST-MODIFIED:20240918T151440Z
UID:10000764-1727028000-1727038800@phillydragmafia.com
SUMMARY:Drag Bingo for PFLAG
DESCRIPTION:Join us for a family friendly night of music\, bingo and Queens from the Philly Drag Mafia! There will be door prizes\, and themed baskets for the bingo winners.\nGrab some friends and family and prepare for an evening of fun! Attendees are welcome to bring food and drinks.\nEveryone 13+(with adult) is welcome!
URL:https://phillydragmafia.com/event/drag-bingo-for-pflag/
LOCATION:PA
CATEGORIES:Community Event,Drag Bingo,Drag Shows
ATTACH;FMTTYPE=image/jpeg:https://phillydragmafia.com/wp-content/uploads/2024/09/unnamed-1.jpg
END:VEVENT
BEGIN:VEVENT
DTSTART;TZID=America/New_York:20240927T190000
DTEND;TZID=America/New_York:20240927T220000
DTSTAMP:20260421T074644
CREATED:20240828T164657Z
LAST-MODIFIED:20240828T164657Z
UID:10000750-1727463600-1727474400@phillydragmafia.com
SUMMARY:Rocky Horror LIVE! At PHS Pop Up Garden Manayunk
DESCRIPTION:One fateful night\, Brad Majors and his fiancée\, Janet Weiss — a wholesome\, well-behaved\, utterly normal young couple in love — innocently set out to visit an old professor. Unfortunately for them\, this night out is destined to be one they will never forget. A thunderstorm and a flat-tire force them to seek help at the castle of Dr. Frank ’N’ Furter\, an alien\, transvestite scientist with a manic genius and insatiable libido. Brad\, Janet\, and Frank’ N’ Furter’s cohorts are swept up into the scientist’s latest experiment. The night’s misadventures will cause Brad and Janet to question everything they’ve known about themselves\, each other\, love\, and lust.  \nA loving homage to the classic B sci-fi film and horror genres with an irresistible rock’n’roll score\, The Rocky Horror Show is a hilarious\, wild ride that no audience will soon forget. \nVIP Priority Seating $35 (includes drink ticket and prop bag) \nGeneral Admission Seating $25
URL:https://phillydragmafia.com/event/rocky-horror-live-at-phs-pop-up-garden-manayunk/
LOCATION:PHS Pop Up Garden\, 106 Jamestown\, Philadelphia\, PA\, 19127\, United States
CATEGORIES:Community Event,Drag Shows
ATTACH;FMTTYPE=image/jpeg:https://phillydragmafia.com/wp-content/uploads/2024/08/2024-Retro-Rocky-Horror-Poster-scaled.jpg
END:VEVENT
BEGIN:VEVENT
DTSTART;TZID=America/New_York:20240929T110000
DTEND;TZID=America/New_York:20240929T140000
DTSTAMP:20260421T074644
CREATED:20240808T185709Z
LAST-MODIFIED:20240808T185709Z
UID:10000742-1727607600-1727618400@phillydragmafia.com
SUMMARY:Drag Brunch at BLDG 39 in the Arsenal
DESCRIPTION:Drag brunch comes to BLDG39 at the Arsenal in Bridesburg featuring Philly’s Top Drag SUPERSTARS! \nHosted by Philly’s Queen\, Brittany Lynn – and featuring the dolls of the Philly Drag Mafia – expect live singing\, stand up comedy\, and so much more! \nMusic and dancing with DJ Da Boo Boo!\nWinner Philadelphia Magazine’s Best of Philly 2022 & 2023 for Best Drag Shows and Drag Brunches!\nFabulous food from Wayne Leon and delicious brunch cocktails mixed by Events With ShaBars! \nEVERYONE is welcome to come OUT to play! \nDon’t forget your dollar bills to tip the Queens (and your bartenders!)\n(Drinks not included in this ticket purchase)
URL:https://phillydragmafia.com/event/drag-brunch-at-bldg-39-in-the-arsenal/
LOCATION:BLDG39\, 5401 Tacony Street\, Phila\, PA\, 19137\, United States
CATEGORIES:Community Event,Drag Brunch,Drag Shows
ATTACH;FMTTYPE=image/jpeg:https://phillydragmafia.com/wp-content/uploads/2024/08/https___cdn.evbuc_.com_images_816511679_1790924757003_1_original.jpg
END:VEVENT
END:VCALENDAR