BEGIN:VCALENDAR
VERSION:2.0
PRODID:-//Philly Drag Mafia - ECPv6.15.20//NONSGML v1.0//EN
CALSCALE:GREGORIAN
METHOD:PUBLISH
X-WR-CALNAME:Philly Drag Mafia
X-ORIGINAL-URL:https://phillydragmafia.com
X-WR-CALDESC:Events for Philly Drag Mafia
REFRESH-INTERVAL;VALUE=DURATION:PT1H
X-Robots-Tag:noindex
X-PUBLISHED-TTL:PT1H
BEGIN:VTIMEZONE
TZID:America/New_York
BEGIN:DAYLIGHT
TZOFFSETFROM:-0500
TZOFFSETTO:-0400
TZNAME:EDT
DTSTART:20240310T070000
END:DAYLIGHT
BEGIN:STANDARD
TZOFFSETFROM:-0400
TZOFFSETTO:-0500
TZNAME:EST
DTSTART:20241103T060000
END:STANDARD
BEGIN:DAYLIGHT
TZOFFSETFROM:-0500
TZOFFSETTO:-0400
TZNAME:EDT
DTSTART:20250309T070000
END:DAYLIGHT
BEGIN:STANDARD
TZOFFSETFROM:-0400
TZOFFSETTO:-0500
TZNAME:EST
DTSTART:20251102T060000
END:STANDARD
BEGIN:DAYLIGHT
TZOFFSETFROM:-0500
TZOFFSETTO:-0400
TZNAME:EDT
DTSTART:20260308T070000
END:DAYLIGHT
BEGIN:STANDARD
TZOFFSETFROM:-0400
TZOFFSETTO:-0500
TZNAME:EST
DTSTART:20261101T060000
END:STANDARD
END:VTIMEZONE
BEGIN:VEVENT
DTSTART;TZID=America/New_York:20250401T170000
DTEND;TZID=America/New_York:20250401T200000
DTSTAMP:20260421T180548
CREATED:20250326T095342Z
LAST-MODIFIED:20250326T095342Z
UID:10000883-1743526800-1743537600@phillydragmafia.com
SUMMARY:Queen Cabaret at Resorts Casino
DESCRIPTION:Join Brittany Lynn and The Philly Drag Mafia for a hilarious and fun cabaret – full of live singing\, comedy\, and drag! \nHappy hour starts at 5pm\, show at 6pm! \nMusic by Dj Da Boo Boo \nFREE EVENT!
URL:https://phillydragmafia.com/event/queen-cabaret-at-resorts-casino-6/
LOCATION:Resorts Casino\, 1133 Boardwalk\, Atlantic City\, NJ\, 08401\, United States
CATEGORIES:Community Event,Dance Party,Drag Shows
ATTACH;FMTTYPE=image/png:https://phillydragmafia.com/wp-content/uploads/2025/03/QUEEN-CABARET-1.png
END:VEVENT
BEGIN:VEVENT
DTSTART;TZID=America/New_York:20250402T180000
DTEND;TZID=America/New_York:20250402T210000
DTSTAMP:20260421T180548
CREATED:20250326T095742Z
LAST-MODIFIED:20250326T095742Z
UID:10000884-1743616800-1743627600@phillydragmafia.com
SUMMARY:Pixie Dust Wishes Drag Bingo - SOLD OUT!!!
DESCRIPTION:Time: 6:00 PM (Eastern Daylight Time) \nLocation:  Maggios Southampton \nPrice: $50\n* Tickets will include dinner\, 6 Bingo games and Bingo Daubers.  \nCome play BINGO and see the many more additional and fabulous raffles \nYour donation support Pixie Dust Wishes (pixiedustwishes.org) \nPixie Dust Wishes is a 501(c)3 non-profit organization founded by Jaimie Miller.  \nTheir mission is to grant Disney World trip wishes to individuals with disabilities/special needs throughout all of Pennsylvania. It costs thousands of dollars to send a family to Disney. With your help we have raised over $200\,000. To date and in only 7 short years since its creation\, Pixie Dust Wishes has granted Disney trip wishes to over 21 families.  \nGet ready to be entertained by talented drag performers who will host an evening of bingo like no other. Expect HILARIOUS banter\, and incredible prizes and simply just a “feel good” event. \nMark your calendars and get ready for an unforgettable night at the Pixie Dust Wishes Festival of Wishes in Memory of Dylan Singer Drag Bingo!\nIf you are unable to attend\, I would be grateful if you would click on the DONATI0N link and consider making a donation so we can continue to bring joy into the lives of others.\nXO\nCindy
URL:https://phillydragmafia.com/event/pixie-dust-wishes-drag-bingo-sold-out/
LOCATION:PA
CATEGORIES:Community Event,Drag Bingo,Drag Shows
ATTACH;FMTTYPE=image/png:https://phillydragmafia.com/wp-content/uploads/2025/03/genericImage-websiteLogo-239411-1728686997.25-0.bNcAUv.png
END:VEVENT
BEGIN:VEVENT
DTSTART;TZID=America/New_York:20250409T180000
DTEND;TZID=America/New_York:20250409T210000
DTSTAMP:20260421T180548
CREATED:20250208T181946Z
LAST-MODIFIED:20250208T181946Z
UID:10000870-1744221600-1744232400@phillydragmafia.com
SUMMARY:Drag Bingo Fundraiser at Keneseth Israel
DESCRIPTION:DRAG QUEEN BINGO! Weds. April 9\, 2025 from 6-9PM \nCost: $55 per person\n$500 per table of 10\n(Includes: 6 Bingo Cards\, Dauber & Door Prize Ticket)\n6:00pm – Check-In and Dinner\n7:00pm – Bingo & Entertainment Begins\nBring Extra Cash for Raffle Baskets (4 for $20) / Coverall Card ($10 each) /snacks and drinks (Venmo available). \nLocation: Reform Congregation Keneseth Israel\n8339 Old York Road\, Elkins Park\, PA 19046\nYummy Snacks & Dessert will be served. \nDinner and Drink packages available for $10 from Mr. Rick’s Hoagies in Jenkintown\nThere will be 2 choices: Turkey Hoagie or Veggie Hoagie\nPackage will include a bottle of water and bag of chips for $10.\nParties with multiple orders please indicate your choice of hoagie in box below. \nProceeds benefit KI’s HaMotzi Anti-Hunger Initiative\, as part of the Spring Celebration.
URL:https://phillydragmafia.com/event/drag-bingo-fundraiser-at-keneseth-israel/
LOCATION:Keneseth Israel\, 8339 Old York Rd.\, Elkins Park\, PA\, 19027\, United States
CATEGORIES:Community Event,Drag Bingo,Drag Shows
ATTACH;FMTTYPE=image/jpeg:https://phillydragmafia.com/wp-content/uploads/2025/02/unnamed-1.jpg
END:VEVENT
BEGIN:VEVENT
DTSTART;TZID=America/New_York:20250426T110000
DTEND;TZID=America/New_York:20250426T140000
DTSTAMP:20260421T180548
CREATED:20250310T003752Z
LAST-MODIFIED:20250310T003752Z
UID:10000881-1745665200-1745676000@phillydragmafia.com
SUMMARY:Drag Brunch at Keg & Kitchen
DESCRIPTION:Drag brunch is coming to HADDON\, NJ! \nGet ready for a fabulous morning filled with delicious food\, cocktails\, and jaw-dropping performances by the two-state area’s most talented queens! This brunch show is the perfect way to start your weekend! \nHosted by Brittany Lynn\, with performances by her Philly Drag Mafia – Winner Philadelphia Magazine’s Best of Philly 2022 AND 2023 – for BEST DRAG SHOWS AND DRAG BRUNCHES! \nDoors open at 11 AM and the show kicks off at 12 PM. \n*Ticket purchase includes your seat and two spectacular shows. Brunch food and drinks are additional purchases the day of the event. \nAbout Drag Mafia: \nBrittany and her Drag Mafia have been performing for over two decades — with shows at casinos\, restaurants\, and concert venues all over the tri-state area! \nDrag Mafia is the most award winning drag troupe around-not only for their shows\, but for their work with multiple charities on various platforms. Don’t miss out on this one hun-we are sure to please even the fussiest Queen in your crew!
URL:https://phillydragmafia.com/event/drag-brunch-at-keg-kitchen/
LOCATION:Keg & Kitchen\, 90 Haddon Avenue\, Haddon Township\, NJ\, 08108\, United States
CATEGORIES:Community Event,Drag Brunch,Drag Shows
ATTACH;FMTTYPE=image/png:https://phillydragmafia.com/wp-content/uploads/2025/03/Drag-8.5-x-11-in.png
END:VEVENT
BEGIN:VEVENT
DTSTART;TZID=America/New_York:20250426T210000
DTEND;TZID=America/New_York:20250426T230000
DTSTAMP:20260421T180548
CREATED:20250407T153609Z
LAST-MODIFIED:20250407T153609Z
UID:10000885-1745701200-1745708400@phillydragmafia.com
SUMMARY:254 Takeover
DESCRIPTION:Brittany Lynn and the Philly Drag Mafia take over the main stage at 254 in the Gayborhood!\nFeaturing Miss Redd\, Demi Gawdess\, and Miss Redd-with Dj Da Boo Boo! NO COVER!!! live singing\, drag\, comedy\, and more!
URL:https://phillydragmafia.com/event/254-takeover/
LOCATION:254\, 254 S. 12th St.\, Phila\, PA\, 19107\, United States
CATEGORIES:Community Event,Dance Party,Drag Shows
ATTACH;FMTTYPE=image/jpeg:https://phillydragmafia.com/wp-content/uploads/2025/04/Drag-Mafia-Takeover-Flyer-april-scaled.jpg
END:VEVENT
BEGIN:VEVENT
DTSTART;TZID=America/New_York:20250427T110000
DTEND;TZID=America/New_York:20250427T140000
DTSTAMP:20260421T180548
CREATED:20250303T133738Z
LAST-MODIFIED:20250303T133738Z
UID:10000880-1745751600-1745762400@phillydragmafia.com
SUMMARY:Drag Brunch at Silk City
DESCRIPTION:Drag brunch comes to No Libs at everyone’s fave spot- Silk City! \nGet ready – here comes your new Sunday Funday – filled with delicious food\, amazing cocktails\, and jaw-dropping performances by the tri-state area’s most talented queens! \nThis brunch has it all : drag queens\, live singing\, comedy\, and burlesque! \nDoors open at 11am\, shows start promptly at noon! \nHosted by Philly’s Queen of Queens – Brittany Lynn\, with performances by her Philly Drag Mafia! Winner of Philadelphia Magazine’s Best of Philly 2022 AND 2023 – for BEST DRAG SHOWS AND DRAG BRUNCHES! \nTickets are General Admission – Our tables can be moved to accomodate any size group. If you purchase more than one ticket to seat a group\, just let us know and we will make sure to seat your entire party together. \n*Ticket purchase includes your seat and two fabulous shows. Brunch food and drinks are additional purchases the day of the event. \nBrittany and her Drag Mafia have been performing for over two decades — with shows at casinos\, restaurants\, and concert venues all over the tri-state area! \nDrag Mafia is the most award winning drag troupe around-not only for their shows\, but for their work with multiple charities on various platforms. Don’t miss out on this one hun-we are sure to please even the fussiest Queen in your crew!
URL:https://phillydragmafia.com/event/drag-brunch-at-silk-city/
LOCATION:Silk City\, 435 Spring Garden\, Phila\, PA\, 19123-2846\, United States
CATEGORIES:Community Event,Drag Brunch,Drag Shows
ATTACH;FMTTYPE=image/jpeg:https://phillydragmafia.com/wp-content/uploads/2025/03/unnamed-scaled.jpg
END:VEVENT
END:VCALENDAR