BEGIN:VCALENDAR
VERSION:2.0
PRODID:-//Philly Drag Mafia - ECPv6.15.20//NONSGML v1.0//EN
CALSCALE:GREGORIAN
METHOD:PUBLISH
X-ORIGINAL-URL:https://phillydragmafia.com
X-WR-CALDESC:Events for Philly Drag Mafia
REFRESH-INTERVAL;VALUE=DURATION:PT1H
X-Robots-Tag:noindex
X-PUBLISHED-TTL:PT1H
BEGIN:VTIMEZONE
TZID:America/New_York
BEGIN:DAYLIGHT
TZOFFSETFROM:-0500
TZOFFSETTO:-0400
TZNAME:EDT
DTSTART:20220313T070000
END:DAYLIGHT
BEGIN:STANDARD
TZOFFSETFROM:-0400
TZOFFSETTO:-0500
TZNAME:EST
DTSTART:20221106T060000
END:STANDARD
BEGIN:DAYLIGHT
TZOFFSETFROM:-0500
TZOFFSETTO:-0400
TZNAME:EDT
DTSTART:20230312T070000
END:DAYLIGHT
BEGIN:STANDARD
TZOFFSETFROM:-0400
TZOFFSETTO:-0500
TZNAME:EST
DTSTART:20231105T060000
END:STANDARD
BEGIN:DAYLIGHT
TZOFFSETFROM:-0500
TZOFFSETTO:-0400
TZNAME:EDT
DTSTART:20240310T070000
END:DAYLIGHT
BEGIN:STANDARD
TZOFFSETFROM:-0400
TZOFFSETTO:-0500
TZNAME:EST
DTSTART:20241103T060000
END:STANDARD
END:VTIMEZONE
BEGIN:VEVENT
DTSTART;TZID=America/New_York:20230924T140000
DTEND;TZID=America/New_York:20230924T160000
DTSTAMP:20260420T013529
CREATED:20230901T065319Z
LAST-MODIFIED:20230901T065319Z
UID:10000008-1695564000-1695571200@phillydragmafia.com
SUMMARY:Drag Brunch at Bok Bar
DESCRIPTION:Brittany Lynn and her drag troupe have been performing for over twenty years — with shows at casinos\, restaurants\, and concert venues all over the tri-state area. Serving you the best in celebrity impersonation\, this is the closest thing to real celebrities you’ll get to see in South Philly!  \nBrittany Lynn is not only the “Don” of the Philly Drag Mafia\, but she also created the Miss Fancy Brigade (the only all LGBTQIA Mummers Brigade that proudly marches every New Year’s Day in the parade)\, and she created the Drag Queen Story Time program for the Philadelphia Library system\, museums\, and Philadelphia Parks and Rec.  \nDrag Mafia is the most award winning drag troupe around-not only for their shows\, but for their work with multiple charities on various platforms. So come on OUT and play with us! Doors will open promptly at 6pm\, with the show starting at 7pm. Guests will be seated in order of arrival time\, and we cannot guarantee a spot by the ledge or a spot in the shade.
URL:https://phillydragmafia.com/event/drag-brunch-at-bok-bar/
LOCATION:Bok Bar\, 800 Mifflin St\, Phila\, PA\, 19148\, United States
CATEGORIES:Drag Brunch,Drag Shows
ATTACH;FMTTYPE=image/png:https://phillydragmafia.com/wp-content/uploads/2022/07/IMG-9800.png
END:VEVENT
END:VCALENDAR