BEGIN:VCALENDAR
VERSION:2.0
PRODID:-//Philly Drag Mafia - ECPv6.15.20//NONSGML v1.0//EN
CALSCALE:GREGORIAN
METHOD:PUBLISH
X-ORIGINAL-URL:https://phillydragmafia.com
X-WR-CALDESC:Events for Philly Drag Mafia
REFRESH-INTERVAL;VALUE=DURATION:PT1H
X-Robots-Tag:noindex
X-PUBLISHED-TTL:PT1H
BEGIN:VTIMEZONE
TZID:America/New_York
BEGIN:DAYLIGHT
TZOFFSETFROM:-0500
TZOFFSETTO:-0400
TZNAME:EDT
DTSTART:20220313T070000
END:DAYLIGHT
BEGIN:STANDARD
TZOFFSETFROM:-0400
TZOFFSETTO:-0500
TZNAME:EST
DTSTART:20221106T060000
END:STANDARD
BEGIN:DAYLIGHT
TZOFFSETFROM:-0500
TZOFFSETTO:-0400
TZNAME:EDT
DTSTART:20230312T070000
END:DAYLIGHT
BEGIN:STANDARD
TZOFFSETFROM:-0400
TZOFFSETTO:-0500
TZNAME:EST
DTSTART:20231105T060000
END:STANDARD
BEGIN:DAYLIGHT
TZOFFSETFROM:-0500
TZOFFSETTO:-0400
TZNAME:EDT
DTSTART:20240310T070000
END:DAYLIGHT
BEGIN:STANDARD
TZOFFSETFROM:-0400
TZOFFSETTO:-0500
TZNAME:EST
DTSTART:20241103T060000
END:STANDARD
END:VTIMEZONE
BEGIN:VEVENT
DTSTART;TZID=America/New_York:20230907T183000
DTEND;TZID=America/New_York:20230907T210000
DTSTAMP:20260420T015441
CREATED:20230901T062146Z
LAST-MODIFIED:20230901T063727Z
UID:10000002-1694111400-1694120400@phillydragmafia.com
SUMMARY:Divas at The Garden- Manayunk
DESCRIPTION:Join us for a fabulous night of entertainment at PHS Pop Up Garden Manayunk ! Get ready to be dazzled by the most talented divas in town\, all brought together by the incredible Brittany Lynn. This event promises to be a night of glitz\, glamour\, and unforgettable performances. \nPrepare to be amazed as these divas take the stage and showcase their incredible talents. From stunning vocals to jaw-dropping dance routines\, this event is sure to leave you wanting more. \nSo gather your friends and get ready for a night of pure entertainment. Whether you’re a fan of drag or simply looking for a fun night out\, Diva’s At The Garden hosted by Brittany Lynn is the place to be. Don’t miss out on this incredible event!
URL:https://phillydragmafia.com/event/divas-at-the-garden-manayunk/
LOCATION:PHS Pop Up Garden\, 106 Jamestown\, Philadelphia\, PA\, 19127\, United States
CATEGORIES:Drag Shows
ATTACH;FMTTYPE=image/jpeg:https://phillydragmafia.com/wp-content/uploads/2023/08/BrittanyLynn1882.jpg
ORGANIZER;CN="PHS Pop Up Gardens":MAILTO:Thedragmafia@gmail.com
END:VEVENT
END:VCALENDAR