BEGIN:VCALENDAR
VERSION:2.0
PRODID:-//Philly Drag Mafia - ECPv6.15.20//NONSGML v1.0//EN
CALSCALE:GREGORIAN
METHOD:PUBLISH
X-ORIGINAL-URL:https://phillydragmafia.com
X-WR-CALDESC:Events for Philly Drag Mafia
REFRESH-INTERVAL;VALUE=DURATION:PT1H
X-Robots-Tag:noindex
X-PUBLISHED-TTL:PT1H
BEGIN:VTIMEZONE
TZID:America/New_York
BEGIN:DAYLIGHT
TZOFFSETFROM:-0500
TZOFFSETTO:-0400
TZNAME:EDT
DTSTART:20280312T070000
END:DAYLIGHT
BEGIN:STANDARD
TZOFFSETFROM:-0400
TZOFFSETTO:-0500
TZNAME:EST
DTSTART:20281105T060000
END:STANDARD
BEGIN:DAYLIGHT
TZOFFSETFROM:-0500
TZOFFSETTO:-0400
TZNAME:EDT
DTSTART:20290311T070000
END:DAYLIGHT
BEGIN:STANDARD
TZOFFSETFROM:-0400
TZOFFSETTO:-0500
TZNAME:EST
DTSTART:20291104T060000
END:STANDARD
BEGIN:DAYLIGHT
TZOFFSETFROM:-0500
TZOFFSETTO:-0400
TZNAME:EDT
DTSTART:20300310T070000
END:DAYLIGHT
BEGIN:STANDARD
TZOFFSETFROM:-0400
TZOFFSETTO:-0500
TZNAME:EST
DTSTART:20301103T060000
END:STANDARD
BEGIN:DAYLIGHT
TZOFFSETFROM:-0500
TZOFFSETTO:-0400
TZNAME:EDT
DTSTART:20310309T070000
END:DAYLIGHT
BEGIN:STANDARD
TZOFFSETFROM:-0400
TZOFFSETTO:-0500
TZNAME:EST
DTSTART:20311102T060000
END:STANDARD
END:VTIMEZONE
BEGIN:VEVENT
DTSTART;TZID=America/New_York:20291227T210000
DTEND;TZID=America/New_York:20291227T230000
DTSTAMP:20260420T195821
CREATED:20260312T172611Z
LAST-MODIFIED:20260407T215852Z
UID:10001597-1893099600-1893106800@phillydragmafia.com
SUMMARY:Big\, Gay Trivia at Woody's
DESCRIPTION:A really BIG\, GAY Trivia comes to the infamous Woody’s on 13th Street! Play six rounds of trivia with Brittany Lynn and win some BIG prizes including a “Weekend Warrior Package” that includes Woody’s and Voyeur passes and drink tickets-and more! Weekly starting at 8pm-10pm.
URL:https://phillydragmafia.com/event/big-gay-trivia-at-woodys/2029-12-27/
LOCATION:Woody’s\, 212 S. 13th St\, Phila\, PA\, 19107\, United States
CATEGORIES:Community Event,Drag Shows,Trivia Night
ATTACH;FMTTYPE=image/jpeg:https://phillydragmafia.com/wp-content/uploads/2026/03/unnamed.jpg
END:VEVENT
BEGIN:VEVENT
DTSTART;TZID=America/New_York:20300103T210000
DTEND;TZID=America/New_York:20300103T230000
DTSTAMP:20260420T195821
CREATED:20260312T172611Z
LAST-MODIFIED:20260407T215852Z
UID:10001598-1893704400-1893711600@phillydragmafia.com
SUMMARY:Big\, Gay Trivia at Woody's
DESCRIPTION:A really BIG\, GAY Trivia comes to the infamous Woody’s on 13th Street! Play six rounds of trivia with Brittany Lynn and win some BIG prizes including a “Weekend Warrior Package” that includes Woody’s and Voyeur passes and drink tickets-and more! Weekly starting at 8pm-10pm.
URL:https://phillydragmafia.com/event/big-gay-trivia-at-woodys/2030-01-03/
LOCATION:Woody’s\, 212 S. 13th St\, Phila\, PA\, 19107\, United States
CATEGORIES:Community Event,Drag Shows,Trivia Night
ATTACH;FMTTYPE=image/jpeg:https://phillydragmafia.com/wp-content/uploads/2026/03/unnamed.jpg
END:VEVENT
BEGIN:VEVENT
DTSTART;TZID=America/New_York:20300110T210000
DTEND;TZID=America/New_York:20300110T230000
DTSTAMP:20260420T195821
CREATED:20260312T172611Z
LAST-MODIFIED:20260407T215852Z
UID:10001599-1894309200-1894316400@phillydragmafia.com
SUMMARY:Big\, Gay Trivia at Woody's
DESCRIPTION:A really BIG\, GAY Trivia comes to the infamous Woody’s on 13th Street! Play six rounds of trivia with Brittany Lynn and win some BIG prizes including a “Weekend Warrior Package” that includes Woody’s and Voyeur passes and drink tickets-and more! Weekly starting at 8pm-10pm.
URL:https://phillydragmafia.com/event/big-gay-trivia-at-woodys/2030-01-10/
LOCATION:Woody’s\, 212 S. 13th St\, Phila\, PA\, 19107\, United States
CATEGORIES:Community Event,Drag Shows,Trivia Night
ATTACH;FMTTYPE=image/jpeg:https://phillydragmafia.com/wp-content/uploads/2026/03/unnamed.jpg
END:VEVENT
BEGIN:VEVENT
DTSTART;TZID=America/New_York:20300117T210000
DTEND;TZID=America/New_York:20300117T230000
DTSTAMP:20260420T195821
CREATED:20260312T172611Z
LAST-MODIFIED:20260407T215852Z
UID:10001600-1894914000-1894921200@phillydragmafia.com
SUMMARY:Big\, Gay Trivia at Woody's
DESCRIPTION:A really BIG\, GAY Trivia comes to the infamous Woody’s on 13th Street! Play six rounds of trivia with Brittany Lynn and win some BIG prizes including a “Weekend Warrior Package” that includes Woody’s and Voyeur passes and drink tickets-and more! Weekly starting at 8pm-10pm.
URL:https://phillydragmafia.com/event/big-gay-trivia-at-woodys/2030-01-17/
LOCATION:Woody’s\, 212 S. 13th St\, Phila\, PA\, 19107\, United States
CATEGORIES:Community Event,Drag Shows,Trivia Night
ATTACH;FMTTYPE=image/jpeg:https://phillydragmafia.com/wp-content/uploads/2026/03/unnamed.jpg
END:VEVENT
BEGIN:VEVENT
DTSTART;TZID=America/New_York:20300124T210000
DTEND;TZID=America/New_York:20300124T230000
DTSTAMP:20260420T195821
CREATED:20260312T172611Z
LAST-MODIFIED:20260407T215852Z
UID:10001601-1895518800-1895526000@phillydragmafia.com
SUMMARY:Big\, Gay Trivia at Woody's
DESCRIPTION:A really BIG\, GAY Trivia comes to the infamous Woody’s on 13th Street! Play six rounds of trivia with Brittany Lynn and win some BIG prizes including a “Weekend Warrior Package” that includes Woody’s and Voyeur passes and drink tickets-and more! Weekly starting at 8pm-10pm.
URL:https://phillydragmafia.com/event/big-gay-trivia-at-woodys/2030-01-24/
LOCATION:Woody’s\, 212 S. 13th St\, Phila\, PA\, 19107\, United States
CATEGORIES:Community Event,Drag Shows,Trivia Night
ATTACH;FMTTYPE=image/jpeg:https://phillydragmafia.com/wp-content/uploads/2026/03/unnamed.jpg
END:VEVENT
BEGIN:VEVENT
DTSTART;TZID=America/New_York:20300131T210000
DTEND;TZID=America/New_York:20300131T230000
DTSTAMP:20260420T195821
CREATED:20260312T172611Z
LAST-MODIFIED:20260407T215852Z
UID:10001602-1896123600-1896130800@phillydragmafia.com
SUMMARY:Big\, Gay Trivia at Woody's
DESCRIPTION:A really BIG\, GAY Trivia comes to the infamous Woody’s on 13th Street! Play six rounds of trivia with Brittany Lynn and win some BIG prizes including a “Weekend Warrior Package” that includes Woody’s and Voyeur passes and drink tickets-and more! Weekly starting at 8pm-10pm.
URL:https://phillydragmafia.com/event/big-gay-trivia-at-woodys/2030-01-31/
LOCATION:Woody’s\, 212 S. 13th St\, Phila\, PA\, 19107\, United States
CATEGORIES:Community Event,Drag Shows,Trivia Night
ATTACH;FMTTYPE=image/jpeg:https://phillydragmafia.com/wp-content/uploads/2026/03/unnamed.jpg
END:VEVENT
BEGIN:VEVENT
DTSTART;TZID=America/New_York:20300207T210000
DTEND;TZID=America/New_York:20300207T230000
DTSTAMP:20260420T195821
CREATED:20260312T172611Z
LAST-MODIFIED:20260407T215852Z
UID:10001603-1896728400-1896735600@phillydragmafia.com
SUMMARY:Big\, Gay Trivia at Woody's
DESCRIPTION:A really BIG\, GAY Trivia comes to the infamous Woody’s on 13th Street! Play six rounds of trivia with Brittany Lynn and win some BIG prizes including a “Weekend Warrior Package” that includes Woody’s and Voyeur passes and drink tickets-and more! Weekly starting at 8pm-10pm.
URL:https://phillydragmafia.com/event/big-gay-trivia-at-woodys/2030-02-07/
LOCATION:Woody’s\, 212 S. 13th St\, Phila\, PA\, 19107\, United States
CATEGORIES:Community Event,Drag Shows,Trivia Night
ATTACH;FMTTYPE=image/jpeg:https://phillydragmafia.com/wp-content/uploads/2026/03/unnamed.jpg
END:VEVENT
BEGIN:VEVENT
DTSTART;TZID=America/New_York:20300214T210000
DTEND;TZID=America/New_York:20300214T230000
DTSTAMP:20260420T195821
CREATED:20260312T172611Z
LAST-MODIFIED:20260407T215852Z
UID:10001604-1897333200-1897340400@phillydragmafia.com
SUMMARY:Big\, Gay Trivia at Woody's
DESCRIPTION:A really BIG\, GAY Trivia comes to the infamous Woody’s on 13th Street! Play six rounds of trivia with Brittany Lynn and win some BIG prizes including a “Weekend Warrior Package” that includes Woody’s and Voyeur passes and drink tickets-and more! Weekly starting at 8pm-10pm.
URL:https://phillydragmafia.com/event/big-gay-trivia-at-woodys/2030-02-14/
LOCATION:Woody’s\, 212 S. 13th St\, Phila\, PA\, 19107\, United States
CATEGORIES:Community Event,Drag Shows,Trivia Night
ATTACH;FMTTYPE=image/jpeg:https://phillydragmafia.com/wp-content/uploads/2026/03/unnamed.jpg
END:VEVENT
BEGIN:VEVENT
DTSTART;TZID=America/New_York:20300221T210000
DTEND;TZID=America/New_York:20300221T230000
DTSTAMP:20260420T195821
CREATED:20260312T172611Z
LAST-MODIFIED:20260407T215852Z
UID:10001605-1897938000-1897945200@phillydragmafia.com
SUMMARY:Big\, Gay Trivia at Woody's
DESCRIPTION:A really BIG\, GAY Trivia comes to the infamous Woody’s on 13th Street! Play six rounds of trivia with Brittany Lynn and win some BIG prizes including a “Weekend Warrior Package” that includes Woody’s and Voyeur passes and drink tickets-and more! Weekly starting at 8pm-10pm.
URL:https://phillydragmafia.com/event/big-gay-trivia-at-woodys/2030-02-21/
LOCATION:Woody’s\, 212 S. 13th St\, Phila\, PA\, 19107\, United States
CATEGORIES:Community Event,Drag Shows,Trivia Night
ATTACH;FMTTYPE=image/jpeg:https://phillydragmafia.com/wp-content/uploads/2026/03/unnamed.jpg
END:VEVENT
BEGIN:VEVENT
DTSTART;TZID=America/New_York:20300228T210000
DTEND;TZID=America/New_York:20300228T230000
DTSTAMP:20260420T195821
CREATED:20260312T172611Z
LAST-MODIFIED:20260407T215852Z
UID:10001606-1898542800-1898550000@phillydragmafia.com
SUMMARY:Big\, Gay Trivia at Woody's
DESCRIPTION:A really BIG\, GAY Trivia comes to the infamous Woody’s on 13th Street! Play six rounds of trivia with Brittany Lynn and win some BIG prizes including a “Weekend Warrior Package” that includes Woody’s and Voyeur passes and drink tickets-and more! Weekly starting at 8pm-10pm.
URL:https://phillydragmafia.com/event/big-gay-trivia-at-woodys/2030-02-28/
LOCATION:Woody’s\, 212 S. 13th St\, Phila\, PA\, 19107\, United States
CATEGORIES:Community Event,Drag Shows,Trivia Night
ATTACH;FMTTYPE=image/jpeg:https://phillydragmafia.com/wp-content/uploads/2026/03/unnamed.jpg
END:VEVENT
BEGIN:VEVENT
DTSTART;TZID=America/New_York:20300307T210000
DTEND;TZID=America/New_York:20300307T230000
DTSTAMP:20260420T195821
CREATED:20260312T172611Z
LAST-MODIFIED:20260407T215852Z
UID:10001607-1899147600-1899154800@phillydragmafia.com
SUMMARY:Big\, Gay Trivia at Woody's
DESCRIPTION:A really BIG\, GAY Trivia comes to the infamous Woody’s on 13th Street! Play six rounds of trivia with Brittany Lynn and win some BIG prizes including a “Weekend Warrior Package” that includes Woody’s and Voyeur passes and drink tickets-and more! Weekly starting at 8pm-10pm.
URL:https://phillydragmafia.com/event/big-gay-trivia-at-woodys/2030-03-07/
LOCATION:Woody’s\, 212 S. 13th St\, Phila\, PA\, 19107\, United States
CATEGORIES:Community Event,Drag Shows,Trivia Night
ATTACH;FMTTYPE=image/jpeg:https://phillydragmafia.com/wp-content/uploads/2026/03/unnamed.jpg
END:VEVENT
BEGIN:VEVENT
DTSTART;TZID=America/New_York:20300314T210000
DTEND;TZID=America/New_York:20300314T230000
DTSTAMP:20260420T195821
CREATED:20260312T172611Z
LAST-MODIFIED:20260407T215852Z
UID:10001608-1899752400-1899759600@phillydragmafia.com
SUMMARY:Big\, Gay Trivia at Woody's
DESCRIPTION:A really BIG\, GAY Trivia comes to the infamous Woody’s on 13th Street! Play six rounds of trivia with Brittany Lynn and win some BIG prizes including a “Weekend Warrior Package” that includes Woody’s and Voyeur passes and drink tickets-and more! Weekly starting at 8pm-10pm.
URL:https://phillydragmafia.com/event/big-gay-trivia-at-woodys/2030-03-14/
LOCATION:Woody’s\, 212 S. 13th St\, Phila\, PA\, 19107\, United States
CATEGORIES:Community Event,Drag Shows,Trivia Night
ATTACH;FMTTYPE=image/jpeg:https://phillydragmafia.com/wp-content/uploads/2026/03/unnamed.jpg
END:VEVENT
BEGIN:VEVENT
DTSTART;TZID=America/New_York:20300321T210000
DTEND;TZID=America/New_York:20300321T230000
DTSTAMP:20260420T195821
CREATED:20260312T172611Z
LAST-MODIFIED:20260407T215852Z
UID:10001609-1900357200-1900364400@phillydragmafia.com
SUMMARY:Big\, Gay Trivia at Woody's
DESCRIPTION:A really BIG\, GAY Trivia comes to the infamous Woody’s on 13th Street! Play six rounds of trivia with Brittany Lynn and win some BIG prizes including a “Weekend Warrior Package” that includes Woody’s and Voyeur passes and drink tickets-and more! Weekly starting at 8pm-10pm.
URL:https://phillydragmafia.com/event/big-gay-trivia-at-woodys/2030-03-21/
LOCATION:Woody’s\, 212 S. 13th St\, Phila\, PA\, 19107\, United States
CATEGORIES:Community Event,Drag Shows,Trivia Night
ATTACH;FMTTYPE=image/jpeg:https://phillydragmafia.com/wp-content/uploads/2026/03/unnamed.jpg
END:VEVENT
BEGIN:VEVENT
DTSTART;TZID=America/New_York:20300328T210000
DTEND;TZID=America/New_York:20300328T230000
DTSTAMP:20260420T195821
CREATED:20260312T172611Z
LAST-MODIFIED:20260407T215852Z
UID:10001610-1900962000-1900969200@phillydragmafia.com
SUMMARY:Big\, Gay Trivia at Woody's
DESCRIPTION:A really BIG\, GAY Trivia comes to the infamous Woody’s on 13th Street! Play six rounds of trivia with Brittany Lynn and win some BIG prizes including a “Weekend Warrior Package” that includes Woody’s and Voyeur passes and drink tickets-and more! Weekly starting at 8pm-10pm.
URL:https://phillydragmafia.com/event/big-gay-trivia-at-woodys/2030-03-28/
LOCATION:Woody’s\, 212 S. 13th St\, Phila\, PA\, 19107\, United States
CATEGORIES:Community Event,Drag Shows,Trivia Night
ATTACH;FMTTYPE=image/jpeg:https://phillydragmafia.com/wp-content/uploads/2026/03/unnamed.jpg
END:VEVENT
BEGIN:VEVENT
DTSTART;TZID=America/New_York:20300404T210000
DTEND;TZID=America/New_York:20300404T230000
DTSTAMP:20260420T195821
CREATED:20260312T172611Z
LAST-MODIFIED:20260407T215852Z
UID:10001611-1901566800-1901574000@phillydragmafia.com
SUMMARY:Big\, Gay Trivia at Woody's
DESCRIPTION:A really BIG\, GAY Trivia comes to the infamous Woody’s on 13th Street! Play six rounds of trivia with Brittany Lynn and win some BIG prizes including a “Weekend Warrior Package” that includes Woody’s and Voyeur passes and drink tickets-and more! Weekly starting at 8pm-10pm.
URL:https://phillydragmafia.com/event/big-gay-trivia-at-woodys/2030-04-04/
LOCATION:Woody’s\, 212 S. 13th St\, Phila\, PA\, 19107\, United States
CATEGORIES:Community Event,Drag Shows,Trivia Night
ATTACH;FMTTYPE=image/jpeg:https://phillydragmafia.com/wp-content/uploads/2026/03/unnamed.jpg
END:VEVENT
BEGIN:VEVENT
DTSTART;TZID=America/New_York:20300411T210000
DTEND;TZID=America/New_York:20300411T230000
DTSTAMP:20260420T195821
CREATED:20260312T172611Z
LAST-MODIFIED:20260407T215852Z
UID:10001612-1902171600-1902178800@phillydragmafia.com
SUMMARY:Big\, Gay Trivia at Woody's
DESCRIPTION:A really BIG\, GAY Trivia comes to the infamous Woody’s on 13th Street! Play six rounds of trivia with Brittany Lynn and win some BIG prizes including a “Weekend Warrior Package” that includes Woody’s and Voyeur passes and drink tickets-and more! Weekly starting at 8pm-10pm.
URL:https://phillydragmafia.com/event/big-gay-trivia-at-woodys/2030-04-11/
LOCATION:Woody’s\, 212 S. 13th St\, Phila\, PA\, 19107\, United States
CATEGORIES:Community Event,Drag Shows,Trivia Night
ATTACH;FMTTYPE=image/jpeg:https://phillydragmafia.com/wp-content/uploads/2026/03/unnamed.jpg
END:VEVENT
BEGIN:VEVENT
DTSTART;TZID=America/New_York:20300418T210000
DTEND;TZID=America/New_York:20300418T230000
DTSTAMP:20260420T195821
CREATED:20260312T172611Z
LAST-MODIFIED:20260407T215852Z
UID:10001613-1902776400-1902783600@phillydragmafia.com
SUMMARY:Big\, Gay Trivia at Woody's
DESCRIPTION:A really BIG\, GAY Trivia comes to the infamous Woody’s on 13th Street! Play six rounds of trivia with Brittany Lynn and win some BIG prizes including a “Weekend Warrior Package” that includes Woody’s and Voyeur passes and drink tickets-and more! Weekly starting at 8pm-10pm.
URL:https://phillydragmafia.com/event/big-gay-trivia-at-woodys/2030-04-18/
LOCATION:Woody’s\, 212 S. 13th St\, Phila\, PA\, 19107\, United States
CATEGORIES:Community Event,Drag Shows,Trivia Night
ATTACH;FMTTYPE=image/jpeg:https://phillydragmafia.com/wp-content/uploads/2026/03/unnamed.jpg
END:VEVENT
BEGIN:VEVENT
DTSTART;TZID=America/New_York:20300425T210000
DTEND;TZID=America/New_York:20300425T230000
DTSTAMP:20260420T195821
CREATED:20260312T172611Z
LAST-MODIFIED:20260407T215852Z
UID:10001614-1903381200-1903388400@phillydragmafia.com
SUMMARY:Big\, Gay Trivia at Woody's
DESCRIPTION:A really BIG\, GAY Trivia comes to the infamous Woody’s on 13th Street! Play six rounds of trivia with Brittany Lynn and win some BIG prizes including a “Weekend Warrior Package” that includes Woody’s and Voyeur passes and drink tickets-and more! Weekly starting at 8pm-10pm.
URL:https://phillydragmafia.com/event/big-gay-trivia-at-woodys/2030-04-25/
LOCATION:Woody’s\, 212 S. 13th St\, Phila\, PA\, 19107\, United States
CATEGORIES:Community Event,Drag Shows,Trivia Night
ATTACH;FMTTYPE=image/jpeg:https://phillydragmafia.com/wp-content/uploads/2026/03/unnamed.jpg
END:VEVENT
BEGIN:VEVENT
DTSTART;TZID=America/New_York:20300502T210000
DTEND;TZID=America/New_York:20300502T230000
DTSTAMP:20260420T195821
CREATED:20260312T172611Z
LAST-MODIFIED:20260407T215852Z
UID:10001615-1903986000-1903993200@phillydragmafia.com
SUMMARY:Big\, Gay Trivia at Woody's
DESCRIPTION:A really BIG\, GAY Trivia comes to the infamous Woody’s on 13th Street! Play six rounds of trivia with Brittany Lynn and win some BIG prizes including a “Weekend Warrior Package” that includes Woody’s and Voyeur passes and drink tickets-and more! Weekly starting at 8pm-10pm.
URL:https://phillydragmafia.com/event/big-gay-trivia-at-woodys/2030-05-02/
LOCATION:Woody’s\, 212 S. 13th St\, Phila\, PA\, 19107\, United States
CATEGORIES:Community Event,Drag Shows,Trivia Night
ATTACH;FMTTYPE=image/jpeg:https://phillydragmafia.com/wp-content/uploads/2026/03/unnamed.jpg
END:VEVENT
BEGIN:VEVENT
DTSTART;TZID=America/New_York:20300509T210000
DTEND;TZID=America/New_York:20300509T230000
DTSTAMP:20260420T195821
CREATED:20260312T172611Z
LAST-MODIFIED:20260407T215852Z
UID:10001616-1904590800-1904598000@phillydragmafia.com
SUMMARY:Big\, Gay Trivia at Woody's
DESCRIPTION:A really BIG\, GAY Trivia comes to the infamous Woody’s on 13th Street! Play six rounds of trivia with Brittany Lynn and win some BIG prizes including a “Weekend Warrior Package” that includes Woody’s and Voyeur passes and drink tickets-and more! Weekly starting at 8pm-10pm.
URL:https://phillydragmafia.com/event/big-gay-trivia-at-woodys/2030-05-09/
LOCATION:Woody’s\, 212 S. 13th St\, Phila\, PA\, 19107\, United States
CATEGORIES:Community Event,Drag Shows,Trivia Night
ATTACH;FMTTYPE=image/jpeg:https://phillydragmafia.com/wp-content/uploads/2026/03/unnamed.jpg
END:VEVENT
BEGIN:VEVENT
DTSTART;TZID=America/New_York:20300516T210000
DTEND;TZID=America/New_York:20300516T230000
DTSTAMP:20260420T195821
CREATED:20260312T172611Z
LAST-MODIFIED:20260407T215852Z
UID:10001617-1905195600-1905202800@phillydragmafia.com
SUMMARY:Big\, Gay Trivia at Woody's
DESCRIPTION:A really BIG\, GAY Trivia comes to the infamous Woody’s on 13th Street! Play six rounds of trivia with Brittany Lynn and win some BIG prizes including a “Weekend Warrior Package” that includes Woody’s and Voyeur passes and drink tickets-and more! Weekly starting at 8pm-10pm.
URL:https://phillydragmafia.com/event/big-gay-trivia-at-woodys/2030-05-16/
LOCATION:Woody’s\, 212 S. 13th St\, Phila\, PA\, 19107\, United States
CATEGORIES:Community Event,Drag Shows,Trivia Night
ATTACH;FMTTYPE=image/jpeg:https://phillydragmafia.com/wp-content/uploads/2026/03/unnamed.jpg
END:VEVENT
BEGIN:VEVENT
DTSTART;TZID=America/New_York:20300523T210000
DTEND;TZID=America/New_York:20300523T230000
DTSTAMP:20260420T195821
CREATED:20260312T172611Z
LAST-MODIFIED:20260407T215852Z
UID:10001618-1905800400-1905807600@phillydragmafia.com
SUMMARY:Big\, Gay Trivia at Woody's
DESCRIPTION:A really BIG\, GAY Trivia comes to the infamous Woody’s on 13th Street! Play six rounds of trivia with Brittany Lynn and win some BIG prizes including a “Weekend Warrior Package” that includes Woody’s and Voyeur passes and drink tickets-and more! Weekly starting at 8pm-10pm.
URL:https://phillydragmafia.com/event/big-gay-trivia-at-woodys/2030-05-23/
LOCATION:Woody’s\, 212 S. 13th St\, Phila\, PA\, 19107\, United States
CATEGORIES:Community Event,Drag Shows,Trivia Night
ATTACH;FMTTYPE=image/jpeg:https://phillydragmafia.com/wp-content/uploads/2026/03/unnamed.jpg
END:VEVENT
BEGIN:VEVENT
DTSTART;TZID=America/New_York:20300530T210000
DTEND;TZID=America/New_York:20300530T230000
DTSTAMP:20260420T195821
CREATED:20260312T172611Z
LAST-MODIFIED:20260407T215852Z
UID:10001619-1906405200-1906412400@phillydragmafia.com
SUMMARY:Big\, Gay Trivia at Woody's
DESCRIPTION:A really BIG\, GAY Trivia comes to the infamous Woody’s on 13th Street! Play six rounds of trivia with Brittany Lynn and win some BIG prizes including a “Weekend Warrior Package” that includes Woody’s and Voyeur passes and drink tickets-and more! Weekly starting at 8pm-10pm.
URL:https://phillydragmafia.com/event/big-gay-trivia-at-woodys/2030-05-30/
LOCATION:Woody’s\, 212 S. 13th St\, Phila\, PA\, 19107\, United States
CATEGORIES:Community Event,Drag Shows,Trivia Night
ATTACH;FMTTYPE=image/jpeg:https://phillydragmafia.com/wp-content/uploads/2026/03/unnamed.jpg
END:VEVENT
BEGIN:VEVENT
DTSTART;TZID=America/New_York:20300606T210000
DTEND;TZID=America/New_York:20300606T230000
DTSTAMP:20260420T195821
CREATED:20260312T172611Z
LAST-MODIFIED:20260407T215852Z
UID:10001620-1907010000-1907017200@phillydragmafia.com
SUMMARY:Big\, Gay Trivia at Woody's
DESCRIPTION:A really BIG\, GAY Trivia comes to the infamous Woody’s on 13th Street! Play six rounds of trivia with Brittany Lynn and win some BIG prizes including a “Weekend Warrior Package” that includes Woody’s and Voyeur passes and drink tickets-and more! Weekly starting at 8pm-10pm.
URL:https://phillydragmafia.com/event/big-gay-trivia-at-woodys/2030-06-06/
LOCATION:Woody’s\, 212 S. 13th St\, Phila\, PA\, 19107\, United States
CATEGORIES:Community Event,Drag Shows,Trivia Night
ATTACH;FMTTYPE=image/jpeg:https://phillydragmafia.com/wp-content/uploads/2026/03/unnamed.jpg
END:VEVENT
BEGIN:VEVENT
DTSTART;TZID=America/New_York:20300613T210000
DTEND;TZID=America/New_York:20300613T230000
DTSTAMP:20260420T195821
CREATED:20260312T172611Z
LAST-MODIFIED:20260407T215852Z
UID:10001621-1907614800-1907622000@phillydragmafia.com
SUMMARY:Big\, Gay Trivia at Woody's
DESCRIPTION:A really BIG\, GAY Trivia comes to the infamous Woody’s on 13th Street! Play six rounds of trivia with Brittany Lynn and win some BIG prizes including a “Weekend Warrior Package” that includes Woody’s and Voyeur passes and drink tickets-and more! Weekly starting at 8pm-10pm.
URL:https://phillydragmafia.com/event/big-gay-trivia-at-woodys/2030-06-13/
LOCATION:Woody’s\, 212 S. 13th St\, Phila\, PA\, 19107\, United States
CATEGORIES:Community Event,Drag Shows,Trivia Night
ATTACH;FMTTYPE=image/jpeg:https://phillydragmafia.com/wp-content/uploads/2026/03/unnamed.jpg
END:VEVENT
BEGIN:VEVENT
DTSTART;TZID=America/New_York:20300620T210000
DTEND;TZID=America/New_York:20300620T230000
DTSTAMP:20260420T195821
CREATED:20260312T172611Z
LAST-MODIFIED:20260407T215852Z
UID:10001622-1908219600-1908226800@phillydragmafia.com
SUMMARY:Big\, Gay Trivia at Woody's
DESCRIPTION:A really BIG\, GAY Trivia comes to the infamous Woody’s on 13th Street! Play six rounds of trivia with Brittany Lynn and win some BIG prizes including a “Weekend Warrior Package” that includes Woody’s and Voyeur passes and drink tickets-and more! Weekly starting at 8pm-10pm.
URL:https://phillydragmafia.com/event/big-gay-trivia-at-woodys/2030-06-20/
LOCATION:Woody’s\, 212 S. 13th St\, Phila\, PA\, 19107\, United States
CATEGORIES:Community Event,Drag Shows,Trivia Night
ATTACH;FMTTYPE=image/jpeg:https://phillydragmafia.com/wp-content/uploads/2026/03/unnamed.jpg
END:VEVENT
BEGIN:VEVENT
DTSTART;TZID=America/New_York:20300627T210000
DTEND;TZID=America/New_York:20300627T230000
DTSTAMP:20260420T195821
CREATED:20260312T172611Z
LAST-MODIFIED:20260407T215852Z
UID:10001623-1908824400-1908831600@phillydragmafia.com
SUMMARY:Big\, Gay Trivia at Woody's
DESCRIPTION:A really BIG\, GAY Trivia comes to the infamous Woody’s on 13th Street! Play six rounds of trivia with Brittany Lynn and win some BIG prizes including a “Weekend Warrior Package” that includes Woody’s and Voyeur passes and drink tickets-and more! Weekly starting at 8pm-10pm.
URL:https://phillydragmafia.com/event/big-gay-trivia-at-woodys/2030-06-27/
LOCATION:Woody’s\, 212 S. 13th St\, Phila\, PA\, 19107\, United States
CATEGORIES:Community Event,Drag Shows,Trivia Night
ATTACH;FMTTYPE=image/jpeg:https://phillydragmafia.com/wp-content/uploads/2026/03/unnamed.jpg
END:VEVENT
BEGIN:VEVENT
DTSTART;TZID=America/New_York:20300704T210000
DTEND;TZID=America/New_York:20300704T230000
DTSTAMP:20260420T195821
CREATED:20260312T172611Z
LAST-MODIFIED:20260407T215852Z
UID:10001624-1909429200-1909436400@phillydragmafia.com
SUMMARY:Big\, Gay Trivia at Woody's
DESCRIPTION:A really BIG\, GAY Trivia comes to the infamous Woody’s on 13th Street! Play six rounds of trivia with Brittany Lynn and win some BIG prizes including a “Weekend Warrior Package” that includes Woody’s and Voyeur passes and drink tickets-and more! Weekly starting at 8pm-10pm.
URL:https://phillydragmafia.com/event/big-gay-trivia-at-woodys/2030-07-04/
LOCATION:Woody’s\, 212 S. 13th St\, Phila\, PA\, 19107\, United States
CATEGORIES:Community Event,Drag Shows,Trivia Night
ATTACH;FMTTYPE=image/jpeg:https://phillydragmafia.com/wp-content/uploads/2026/03/unnamed.jpg
END:VEVENT
BEGIN:VEVENT
DTSTART;TZID=America/New_York:20300711T210000
DTEND;TZID=America/New_York:20300711T230000
DTSTAMP:20260420T195821
CREATED:20260312T172611Z
LAST-MODIFIED:20260407T215852Z
UID:10001625-1910034000-1910041200@phillydragmafia.com
SUMMARY:Big\, Gay Trivia at Woody's
DESCRIPTION:A really BIG\, GAY Trivia comes to the infamous Woody’s on 13th Street! Play six rounds of trivia with Brittany Lynn and win some BIG prizes including a “Weekend Warrior Package” that includes Woody’s and Voyeur passes and drink tickets-and more! Weekly starting at 8pm-10pm.
URL:https://phillydragmafia.com/event/big-gay-trivia-at-woodys/2030-07-11/
LOCATION:Woody’s\, 212 S. 13th St\, Phila\, PA\, 19107\, United States
CATEGORIES:Community Event,Drag Shows,Trivia Night
ATTACH;FMTTYPE=image/jpeg:https://phillydragmafia.com/wp-content/uploads/2026/03/unnamed.jpg
END:VEVENT
BEGIN:VEVENT
DTSTART;TZID=America/New_York:20300718T210000
DTEND;TZID=America/New_York:20300718T230000
DTSTAMP:20260420T195821
CREATED:20260312T172611Z
LAST-MODIFIED:20260407T215852Z
UID:10001626-1910638800-1910646000@phillydragmafia.com
SUMMARY:Big\, Gay Trivia at Woody's
DESCRIPTION:A really BIG\, GAY Trivia comes to the infamous Woody’s on 13th Street! Play six rounds of trivia with Brittany Lynn and win some BIG prizes including a “Weekend Warrior Package” that includes Woody’s and Voyeur passes and drink tickets-and more! Weekly starting at 8pm-10pm.
URL:https://phillydragmafia.com/event/big-gay-trivia-at-woodys/2030-07-18/
LOCATION:Woody’s\, 212 S. 13th St\, Phila\, PA\, 19107\, United States
CATEGORIES:Community Event,Drag Shows,Trivia Night
ATTACH;FMTTYPE=image/jpeg:https://phillydragmafia.com/wp-content/uploads/2026/03/unnamed.jpg
END:VEVENT
END:VCALENDAR