BEGIN:VCALENDAR
VERSION:2.0
PRODID:-//Philly Drag Mafia - ECPv6.15.20//NONSGML v1.0//EN
CALSCALE:GREGORIAN
METHOD:PUBLISH
X-ORIGINAL-URL:https://phillydragmafia.com
X-WR-CALDESC:Events for Philly Drag Mafia
REFRESH-INTERVAL;VALUE=DURATION:PT1H
X-Robots-Tag:noindex
X-PUBLISHED-TTL:PT1H
BEGIN:VTIMEZONE
TZID:America/New_York
BEGIN:DAYLIGHT
TZOFFSETFROM:-0500
TZOFFSETTO:-0400
TZNAME:EDT
DTSTART:20240310T070000
END:DAYLIGHT
BEGIN:STANDARD
TZOFFSETFROM:-0400
TZOFFSETTO:-0500
TZNAME:EST
DTSTART:20241103T060000
END:STANDARD
BEGIN:DAYLIGHT
TZOFFSETFROM:-0500
TZOFFSETTO:-0400
TZNAME:EDT
DTSTART:20250309T070000
END:DAYLIGHT
BEGIN:STANDARD
TZOFFSETFROM:-0400
TZOFFSETTO:-0500
TZNAME:EST
DTSTART:20251102T060000
END:STANDARD
BEGIN:DAYLIGHT
TZOFFSETFROM:-0500
TZOFFSETTO:-0400
TZNAME:EDT
DTSTART:20260308T070000
END:DAYLIGHT
BEGIN:STANDARD
TZOFFSETFROM:-0400
TZOFFSETTO:-0500
TZNAME:EST
DTSTART:20261101T060000
END:STANDARD
END:VTIMEZONE
BEGIN:VEVENT
DTSTART;TZID=America/New_York:20250510T110000
DTEND;TZID=America/New_York:20250510T140000
DTSTAMP:20260419T082358
CREATED:20250408T151418Z
LAST-MODIFIED:20250408T151418Z
UID:10000886-1746874800-1746885600@phillydragmafia.com
SUMMARY:Your Momma! Mother's Day Weekend Drag brunch at Byrdcage AC!
DESCRIPTION:Take your momma out to celebrate Mother’s Day with the dolls! \nGet ready for a fabulous morning filled with delicious food\, cocktails\, and jaw-dropping performances by the tri-state area’s most talented queens! Our drag brunch is the perfect Saturday Funday! Doors open at 11am\, shows start promptly at noon! \nHosted by Brittany Lynn\, former Miss’d America (2004)\, with performances by her Philly Drag Mafia – vocalist Billy Cavallo\, Miami Princess THAT QUEEN\, and NYC legend Harmonica Sunbeam! \nWinner Philadelphia Magazine’s Best of Philly 2022 AND 2023 – for BEST DRAG SHOWS AND DRAG BRUNCHES! \nTickets are General Admission – Our tables can be moved to accomodate any size group. If you purchase more than one ticket to seat a group\, just let us know and we will make sure to seat your entire party together. \n*Ticket purchase includes your seat and two fabulous shows. Brunch food and drinks are additional purchases the day of the event. \nBrittany and her Drag Mafia have been performing for over two decades — with shows at casinos\, restaurants\, and concert venues all over the tri-state area! \nDrag Mafia is the most award winning drag troupe around-not only for their shows\, but for their work with multiple charities on various platforms. Don’t miss out on this one hun-we are sure to please even the fussiest Queen in your crew!
URL:https://phillydragmafia.com/event/your-momma-mothers-day-weekend-drag-brunch-at-byrdcage-ac/
LOCATION:Byrdcage AC\, 3426 Atlantic Avenue\, Atlantic City\, NJ\, 08401\, United States
CATEGORIES:Community Event,Drag Brunch,Drag Shows
ATTACH;FMTTYPE=image/png:https://phillydragmafia.com/wp-content/uploads/2025/04/YOUR-MOMMA-2160-x-1080-px.png
END:VEVENT
BEGIN:VEVENT
DTSTART;TZID=America/New_York:20250329T110000
DTEND;TZID=America/New_York:20250329T150000
DTSTAMP:20260419T082358
CREATED:20250210T215926Z
LAST-MODIFIED:20250211T165743Z
UID:10000873-1743246000-1743260400@phillydragmafia.com
SUMMARY:Drag Brunch at Byrdcage
DESCRIPTION:Get ready for a fabulous morning filled with delicious food\, cocktails\, and jaw-dropping performances by the tri-state area’s most talented queens! Our drag brunch is the perfect Saturday Funday! Doors open at 11am\, shows start promptly at noon! \nHosted by Brittany Lynn\, former Miss’d America (2004)\, with performances by her Philly Drag Mafia – Winner Philadelphia Magazine’s Best of Philly 2022 AND 2023 – for BEST DRAG SHOWS AND DRAG BRUNCHES! \nTickets are General Admission – Our tables can be moved to accomodate any size group. If you purchase more than one ticket to seat a group\, just let us know and we will make sure to seat your entire party together. \n*Ticket purchase includes your seat and two fabulous shows. Brunch food and drinks are additional purchases the day of the event. \nBrittany and her Drag Mafia have been performing for over two decades — with shows at casinos\, restaurants\, and concert venues all over the tri-state area! \nDrag Mafia is the most award winning drag troupe around-not only for their shows\, but for their work with multiple charities on various platforms. Don’t miss out on this one hun-we are sure to please even the fussiest Queen in your crew!
URL:https://phillydragmafia.com/event/drag-brunch-at-byrdcage-3/
LOCATION:Byrdcage AC\, 3426 Atlantic Avenue\, Atlantic City\, NJ\, 08401\, United States
CATEGORIES:Community Event,Drag Brunch,Drag Shows
ATTACH;FMTTYPE=image/png:https://phillydragmafia.com/wp-content/uploads/2025/02/3-copy-2.png
END:VEVENT
BEGIN:VEVENT
DTSTART;TZID=America/New_York:20250315T110000
DTEND;TZID=America/New_York:20250315T150000
DTSTAMP:20260419T082358
CREATED:20250210T215733Z
LAST-MODIFIED:20250210T215733Z
UID:10000872-1742036400-1742050800@phillydragmafia.com
SUMMARY:Drag Brunch at Byrdcage
DESCRIPTION:Get ready for a fabulous morning filled with delicious food\, cocktails\, and jaw-dropping performances by the tri-state area’s most talented queens! Our drag brunch is the perfect Saturday Funday! Doors open at 11am\, shows start promptly at noon! \nHosted by Brittany Lynn\, former Miss’d America (2004)\, with performances by her Philly Drag Mafia – Winner Philadelphia Magazine’s Best of Philly 2022 AND 2023 – for BEST DRAG SHOWS AND DRAG BRUNCHES! \nTickets are General Admission – Our tables can be moved to accomodate any size group. If you purchase more than one ticket to seat a group\, just let us know and we will make sure to seat your entire party together. \n*Ticket purchase includes your seat and two fabulous shows. Brunch food and drinks are additional purchases the day of the event. \nBrittany and her Drag Mafia have been performing for over two decades — with shows at casinos\, restaurants\, and concert venues all over the tri-state area! \nDrag Mafia is the most award winning drag troupe around-not only for their shows\, but for their work with multiple charities on various platforms. Don’t miss out on this one hun-we are sure to please even the fussiest Queen in your crew!
URL:https://phillydragmafia.com/event/drag-brunch-at-byrdcage-2/
LOCATION:Byrdcage AC\, 3426 Atlantic Avenue\, Atlantic City\, NJ\, 08401\, United States
CATEGORIES:Community Event,Drag Brunch,Drag Shows
ATTACH;FMTTYPE=image/png:https://phillydragmafia.com/wp-content/uploads/2025/02/2.png
END:VEVENT
BEGIN:VEVENT
DTSTART;TZID=America/New_York:20250308T110000
DTEND;TZID=America/New_York:20250308T150000
DTSTAMP:20260419T082358
CREATED:20250210T215609Z
LAST-MODIFIED:20250210T215609Z
UID:10000871-1741431600-1741446000@phillydragmafia.com
SUMMARY:Drag Brunch at Byrdcage
DESCRIPTION:Get ready for a fabulous morning filled with delicious food\, cocktails\, and jaw-dropping performances by the tri-state area’s most talented queens! Our drag brunch is the perfect Saturday Funday! Doors open at 11am\, shows start promptly at noon! \nHosted by Brittany Lynn\, former Miss’d America (2004)\, with performances by her Philly Drag Mafia – Winner Philadelphia Magazine’s Best of Philly 2022 AND 2023 – for BEST DRAG SHOWS AND DRAG BRUNCHES! \nTickets are General Admission – Our tables can be moved to accomodate any size group. If you purchase more than one ticket to seat a group\, just let us know and we will make sure to seat your entire party together. \n*Ticket purchase includes your seat and two fabulous shows. Brunch food and drinks are additional purchases the day of the event. \nBrittany and her Drag Mafia have been performing for over two decades — with shows at casinos\, restaurants\, and concert venues all over the tri-state area! \nDrag Mafia is the most award winning drag troupe around-not only for their shows\, but for their work with multiple charities on various platforms. Don’t miss out on this one hun-we are sure to please even the fussiest Queen in your crew!
URL:https://phillydragmafia.com/event/drag-brunch-at-byrdcage/
LOCATION:Byrdcage AC\, 3426 Atlantic Avenue\, Atlantic City\, NJ\, 08401\, United States
CATEGORIES:Community Event,Drag Brunch,Drag Shows
ATTACH;FMTTYPE=image/png:https://phillydragmafia.com/wp-content/uploads/2025/02/1-copy.png
END:VEVENT
END:VCALENDAR