BEGIN:VCALENDAR
VERSION:2.0
PRODID:-//Philly Drag Mafia - ECPv6.15.20//NONSGML v1.0//EN
CALSCALE:GREGORIAN
METHOD:PUBLISH
X-ORIGINAL-URL:https://phillydragmafia.com
X-WR-CALDESC:Events for Philly Drag Mafia
REFRESH-INTERVAL;VALUE=DURATION:PT1H
X-Robots-Tag:noindex
X-PUBLISHED-TTL:PT1H
BEGIN:VTIMEZONE
TZID:America/New_York
BEGIN:DAYLIGHT
TZOFFSETFROM:-0500
TZOFFSETTO:-0400
TZNAME:EDT
DTSTART:20240310T070000
END:DAYLIGHT
BEGIN:STANDARD
TZOFFSETFROM:-0400
TZOFFSETTO:-0500
TZNAME:EST
DTSTART:20241103T060000
END:STANDARD
BEGIN:DAYLIGHT
TZOFFSETFROM:-0500
TZOFFSETTO:-0400
TZNAME:EDT
DTSTART:20250309T070000
END:DAYLIGHT
BEGIN:STANDARD
TZOFFSETFROM:-0400
TZOFFSETTO:-0500
TZNAME:EST
DTSTART:20251102T060000
END:STANDARD
BEGIN:DAYLIGHT
TZOFFSETFROM:-0500
TZOFFSETTO:-0400
TZNAME:EDT
DTSTART:20260308T070000
END:DAYLIGHT
BEGIN:STANDARD
TZOFFSETFROM:-0400
TZOFFSETTO:-0500
TZNAME:EST
DTSTART:20261101T060000
END:STANDARD
END:VTIMEZONE
BEGIN:VEVENT
DTSTART;TZID=America/New_York:20250605T170000
DTEND;TZID=America/New_York:20250605T190000
DTSTAMP:20260419T123142
CREATED:20250516T173843Z
LAST-MODIFIED:20250516T173856Z
UID:10000903-1749142800-1749150000@phillydragmafia.com
SUMMARY:Yappy Hour at Dilworth Park
DESCRIPTION:June 5 Yappy Hour Dilworth Park\nCelebrate Pride Month with your favorite pups at Yappy Hour! Join in for a fun-filled evening of live DJ entertainment\, a performance by Philly Drag Mafia\, themed food and beverages\, and so much more. Bring your furry friend to show off their best pride attire and sashay down the runway for a Ru PAWS dog race hosted by Brittany Lynn!                                                                                                                                                                                Free event\, all ages
URL:https://phillydragmafia.com/event/yappy-hour-at-dilworth-park/
LOCATION:Dilworth Park\, 1 S.15th St.\, Phila\, PA\, 19102\, United States
CATEGORIES:Community Event,Drag Shows
ATTACH;FMTTYPE=image/jpeg:https://phillydragmafia.com/wp-content/uploads/2025/05/IMG_4458-1-scaled.jpg
END:VEVENT
END:VCALENDAR