BEGIN:VCALENDAR
VERSION:2.0
PRODID:-//Philly Drag Mafia - ECPv6.15.20//NONSGML v1.0//EN
CALSCALE:GREGORIAN
METHOD:PUBLISH
X-ORIGINAL-URL:https://phillydragmafia.com
X-WR-CALDESC:Events for Philly Drag Mafia
REFRESH-INTERVAL;VALUE=DURATION:PT1H
X-Robots-Tag:noindex
X-PUBLISHED-TTL:PT1H
BEGIN:VTIMEZONE
TZID:America/New_York
BEGIN:DAYLIGHT
TZOFFSETFROM:-0500
TZOFFSETTO:-0400
TZNAME:EDT
DTSTART:20230312T070000
END:DAYLIGHT
BEGIN:STANDARD
TZOFFSETFROM:-0400
TZOFFSETTO:-0500
TZNAME:EST
DTSTART:20231105T060000
END:STANDARD
BEGIN:DAYLIGHT
TZOFFSETFROM:-0500
TZOFFSETTO:-0400
TZNAME:EDT
DTSTART:20240310T070000
END:DAYLIGHT
BEGIN:STANDARD
TZOFFSETFROM:-0400
TZOFFSETTO:-0500
TZNAME:EST
DTSTART:20241103T060000
END:STANDARD
BEGIN:DAYLIGHT
TZOFFSETFROM:-0500
TZOFFSETTO:-0400
TZNAME:EDT
DTSTART:20250309T070000
END:DAYLIGHT
BEGIN:STANDARD
TZOFFSETFROM:-0400
TZOFFSETTO:-0500
TZNAME:EST
DTSTART:20251102T060000
END:STANDARD
END:VTIMEZONE
BEGIN:VEVENT
DTSTART;TZID=America/New_York:20240322T173000
DTEND;TZID=America/New_York:20240322T210000
DTSTAMP:20260419T151437
CREATED:20240205T123043Z
LAST-MODIFIED:20240205T123043Z
UID:10000590-1711128600-1711141200@phillydragmafia.com
SUMMARY:Bingo for the PAWS
DESCRIPTION:Your ticket donation includes 1 booklet of 10 games (one sheet for each round).\nProceeds benefit Paws Healing Heroes\nAdditional sheets\, bonus games and 50/50 tickets will be available for purchase!\nCash bar upstairs (all drinks must be enjoyed in the bar area).\nBingo for the Paws is hosted by Brittany Lynn\nPerformances by Brittany Lynn and the Drag Mafia.\nMust be 18 to attend\nDoors open @ 5:30pm\nGames start @ 7pm\nBingo dabbers are available for $2.00 each.
URL:https://phillydragmafia.com/event/bingo-for-the-paws/
LOCATION:Glassboro VFW\, 275 Wilmer St\, Glassboro\, 08028\, United States
CATEGORIES:Drag Bingo,Drag Shows
ATTACH;FMTTYPE=image/jpeg:https://phillydragmafia.com/wp-content/uploads/2024/02/unnamed.jpg
END:VEVENT
END:VCALENDAR