BEGIN:VCALENDAR
VERSION:2.0
PRODID:-//Philly Drag Mafia - ECPv6.15.20//NONSGML v1.0//EN
CALSCALE:GREGORIAN
METHOD:PUBLISH
X-WR-CALNAME:Philly Drag Mafia
X-ORIGINAL-URL:https://phillydragmafia.com
X-WR-CALDESC:Events for Philly Drag Mafia
REFRESH-INTERVAL;VALUE=DURATION:PT1H
X-Robots-Tag:noindex
X-PUBLISHED-TTL:PT1H
BEGIN:VTIMEZONE
TZID:America/New_York
BEGIN:DAYLIGHT
TZOFFSETFROM:-0500
TZOFFSETTO:-0400
TZNAME:EDT
DTSTART:20240310T070000
END:DAYLIGHT
BEGIN:STANDARD
TZOFFSETFROM:-0400
TZOFFSETTO:-0500
TZNAME:EST
DTSTART:20241103T060000
END:STANDARD
BEGIN:DAYLIGHT
TZOFFSETFROM:-0500
TZOFFSETTO:-0400
TZNAME:EDT
DTSTART:20250309T070000
END:DAYLIGHT
BEGIN:STANDARD
TZOFFSETFROM:-0400
TZOFFSETTO:-0500
TZNAME:EST
DTSTART:20251102T060000
END:STANDARD
BEGIN:DAYLIGHT
TZOFFSETFROM:-0500
TZOFFSETTO:-0400
TZNAME:EDT
DTSTART:20260308T070000
END:DAYLIGHT
BEGIN:STANDARD
TZOFFSETFROM:-0400
TZOFFSETTO:-0500
TZNAME:EST
DTSTART:20261101T060000
END:STANDARD
END:VTIMEZONE
BEGIN:VEVENT
DTSTART;TZID=America/New_York:20250426T110000
DTEND;TZID=America/New_York:20250426T140000
DTSTAMP:20260419T161619
CREATED:20250310T003752Z
LAST-MODIFIED:20250310T003752Z
UID:10000881-1745665200-1745676000@phillydragmafia.com
SUMMARY:Drag Brunch at Keg & Kitchen
DESCRIPTION:Drag brunch is coming to HADDON\, NJ! \nGet ready for a fabulous morning filled with delicious food\, cocktails\, and jaw-dropping performances by the two-state area’s most talented queens! This brunch show is the perfect way to start your weekend! \nHosted by Brittany Lynn\, with performances by her Philly Drag Mafia – Winner Philadelphia Magazine’s Best of Philly 2022 AND 2023 – for BEST DRAG SHOWS AND DRAG BRUNCHES! \nDoors open at 11 AM and the show kicks off at 12 PM. \n*Ticket purchase includes your seat and two spectacular shows. Brunch food and drinks are additional purchases the day of the event. \nAbout Drag Mafia: \nBrittany and her Drag Mafia have been performing for over two decades — with shows at casinos\, restaurants\, and concert venues all over the tri-state area! \nDrag Mafia is the most award winning drag troupe around-not only for their shows\, but for their work with multiple charities on various platforms. Don’t miss out on this one hun-we are sure to please even the fussiest Queen in your crew!
URL:https://phillydragmafia.com/event/drag-brunch-at-keg-kitchen/
LOCATION:Keg & Kitchen\, 90 Haddon Avenue\, Haddon Township\, NJ\, 08108\, United States
CATEGORIES:Community Event,Drag Brunch,Drag Shows
ATTACH;FMTTYPE=image/png:https://phillydragmafia.com/wp-content/uploads/2025/03/Drag-8.5-x-11-in.png
END:VEVENT
END:VCALENDAR