BEGIN:VCALENDAR
VERSION:2.0
PRODID:-//Philly Drag Mafia - ECPv6.15.20//NONSGML v1.0//EN
CALSCALE:GREGORIAN
METHOD:PUBLISH
X-ORIGINAL-URL:https://phillydragmafia.com
X-WR-CALDESC:Events for Philly Drag Mafia
REFRESH-INTERVAL;VALUE=DURATION:PT1H
X-Robots-Tag:noindex
X-PUBLISHED-TTL:PT1H
BEGIN:VTIMEZONE
TZID:America/New_York
BEGIN:DAYLIGHT
TZOFFSETFROM:-0500
TZOFFSETTO:-0400
TZNAME:EDT
DTSTART:20220313T070000
END:DAYLIGHT
BEGIN:STANDARD
TZOFFSETFROM:-0400
TZOFFSETTO:-0500
TZNAME:EST
DTSTART:20221106T060000
END:STANDARD
BEGIN:DAYLIGHT
TZOFFSETFROM:-0500
TZOFFSETTO:-0400
TZNAME:EDT
DTSTART:20230312T070000
END:DAYLIGHT
BEGIN:STANDARD
TZOFFSETFROM:-0400
TZOFFSETTO:-0500
TZNAME:EST
DTSTART:20231105T060000
END:STANDARD
BEGIN:DAYLIGHT
TZOFFSETFROM:-0500
TZOFFSETTO:-0400
TZNAME:EDT
DTSTART:20240310T070000
END:DAYLIGHT
BEGIN:STANDARD
TZOFFSETFROM:-0400
TZOFFSETTO:-0500
TZNAME:EST
DTSTART:20241103T060000
END:STANDARD
BEGIN:DAYLIGHT
TZOFFSETFROM:-0500
TZOFFSETTO:-0400
TZNAME:EDT
DTSTART:20250309T070000
END:DAYLIGHT
BEGIN:STANDARD
TZOFFSETFROM:-0400
TZOFFSETTO:-0500
TZNAME:EST
DTSTART:20251102T060000
END:STANDARD
END:VTIMEZONE
BEGIN:VEVENT
DTSTART;TZID=America/New_York:20240221T200000
DTEND;TZID=America/New_York:20240221T230000
DTSTAMP:20260419T171507
CREATED:20240103T181808Z
LAST-MODIFIED:20240103T181808Z
UID:10000325-1708545600-1708556400@phillydragmafia.com
SUMMARY:Karaoke with the Queens at La Roca
DESCRIPTION:Sing your hearts out every Wednesday night at La Roca in beautiful Manayunk-starting at 8pm! Hosted by Dominique Lee and Mya Diction! Free event!
URL:https://phillydragmafia.com/event/karaoke-with-the-queens-at-la-roca/2024-02-21/
LOCATION:La Roca\, 4161 Main St\, Phila\, PA\, 19127\, United States
CATEGORIES:Drag Shows
ATTACH;FMTTYPE=image/png:https://phillydragmafia.com/wp-content/uploads/2024/01/every-wednesday-4.png
END:VEVENT
BEGIN:VEVENT
DTSTART;TZID=America/New_York:20240214T200000
DTEND;TZID=America/New_York:20240214T230000
DTSTAMP:20260419T171507
CREATED:20240103T181808Z
LAST-MODIFIED:20240103T181808Z
UID:10000324-1707940800-1707951600@phillydragmafia.com
SUMMARY:Karaoke with the Queens at La Roca
DESCRIPTION:Sing your hearts out every Wednesday night at La Roca in beautiful Manayunk-starting at 8pm! Hosted by Dominique Lee and Mya Diction! Free event!
URL:https://phillydragmafia.com/event/karaoke-with-the-queens-at-la-roca/2024-02-14/
LOCATION:La Roca\, 4161 Main St\, Phila\, PA\, 19127\, United States
CATEGORIES:Drag Shows
ATTACH;FMTTYPE=image/png:https://phillydragmafia.com/wp-content/uploads/2024/01/every-wednesday-4.png
END:VEVENT
BEGIN:VEVENT
DTSTART;TZID=America/New_York:20240207T200000
DTEND;TZID=America/New_York:20240207T230000
DTSTAMP:20260419T171507
CREATED:20240103T181808Z
LAST-MODIFIED:20240103T181808Z
UID:10000323-1707336000-1707346800@phillydragmafia.com
SUMMARY:Karaoke with the Queens at La Roca
DESCRIPTION:Sing your hearts out every Wednesday night at La Roca in beautiful Manayunk-starting at 8pm! Hosted by Dominique Lee and Mya Diction! Free event!
URL:https://phillydragmafia.com/event/karaoke-with-the-queens-at-la-roca/2024-02-07/
LOCATION:La Roca\, 4161 Main St\, Phila\, PA\, 19127\, United States
CATEGORIES:Drag Shows
ATTACH;FMTTYPE=image/png:https://phillydragmafia.com/wp-content/uploads/2024/01/every-wednesday-4.png
END:VEVENT
BEGIN:VEVENT
DTSTART;TZID=America/New_York:20240131T200000
DTEND;TZID=America/New_York:20240131T230000
DTSTAMP:20260419T171507
CREATED:20240103T181808Z
LAST-MODIFIED:20240103T181808Z
UID:10000322-1706731200-1706742000@phillydragmafia.com
SUMMARY:Karaoke with the Queens at La Roca
DESCRIPTION:Sing your hearts out every Wednesday night at La Roca in beautiful Manayunk-starting at 8pm! Hosted by Dominique Lee and Mya Diction! Free event!
URL:https://phillydragmafia.com/event/karaoke-with-the-queens-at-la-roca/2024-01-31/
LOCATION:La Roca\, 4161 Main St\, Phila\, PA\, 19127\, United States
CATEGORIES:Drag Shows
ATTACH;FMTTYPE=image/png:https://phillydragmafia.com/wp-content/uploads/2024/01/every-wednesday-4.png
END:VEVENT
BEGIN:VEVENT
DTSTART;TZID=America/New_York:20240124T200000
DTEND;TZID=America/New_York:20240124T230000
DTSTAMP:20260419T171507
CREATED:20240103T181808Z
LAST-MODIFIED:20240103T181808Z
UID:10000321-1706126400-1706137200@phillydragmafia.com
SUMMARY:Karaoke with the Queens at La Roca
DESCRIPTION:Sing your hearts out every Wednesday night at La Roca in beautiful Manayunk-starting at 8pm! Hosted by Dominique Lee and Mya Diction! Free event!
URL:https://phillydragmafia.com/event/karaoke-with-the-queens-at-la-roca/2024-01-24/
LOCATION:La Roca\, 4161 Main St\, Phila\, PA\, 19127\, United States
CATEGORIES:Drag Shows
ATTACH;FMTTYPE=image/png:https://phillydragmafia.com/wp-content/uploads/2024/01/every-wednesday-4.png
END:VEVENT
BEGIN:VEVENT
DTSTART;TZID=America/New_York:20240117T200000
DTEND;TZID=America/New_York:20240117T230000
DTSTAMP:20260419T171508
CREATED:20240103T181808Z
LAST-MODIFIED:20240103T181808Z
UID:10000320-1705521600-1705532400@phillydragmafia.com
SUMMARY:Karaoke with the Queens at La Roca
DESCRIPTION:Sing your hearts out every Wednesday night at La Roca in beautiful Manayunk-starting at 8pm! Hosted by Dominique Lee and Mya Diction! Free event!
URL:https://phillydragmafia.com/event/karaoke-with-the-queens-at-la-roca/2024-01-17/
LOCATION:La Roca\, 4161 Main St\, Phila\, PA\, 19127\, United States
CATEGORIES:Drag Shows
ATTACH;FMTTYPE=image/png:https://phillydragmafia.com/wp-content/uploads/2024/01/every-wednesday-4.png
END:VEVENT
BEGIN:VEVENT
DTSTART;TZID=America/New_York:20240110T200000
DTEND;TZID=America/New_York:20240110T230000
DTSTAMP:20260419T171508
CREATED:20240103T181808Z
LAST-MODIFIED:20240103T181808Z
UID:10000319-1704916800-1704927600@phillydragmafia.com
SUMMARY:Karaoke with the Queens at La Roca
DESCRIPTION:Sing your hearts out every Wednesday night at La Roca in beautiful Manayunk-starting at 8pm! Hosted by Dominique Lee and Mya Diction! Free event!
URL:https://phillydragmafia.com/event/karaoke-with-the-queens-at-la-roca/2024-01-10/
LOCATION:La Roca\, 4161 Main St\, Phila\, PA\, 19127\, United States
CATEGORIES:Drag Shows
ATTACH;FMTTYPE=image/png:https://phillydragmafia.com/wp-content/uploads/2024/01/every-wednesday-4.png
END:VEVENT
BEGIN:VEVENT
DTSTART;TZID=America/New_York:20240103T200000
DTEND;TZID=America/New_York:20240103T230000
DTSTAMP:20260419T171508
CREATED:20240103T181808Z
LAST-MODIFIED:20240103T181808Z
UID:10000318-1704312000-1704322800@phillydragmafia.com
SUMMARY:Karaoke with the Queens at La Roca
DESCRIPTION:Sing your hearts out every Wednesday night at La Roca in beautiful Manayunk-starting at 8pm! Hosted by Dominique Lee and Mya Diction! Free event!
URL:https://phillydragmafia.com/event/karaoke-with-the-queens-at-la-roca/2024-01-03/
LOCATION:La Roca\, 4161 Main St\, Phila\, PA\, 19127\, United States
CATEGORIES:Drag Shows
ATTACH;FMTTYPE=image/png:https://phillydragmafia.com/wp-content/uploads/2024/01/every-wednesday-4.png
END:VEVENT
BEGIN:VEVENT
DTSTART;TZID=America/New_York:20230930T200000
DTEND;TZID=America/New_York:20230930T230000
DTSTAMP:20260419T171508
CREATED:20230910T160120Z
LAST-MODIFIED:20230910T160120Z
UID:10000282-1696104000-1696114800@phillydragmafia.com
SUMMARY:Trivia and Karaoke at La Roca
DESCRIPTION:Trivia with Dominique Lee and Demi Gawdess-followed by Karaoke!
URL:https://phillydragmafia.com/event/trivia-and-karaoke-at-la-roca/
LOCATION:La Roca\, 4161 Main St\, Phila\, PA\, 19127\, United States
CATEGORIES:Drag Shows
ATTACH;FMTTYPE=image/jpeg:https://phillydragmafia.com/wp-content/uploads/2023/09/download.jpg
END:VEVENT
END:VCALENDAR