BEGIN:VCALENDAR
VERSION:2.0
PRODID:-//Philly Drag Mafia - ECPv6.15.20//NONSGML v1.0//EN
CALSCALE:GREGORIAN
METHOD:PUBLISH
X-ORIGINAL-URL:https://phillydragmafia.com
X-WR-CALDESC:Events for Philly Drag Mafia
REFRESH-INTERVAL;VALUE=DURATION:PT1H
X-Robots-Tag:noindex
X-PUBLISHED-TTL:PT1H
BEGIN:VTIMEZONE
TZID:America/New_York
BEGIN:DAYLIGHT
TZOFFSETFROM:-0500
TZOFFSETTO:-0400
TZNAME:EDT
DTSTART:20220313T070000
END:DAYLIGHT
BEGIN:STANDARD
TZOFFSETFROM:-0400
TZOFFSETTO:-0500
TZNAME:EST
DTSTART:20221106T060000
END:STANDARD
BEGIN:DAYLIGHT
TZOFFSETFROM:-0500
TZOFFSETTO:-0400
TZNAME:EDT
DTSTART:20230312T070000
END:DAYLIGHT
BEGIN:STANDARD
TZOFFSETFROM:-0400
TZOFFSETTO:-0500
TZNAME:EST
DTSTART:20231105T060000
END:STANDARD
BEGIN:DAYLIGHT
TZOFFSETFROM:-0500
TZOFFSETTO:-0400
TZNAME:EDT
DTSTART:20240310T070000
END:DAYLIGHT
BEGIN:STANDARD
TZOFFSETFROM:-0400
TZOFFSETTO:-0500
TZNAME:EST
DTSTART:20241103T060000
END:STANDARD
END:VTIMEZONE
BEGIN:VEVENT
DTSTART;TZID=America/New_York:20230928T190000
DTEND;TZID=America/New_York:20230928T230000
DTSTAMP:20260420T015932
CREATED:20230908T222800Z
LAST-MODIFIED:20230908T223013Z
UID:10000016-1695927600-1695942000@phillydragmafia.com
SUMMARY:Cabaret at Manayunk Brewery!
DESCRIPTION:Thursday\, September 28th\, 2023 \nDoors Open @ 7:00pm  \nShow @ 8:00pm  \nTicket Cost – $25.00 \nIncludes Show + One Drink Ticket\nFood Available for Purchase  \nAbout The Show \nBrittany Lynn and her drag troupe\, the Philly Drag Mafia\, have been performing at casinos\, restaurants\, and concert venues all over the tri-state area for over 25 years! Brittany Lynn is not only the “Don” of the Philly Drag Mafia\, but she also created the Miss Fancy Brigade (the only all LGBTQIA Mummers Brigade that proudly marches every New Year’s Day in the parade)\, and she created the Drag Queen Story Time program for the Philadelphia Library system\, museums\, and Philadelphia Parks and Rec. \nDrag Mafia is the most award-winning drag troupe around — not only for their shows\, but for their work with multiple charities on various platforms. So come on OUT and play with us! Winner Philadelphia Magazine’s Best of Philly 2022 & 2023 for BEST DRAG SHOWS and BEST DRAG BRUNCHES! \nThis is an all live singing Cabaret! \nWebsite: www.phillydragmafia.com\nInstagram: @BrittanyLynnsIG @Phillydragbrunch
URL:https://phillydragmafia.com/event/cabaret-at-manayunk-brewery/
LOCATION:Manayunk Brewery\, 4120 Main St\, Phila\, 19127\, United States
CATEGORIES:Drag Shows
ATTACH;FMTTYPE=image/png:https://phillydragmafia.com/wp-content/uploads/2023/09/large.png
END:VEVENT
END:VCALENDAR