BEGIN:VCALENDAR
VERSION:2.0
PRODID:-//Philly Drag Mafia - ECPv6.15.20//NONSGML v1.0//EN
CALSCALE:GREGORIAN
METHOD:PUBLISH
X-WR-CALNAME:Philly Drag Mafia
X-ORIGINAL-URL:https://phillydragmafia.com
X-WR-CALDESC:Events for Philly Drag Mafia
REFRESH-INTERVAL;VALUE=DURATION:PT1H
X-Robots-Tag:noindex
X-PUBLISHED-TTL:PT1H
BEGIN:VTIMEZONE
TZID:America/New_York
BEGIN:DAYLIGHT
TZOFFSETFROM:-0500
TZOFFSETTO:-0400
TZNAME:EDT
DTSTART:20220313T070000
END:DAYLIGHT
BEGIN:STANDARD
TZOFFSETFROM:-0400
TZOFFSETTO:-0500
TZNAME:EST
DTSTART:20221106T060000
END:STANDARD
BEGIN:DAYLIGHT
TZOFFSETFROM:-0500
TZOFFSETTO:-0400
TZNAME:EDT
DTSTART:20230312T070000
END:DAYLIGHT
BEGIN:STANDARD
TZOFFSETFROM:-0400
TZOFFSETTO:-0500
TZNAME:EST
DTSTART:20231105T060000
END:STANDARD
BEGIN:DAYLIGHT
TZOFFSETFROM:-0500
TZOFFSETTO:-0400
TZNAME:EDT
DTSTART:20240310T070000
END:DAYLIGHT
BEGIN:STANDARD
TZOFFSETFROM:-0400
TZOFFSETTO:-0500
TZNAME:EST
DTSTART:20241103T060000
END:STANDARD
END:VTIMEZONE
BEGIN:VEVENT
DTSTART;TZID=America/New_York:20230908T080000
DTEND;TZID=America/New_York:20230908T170000
DTSTAMP:20260420T013423
CREATED:20230908T220843Z
LAST-MODIFIED:20230908T221141Z
UID:10000014-1694160000-1694192400@phillydragmafia.com
SUMMARY:Halloween Drag Brunch at Santuccis Philly
DESCRIPTION:J﻿oin us at Santucci’s North Broad for a Halloween Drag Brunch Featuring Brittany Lynn and the Drag Mafia (Philadelphia Magazine’s Best of Philly 2023 for Best Drag Shows) \nT﻿ickets start at $25 \nCOSTUMES RECOMMENDED! \n$﻿30 Option for 2 Hour Bloodys and Mimosas \no﻿r \n$12 Espresso Martinis\, $10 Wig-Flip\, $﻿7 House Mimosas\, Bloodys (Mary & Maria)\, $6 House Margaritas\, and $5 Stateside or Surfside \nDoors open at 11am | First set starts at 12PM | Second set at 1PM \nEnd Brunch with Pictures with your favorite QUEENS! \n*﻿Single Seats and Tables of Two and Four are available for purchase\, however we will work to accommodate all party sizes* \nA﻿ll guests are subject to ID prior to entry
URL:https://phillydragmafia.com/event/halloween-drag-brunch-at-santuccis-philly/
LOCATION:Santucci’s\, 655 North Broad Street\, Phila\, Pennsylvania\, 19123
CATEGORIES:Drag Brunch,Drag Shows
ATTACH;FMTTYPE=image/jpeg:https://phillydragmafia.com/wp-content/uploads/2023/09/IMG-4222.jpg
END:VEVENT
END:VCALENDAR