BEGIN:VCALENDAR
VERSION:2.0
PRODID:-//Philly Drag Mafia - ECPv6.15.20//NONSGML v1.0//EN
CALSCALE:GREGORIAN
METHOD:PUBLISH
X-ORIGINAL-URL:https://phillydragmafia.com
X-WR-CALDESC:Events for Philly Drag Mafia
REFRESH-INTERVAL;VALUE=DURATION:PT1H
X-Robots-Tag:noindex
X-PUBLISHED-TTL:PT1H
BEGIN:VTIMEZONE
TZID:America/New_York
BEGIN:DAYLIGHT
TZOFFSETFROM:-0500
TZOFFSETTO:-0400
TZNAME:EDT
DTSTART:20240310T070000
END:DAYLIGHT
BEGIN:STANDARD
TZOFFSETFROM:-0400
TZOFFSETTO:-0500
TZNAME:EST
DTSTART:20241103T060000
END:STANDARD
BEGIN:DAYLIGHT
TZOFFSETFROM:-0500
TZOFFSETTO:-0400
TZNAME:EDT
DTSTART:20250309T070000
END:DAYLIGHT
BEGIN:STANDARD
TZOFFSETFROM:-0400
TZOFFSETTO:-0500
TZNAME:EST
DTSTART:20251102T060000
END:STANDARD
BEGIN:DAYLIGHT
TZOFFSETFROM:-0500
TZOFFSETTO:-0400
TZNAME:EDT
DTSTART:20260308T070000
END:DAYLIGHT
BEGIN:STANDARD
TZOFFSETFROM:-0400
TZOFFSETTO:-0500
TZNAME:EST
DTSTART:20261101T060000
END:STANDARD
END:VTIMEZONE
BEGIN:VEVENT
DTSTART;TZID=America/New_York:20250327T173000
DTEND;TZID=America/New_York:20250327T210000
DTSTAMP:20260419T151319
CREATED:20250215T012209Z
LAST-MODIFIED:20250215T012209Z
UID:10000874-1743096600-1743109200@phillydragmafia.com
SUMMARY:Donors Are Heroes Drag Bingo at Union Trust
DESCRIPTION:Join Donors Are Heroes in support of Gift of Life Donor Program on Thursday\, March 27\, 2025 for a truly FUN-FILLED evening of FOOD\, DRINK\, ENTERTAINMENT and LAUGHTER! \n*No ticket sales at the door
URL:https://phillydragmafia.com/event/donors-are-heroes-drag-bingo-at-union-trust/
LOCATION:Union Trust\, 717 Chestnut St.\, Phila\, PA\, United States
CATEGORIES:Community Event,Drag Bingo,Drag Shows
ATTACH;FMTTYPE=image/jpeg:https://phillydragmafia.com/wp-content/uploads/2023/09/IMG-5603-scaled.jpg
END:VEVENT
END:VCALENDAR