BEGIN:VCALENDAR
VERSION:2.0
PRODID:-//Philly Drag Mafia - ECPv6.15.20//NONSGML v1.0//EN
CALSCALE:GREGORIAN
METHOD:PUBLISH
X-ORIGINAL-URL:https://phillydragmafia.com
X-WR-CALDESC:Events for Philly Drag Mafia
REFRESH-INTERVAL;VALUE=DURATION:PT1H
X-Robots-Tag:noindex
X-PUBLISHED-TTL:PT1H
BEGIN:VTIMEZONE
TZID:America/New_York
BEGIN:DAYLIGHT
TZOFFSETFROM:-0500
TZOFFSETTO:-0400
TZNAME:EDT
DTSTART:20230312T070000
END:DAYLIGHT
BEGIN:STANDARD
TZOFFSETFROM:-0400
TZOFFSETTO:-0500
TZNAME:EST
DTSTART:20231105T060000
END:STANDARD
BEGIN:DAYLIGHT
TZOFFSETFROM:-0500
TZOFFSETTO:-0400
TZNAME:EDT
DTSTART:20240310T070000
END:DAYLIGHT
BEGIN:STANDARD
TZOFFSETFROM:-0400
TZOFFSETTO:-0500
TZNAME:EST
DTSTART:20241103T060000
END:STANDARD
BEGIN:DAYLIGHT
TZOFFSETFROM:-0500
TZOFFSETTO:-0400
TZNAME:EDT
DTSTART:20250309T070000
END:DAYLIGHT
BEGIN:STANDARD
TZOFFSETFROM:-0400
TZOFFSETTO:-0500
TZNAME:EST
DTSTART:20251102T060000
END:STANDARD
END:VTIMEZONE
BEGIN:VEVENT
DTSTART;TZID=America/New_York:20240410T180000
DTEND;TZID=America/New_York:20240410T210000
DTSTAMP:20260419T133415
CREATED:20240205T124048Z
LAST-MODIFIED:20240205T124059Z
UID:10000592-1712772000-1712782800@phillydragmafia.com
SUMMARY:Pixie Dust Wishes Drag Bingo - SOLD OUT!
DESCRIPTION:Pixie Dust Wishes Drag Bingo in Memory of Dylan Singer \nJoin us for a fabulous evening of Drag Bingo for the Pixie Dust Wishes Festival of Wishes in memory of Dylan Singer!  \nCome and celebrate Dylan’s life while enjoying a night filled with laughter\, excitement\, and creating unforgettable memories. This event hosted by Philadelphia Drag Queen Mafia promises to be an absolute blast!\nThis also serves as a “2 for 1” feel good event since part of the proceeds will also benefit our US veterans. \nDate: Wednesday\, April 10\, 2024 \nTime: 6:00 PM (Eastern Daylight Time) \nLocation: Willow Grove VFW – 305 West Moreland Road – Willow Grove\, PA – 19090 \nPrice: $50\n* Tickets will include dinner\, wine\, beer and a complimentary raffle ticket.  \nTo date raffles include:\n– TWO fully paid golf outings for four\n– A Zahav restaurant gift package that includes dinner at Zahav and Chef Michael Solomonov’s cookbook plus some additional surprises.\n– A magnificent piece of jewelry from ROSNOV Jewelers \nCome play BINGO and see the many more additional and fabulous raffles \nThis event has the bonus of being a double “feel good” event. Not only will your donation support Pixie Dust Wishes (pixiedustwishes.org)\, but a portion of the proceeds will also go to the VFW in support of our U.S. veterans. \nPixie Dust Wishes is a 501(c)3 non-profit organization founded by Jaimie Miller.  \nTheir mission is to grant Disney World trip wishes to individuals with disabilities/special needs throughout all of Pennsylvania. It costs thousands of dollars to send a family to Disney. With your help we have raised over $200\,000. To date and in only 6 short years since its creation\, Pixie Dust Wishes has granted Disney trip wishes to over 21 families.  \nGet ready to be entertained by talented drag performers who will host an evening of bingo like no other. Expect HILARIOUS banter\, and incredible prizes and simply just a “feel good” event. \nMark your calendars and get ready for an unforgettable night at the Pixie Dust Wishes Festival of Wishes in Memory of Dylan Singer Drag Bingo!\nIf you are unable to attend\, I would be grateful if you would click on the DONATI0N link and consider making a donation so we can continue to bring joy into the lives of others.\nXO\nCindy
URL:https://phillydragmafia.com/event/pixie-dfust-wishes-drag-bingo-sold-out/
LOCATION:Willow Grove VFW\, 305 West Moreland Road\, Willow Grove\, PA\, 19090\, United States
CATEGORIES:Drag Bingo,Drag Shows
ATTACH;FMTTYPE=image/jpeg:https://phillydragmafia.com/wp-content/uploads/2024/02/genericImage-websiteLogo-217273-1696443131.5944-0.bLhAR7_.jpg
END:VEVENT
END:VCALENDAR